BEGIN:VCALENDAR
VERSION:2.0
PRODID:-//City of Tukwila - ECPv6.15.20//NONSGML v1.0//EN
CALSCALE:GREGORIAN
METHOD:PUBLISH
X-ORIGINAL-URL:https://www.tukwilawa.gov
X-WR-CALDESC:Events for City of Tukwila
REFRESH-INTERVAL;VALUE=DURATION:PT1H
X-Robots-Tag:noindex
X-PUBLISHED-TTL:PT1H
BEGIN:VTIMEZONE
TZID:America/Los_Angeles
BEGIN:DAYLIGHT
TZOFFSETFROM:-0800
TZOFFSETTO:-0700
TZNAME:PDT
DTSTART:20230312T100000
END:DAYLIGHT
BEGIN:STANDARD
TZOFFSETFROM:-0700
TZOFFSETTO:-0800
TZNAME:PST
DTSTART:20231105T090000
END:STANDARD
BEGIN:DAYLIGHT
TZOFFSETFROM:-0800
TZOFFSETTO:-0700
TZNAME:PDT
DTSTART:20240310T100000
END:DAYLIGHT
BEGIN:STANDARD
TZOFFSETFROM:-0700
TZOFFSETTO:-0800
TZNAME:PST
DTSTART:20241103T090000
END:STANDARD
BEGIN:DAYLIGHT
TZOFFSETFROM:-0800
TZOFFSETTO:-0700
TZNAME:PDT
DTSTART:20250309T100000
END:DAYLIGHT
BEGIN:STANDARD
TZOFFSETFROM:-0700
TZOFFSETTO:-0800
TZNAME:PST
DTSTART:20251102T090000
END:STANDARD
END:VTIMEZONE
BEGIN:VEVENT
DTSTART;TZID=America/Los_Angeles:20240108T190000
DTEND;TZID=America/Los_Angeles:20240108T220000
DTSTAMP:20260425T141717
CREATED:20231212T204349Z
LAST-MODIFIED:20240119T190727Z
UID:10008164-1704740400-1704751200@www.tukwilawa.gov
SUMMARY:City Council Special Meeting
DESCRIPTION:The meeting will be conducted BOTH on-site at Tukwila City Hall and also virtually.   \nTHE PHONE NUMBER FOR THE PUBLIC TO PARTICIPATE IN THE MEETING IS:      \n1-253-292-9750\,  Access Code 670077847# \nTo view the meeting\, join at this link:     Join Microsoft Teams Meeting \nFor Technical Support during the meeting call:  1-206-433-7155. \n  \nThose wishing to provide public comments have the ability to address the City Council both on-site at City Hall or via phone or Microsoft Teams for up to 5 minutes for items both on and not on the agenda.  To provide comment via phone or Microsoft Teams\, please email citycouncil@tukwilawa.gov with your name and topic by 5:00 p.m. on the meeting date. Please clearly indicate that you would like to make public comment during the meeting\, and you will receive further instructions.\n \nSee link for agenda packets:      http://records.tukwilawa.gov/WebLink8/1/fol/6806/Row1.aspx \n  \n\n  \nSIGN UP TO RECEIVE LINKS TO COUNCIL\, COMMITTEE\, BOARDS & COMMISSION PACKETS ON FRIDAYS:   https://www.tukwilawa.gov/departments/city-clerks-office/ \n  \n 
URL:https://www.tukwilawa.gov/event/city-council-special-meeting/2024-01-08/
LOCATION:Tukwila City Hall – Council Chambers\, 6200 Southcenter Blvd. \, Tukwila\, 98188\, United States
CATEGORIES:City Council,Meeting,Special Meeting
ORGANIZER;CN="City Clerk's Office":MAILTO:TukwilaCityClerk@tukwilawa.gov
END:VEVENT
BEGIN:VEVENT
DTSTART;TZID=America/Los_Angeles:20240108T190000
DTEND;TZID=America/Los_Angeles:20240108T220000
DTSTAMP:20260425T141717
CREATED:20241210T211509Z
LAST-MODIFIED:20241210T211509Z
UID:10012760-1704740400-1704751200@www.tukwilawa.gov
SUMMARY:City Council Committee of the Whole Meeting
DESCRIPTION:The meeting will be conducted BOTH on-site at Tukwila City Hall and also virtually.   \n  \nCommittee of the Whole (COW) meetings are held the second and fourth Mondays of each month at 7:00 p.m. at City Hall. The COW meets to coordinate the work of the committees and to discuss items before they are referred to a Regular Meeting. No official action is taken other than referring matters to committees or a Regular Meeting. The Council President presides at Committee of the Whole meetings. \n  \nTHE PHONE NUMBER FOR THE PUBLIC TO PARTICIPATE IN THE MEETING IS:      \n1-253-292-9750\,  Access Code 670077847# \nTo view the meeting\, join at this link:     Join Microsoft Teams Meeting \nFor Technical Support during the meeting call:  1-206-433-7155. \n  \nThose wishing to provide public comments have the ability to address the City Council both on-site at City Hall or via phone or Microsoft Teams for up to 5 minutes for items both on and not on the agenda.  To provide comment via phone or Microsoft Teams\, please email citycouncil@tukwilawa.gov with your name and topic by 5:00 p.m. on the meeting date. Please clearly indicate that you would like to make public comment during the meeting\, and you will receive further instructions.\n \nSee link for agenda packets:      http://records.tukwilawa.gov/WebLink8/1/fol/6806/Row1.aspx \n  \n\nSIGN UP TO RECEIVE LINKS TO COUNCIL\, COMMITTEE\, BOARDS & COMMISSION PACKETS ON FRIDAYS:   https://www.tukwilawa.gov/departments/city-clerks-office/ \n  \n 
URL:https://www.tukwilawa.gov/event/city-council-committee-of-the-whole-meeting-12/2024-01-08/
LOCATION:Tukwila City Hall – Council Chambers\, 6200 Southcenter Blvd. \, Tukwila\, 98188\, United States
CATEGORIES:City Council,Meeting
ORGANIZER;CN="City Clerk's Office":MAILTO:TukwilaCityClerk@tukwilawa.gov
END:VEVENT
BEGIN:VEVENT
DTSTART;TZID=America/Los_Angeles:20240122T190000
DTEND;TZID=America/Los_Angeles:20240122T220000
DTSTAMP:20260425T141717
CREATED:20231212T204349Z
LAST-MODIFIED:20240119T190727Z
UID:10008431-1705950000-1705960800@www.tukwilawa.gov
SUMMARY:City Council Special Meeting
DESCRIPTION:The meeting will be conducted BOTH on-site at Tukwila City Hall and also virtually.   \nTHE PHONE NUMBER FOR THE PUBLIC TO PARTICIPATE IN THE MEETING IS:      \n1-253-292-9750\,  Access Code 670077847# \nTo view the meeting\, join at this link:     Join Microsoft Teams Meeting \nFor Technical Support during the meeting call:  1-206-433-7155. \n  \nThose wishing to provide public comments have the ability to address the City Council both on-site at City Hall or via phone or Microsoft Teams for up to 5 minutes for items both on and not on the agenda.  To provide comment via phone or Microsoft Teams\, please email citycouncil@tukwilawa.gov with your name and topic by 5:00 p.m. on the meeting date. Please clearly indicate that you would like to make public comment during the meeting\, and you will receive further instructions.\n \nSee link for agenda packets:      http://records.tukwilawa.gov/WebLink8/1/fol/6806/Row1.aspx \n  \n\n  \nSIGN UP TO RECEIVE LINKS TO COUNCIL\, COMMITTEE\, BOARDS & COMMISSION PACKETS ON FRIDAYS:   https://www.tukwilawa.gov/departments/city-clerks-office/ \n  \n 
URL:https://www.tukwilawa.gov/event/city-council-special-meeting/2024-01-22/
LOCATION:Tukwila City Hall – Council Chambers\, 6200 Southcenter Blvd. \, Tukwila\, 98188\, United States
CATEGORIES:City Council,Meeting,Special Meeting
ORGANIZER;CN="City Clerk's Office":MAILTO:TukwilaCityClerk@tukwilawa.gov
END:VEVENT
END:VCALENDAR