BEGIN:VCALENDAR
VERSION:2.0
PRODID:-//City of Tukwila - ECPv6.15.20//NONSGML v1.0//EN
CALSCALE:GREGORIAN
METHOD:PUBLISH
X-WR-CALNAME:City of Tukwila
X-ORIGINAL-URL:https://www.tukwilawa.gov
X-WR-CALDESC:Events for City of Tukwila
REFRESH-INTERVAL;VALUE=DURATION:PT1H
X-Robots-Tag:noindex
X-PUBLISHED-TTL:PT1H
BEGIN:VTIMEZONE
TZID:America/Los_Angeles
BEGIN:DAYLIGHT
TZOFFSETFROM:-0800
TZOFFSETTO:-0700
TZNAME:PDT
DTSTART:20240310T100000
END:DAYLIGHT
BEGIN:STANDARD
TZOFFSETFROM:-0700
TZOFFSETTO:-0800
TZNAME:PST
DTSTART:20241103T090000
END:STANDARD
BEGIN:DAYLIGHT
TZOFFSETFROM:-0800
TZOFFSETTO:-0700
TZNAME:PDT
DTSTART:20250309T100000
END:DAYLIGHT
BEGIN:STANDARD
TZOFFSETFROM:-0700
TZOFFSETTO:-0800
TZNAME:PST
DTSTART:20251102T090000
END:STANDARD
BEGIN:DAYLIGHT
TZOFFSETFROM:-0800
TZOFFSETTO:-0700
TZNAME:PDT
DTSTART:20260308T100000
END:DAYLIGHT
BEGIN:STANDARD
TZOFFSETFROM:-0700
TZOFFSETTO:-0800
TZNAME:PST
DTSTART:20261101T090000
END:STANDARD
END:VTIMEZONE
BEGIN:VEVENT
DTSTART;TZID=America/Los_Angeles:20250505T173000
DTEND;TZID=America/Los_Angeles:20250505T184500
DTSTAMP:20260421T152243
CREATED:20241217T033238Z
LAST-MODIFIED:20250116T225007Z
UID:10008465-1746466200-1746470700@www.tukwilawa.gov
SUMMARY:City Council Work Session
DESCRIPTION:Every 1st and 3rd Monday\, the City Council will convene in a work session to informally discuss topics of general interest or to receive presentations.  No formal action is taken. \nHybrid Meeting: Council Chamber and MS Teams \nJoin on your computer\, mobile app or room device \nClick here to join the meeting \nMeeting ID: 234 262 234 697\nPasscode: Xpp7bC \nDownload Teams | Join on the web \nOr call in (audio only) \n+1 253-292-9750\,\,70090635#   United States\, Tacoma \nPhone Conference ID: 700 906 35#
URL:https://www.tukwilawa.gov/event/city-council-work-session-5-4/2025-05-05/
LOCATION:City Hall – Council Chamber\, 6200 Southcenter Boulevard\, Tukwila\, WA\, 98188\, United States
CATEGORIES:City Council,Meeting
ORGANIZER;CN="Laurel Humphrey":MAILTO:citycouncil@tukwilawa.gov
GEO:47.4631345;-122.2555662
X-APPLE-STRUCTURED-LOCATION;VALUE=URI;X-ADDRESS=City Hall – Council Chamber 6200 Southcenter Boulevard Tukwila WA 98188 United States;X-APPLE-RADIUS=500;X-TITLE=6200 Southcenter Boulevard:geo:-122.2555662,47.4631345
END:VEVENT
BEGIN:VEVENT
DTSTART;TZID=America/Los_Angeles:20250505T190000
DTEND;TZID=America/Los_Angeles:20250505T220000
DTSTAMP:20260421T152243
CREATED:20241210T210730Z
LAST-MODIFIED:20241210T210854Z
UID:10012721-1746471600-1746482400@www.tukwilawa.gov
SUMMARY:City Council Regular Meeting
DESCRIPTION:The meeting will be conducted BOTH on-site at Tukwila City Hall and also virtually.  \n  \nRegular Meetings are held the first and third Mondays of each month at 7:00 p.m. at City Hall. At these meetings the Council conducts general and routine business and adopts ordinances and resolutions. At these meetings\, the Mayor presides but does not vote unless it is to break a tie. \n  \nTHE PHONE NUMBER FOR THE PUBLIC TO PARTICIPATE IN THE MEETING IS:      \nTo listen\, call:     1-253-292-9750\,  Access Code 670077847# \nTo view the meeting\, join at this link:      Join Microsoft Teams Meeting \nFor Technical Support during the meeting call:     1-206-433-7155. \n  \nThose wishing to provide public comments have the ability to address the City Council both on-site at City Hall or via phone or Microsoft Teams for up to 5 minutes for items both on and not on the agenda.  To provide comment via phone or Microsoft Teams\, please email citycouncil@tukwilawa.gov with your name and topic by 5:00 p.m. on the meeting date. Please clearly indicate that you would like to make public comment during the meeting\, and you will receive further instructions. \nSee link for agenda packets:     http://records.tukwilawa.gov/WebLink8/1/fol/6806/Row1.aspx \n  \n\nSIGN UP TO RECEIVE LINKS TO COUNCIL\, COMMITTEE\, BOARDS & COMMISSION PACKETS ON FRIDAYS:   https://www.tukwilawa.gov/departments/city-clerks-office/ \n  \n 
URL:https://www.tukwilawa.gov/event/city-council-regular-meeting-20/2025-05-05/
LOCATION:Tukwila City Hall – Council Chambers\, 6200 Southcenter Blvd. \, Tukwila\, 98188\, United States
CATEGORIES:City Council,Meeting
ORGANIZER;CN="City Clerk's Office":MAILTO:TukwilaCityClerk@tukwilawa.gov
END:VEVENT
BEGIN:VEVENT
DTSTART;TZID=America/Los_Angeles:20250512T173000
DTEND;TZID=America/Los_Angeles:20250512T184500
DTSTAMP:20260421T152243
CREATED:20240201T211456Z
LAST-MODIFIED:20260127T235532Z
UID:10012961-1747071000-1747075500@www.tukwilawa.gov
SUMMARY:Planning & Community Development Committee
DESCRIPTION:The Planning & Community Development Committee provides policy recommendations on legislative matters relating to housing policies and programs\, planning and land use\, annexations\, building and development regulations\, code enforcement\, economic development\, tourism\, workforce development\, environment and sustainability\, and other ad hoc matters as assigned. \nPlanning & Community Development Committee Agendas/Minutes/Audio \nMeetings are open to the public. This is a hybrid meeting\, conducted both onsite and electronically via MS Teams. The meeting room is the City Council Conference Room at City Hall\, 6200 Southcenter Boulevard\, Tukwila 98188. Information about how to access the meeting is printed on each agenda. Sign up for the Council Agenda Packet Email List here: https://www.tukwilawa.gov/departments/city-clerks-office/ \nJoin on your computer\, mobile app or room device \nClick here to join the meeting \nMeeting ID: 244 181 031 300\nPasscode: 7auCHQ \nDownload Teams | Join on the web \nOr call in (audio only) \n+1 253-292-9750\,\,866559860#   United States\, Tacoma \nPhone Conference ID: 866 559 860# \nFind a local number | Reset PIN \n 
URL:https://www.tukwilawa.gov/event/planning-community-development-committee-7/2025-05-12/
LOCATION:Hybrid – Virtual/Onsite\, United States
CATEGORIES:City Council,Meeting
ORGANIZER;CN="Laurel Humphrey":MAILTO:citycouncil@tukwilawa.gov
END:VEVENT
BEGIN:VEVENT
DTSTART;TZID=America/Los_Angeles:20250512T173000
DTEND;TZID=America/Los_Angeles:20250512T184500
DTSTAMP:20260421T152243
CREATED:20250116T225946Z
LAST-MODIFIED:20250116T232139Z
UID:10012945-1747071000-1747075500@www.tukwilawa.gov
SUMMARY:Community Services & Safety Committee
DESCRIPTION:The Community Services & Safety Committee provides policy recommendations on legislative matters relating to police\, fire\, emergency services\, municipal court\, public safety facilities\, animals\, community engagement\, human services\, parks\, recreation\, youth and senior services\, golf course\, community center\, library\, public art\, social equity and justice\, and other ad hoc matters as assigned. \nCommunity Services & Safety Committee Agendas/Minutes/Audio \nMeetings are open to the public. This is a hybrid meeting\, conducted both onsite and electronically via MS Teams. The meeting room is the Hazelnut Conference Room located in City Hall at 6200 Southcenter Blvd. Information about how to access the meeting is printed on each agenda. Sign up for the Council Agenda Packet Email List here: https://www.tukwilawa.gov/departments/city-clerks-office/ \nMicrosoft Teams meeting \nJoin on your computer\, mobile app or room device \nClick here to join the meeting \nMeeting ID: 278 480 099 399\nPasscode: Ucb7SR \nDownload Teams | Join on the web \nOr call in (audio only) \n+1 253-292-9750\,\,936039108#   United States\, Tacoma \nPhone Conference ID: 936 039 108# \n 
URL:https://www.tukwilawa.gov/event/community-services-safety-committee-9-2/2025-05-12/
LOCATION:Hybrid – Virtual/Onsite\, United States
CATEGORIES:City Council,Meeting
ORGANIZER;CN="Laurel Humphrey":MAILTO:citycouncil@tukwilawa.gov
END:VEVENT
BEGIN:VEVENT
DTSTART;TZID=America/Los_Angeles:20250512T190000
DTEND;TZID=America/Los_Angeles:20250512T220000
DTSTAMP:20260421T152243
CREATED:20241210T211509Z
LAST-MODIFIED:20241210T211509Z
UID:10012766-1747076400-1747087200@www.tukwilawa.gov
SUMMARY:City Council Committee of the Whole Meeting
DESCRIPTION:The meeting will be conducted BOTH on-site at Tukwila City Hall and also virtually.   \n  \nCommittee of the Whole (COW) meetings are held the second and fourth Mondays of each month at 7:00 p.m. at City Hall. The COW meets to coordinate the work of the committees and to discuss items before they are referred to a Regular Meeting. No official action is taken other than referring matters to committees or a Regular Meeting. The Council President presides at Committee of the Whole meetings. \n  \nTHE PHONE NUMBER FOR THE PUBLIC TO PARTICIPATE IN THE MEETING IS:      \n1-253-292-9750\,  Access Code 670077847# \nTo view the meeting\, join at this link:     Join Microsoft Teams Meeting \nFor Technical Support during the meeting call:  1-206-433-7155. \n  \nThose wishing to provide public comments have the ability to address the City Council both on-site at City Hall or via phone or Microsoft Teams for up to 5 minutes for items both on and not on the agenda.  To provide comment via phone or Microsoft Teams\, please email citycouncil@tukwilawa.gov with your name and topic by 5:00 p.m. on the meeting date. Please clearly indicate that you would like to make public comment during the meeting\, and you will receive further instructions.\n \nSee link for agenda packets:      http://records.tukwilawa.gov/WebLink8/1/fol/6806/Row1.aspx \n  \n\nSIGN UP TO RECEIVE LINKS TO COUNCIL\, COMMITTEE\, BOARDS & COMMISSION PACKETS ON FRIDAYS:   https://www.tukwilawa.gov/departments/city-clerks-office/ \n  \n 
URL:https://www.tukwilawa.gov/event/city-council-committee-of-the-whole-meeting-12/2025-05-12/
LOCATION:Tukwila City Hall – Council Chambers\, 6200 Southcenter Blvd. \, Tukwila\, 98188\, United States
CATEGORIES:City Council,Meeting
ORGANIZER;CN="City Clerk's Office":MAILTO:TukwilaCityClerk@tukwilawa.gov
END:VEVENT
BEGIN:VEVENT
DTSTART;TZID=America/Los_Angeles:20250519T173000
DTEND;TZID=America/Los_Angeles:20250519T184500
DTSTAMP:20260421T152243
CREATED:20240131T231532Z
LAST-MODIFIED:20250116T224828Z
UID:10012933-1747675800-1747680300@www.tukwilawa.gov
SUMMARY:City Council Work Session
DESCRIPTION:Every 1st and 3rd Monday\, the City Council will convene in a work session to informally discuss topics of general interest or to receive presentations.  No formal action is taken. \n  \nHybrid Meeting: Council Chamber and MS Teams \nMicrosoft Teams meeting \nJoin on your computer\, mobile app or room device \nClick here to join the meeting \nMeeting ID: 238 629 963 322\nPasscode: ZV2Sd4 \nDownload Teams | Join on the web \nOr call in (audio only) \n+1 253-292-9750\,\,56095437#   United States\, Tacoma \nPhone Conference ID: 560 954 37#
URL:https://www.tukwilawa.gov/event/city-council-work-session-6/2025-05-19/
LOCATION:City Hall – Council Chamber\, 6200 Southcenter Boulevard\, Tukwila\, WA\, 98188\, United States
CATEGORIES:City Council,Meeting
ORGANIZER;CN="Laurel Humphrey":MAILTO:citycouncil@tukwilawa.gov
GEO:47.4631345;-122.2555662
X-APPLE-STRUCTURED-LOCATION;VALUE=URI;X-ADDRESS=City Hall – Council Chamber 6200 Southcenter Boulevard Tukwila WA 98188 United States;X-APPLE-RADIUS=500;X-TITLE=6200 Southcenter Boulevard:geo:-122.2555662,47.4631345
END:VEVENT
BEGIN:VEVENT
DTSTART;TZID=America/Los_Angeles:20250519T190000
DTEND;TZID=America/Los_Angeles:20250519T220000
DTSTAMP:20260421T152243
CREATED:20241210T211037Z
LAST-MODIFIED:20241210T211242Z
UID:10012742-1747681200-1747692000@www.tukwilawa.gov
SUMMARY:City Council Regular Meeting
DESCRIPTION:The meeting will be conducted BOTH on-site at Tukwila City Hall and also virtually.  \n  \nRegular Meetings are held the first and third Mondays of each month at 7:00 p.m. at City Hall. At these meetings the Council conducts general and routine business and adopts ordinances and resolutions. At these meetings\, the Mayor presides but does not vote unless it is to break a tie. \n  \nTHE PHONE NUMBER FOR THE PUBLIC TO PARTICIPATE IN THE MEETING IS:      \nTo listen\, call:     1-253-292-9750\,  Access Code 670077847# \nTo view the meeting\, join at this link:      Join Microsoft Teams Meeting \nFor Technical Support during the meeting call:     1-206-433-7155. \n  \nThose wishing to provide public comments have the ability to address the City Council both on-site at City Hall or via phone or Microsoft Teams for up to 5 minutes for items both on and not on the agenda.  To provide comment via phone or Microsoft Teams\, please email citycouncil@tukwilawa.gov with your name and topic by 5:00 p.m. on the meeting date. Please clearly indicate that you would like to make public comment during the meeting\, and you will receive further instructions. \nSee link for agenda packets:     http://records.tukwilawa.gov/WebLink8/1/fol/6806/Row1.aspx \n  \n\nSIGN UP TO RECEIVE LINKS TO COUNCIL\, COMMITTEE\, BOARDS & COMMISSION PACKETS ON FRIDAYS:   https://www.tukwilawa.gov/departments/city-clerks-office/ \n  \n 
URL:https://www.tukwilawa.gov/event/city-council-regular-meeting-21/2025-05-19/
LOCATION:Tukwila City Hall – Council Chambers\, 6200 Southcenter Blvd. \, Tukwila\, 98188\, United States
CATEGORIES:City Council,Meeting
ORGANIZER;CN="City Clerk's Office":MAILTO:TukwilaCityClerk@tukwilawa.gov
END:VEVENT
BEGIN:VEVENT
DTSTART;TZID=America/Los_Angeles:20250528T173000
DTEND;TZID=America/Los_Angeles:20250528T183000
DTSTAMP:20260421T152243
CREATED:20250521T170538Z
LAST-MODIFIED:20250521T170559Z
UID:10014297-1748453400-1748457000@www.tukwilawa.gov
SUMMARY:Transportation & Infrastructure Services Committee - Special Meeting
DESCRIPTION:The Transportation & Infrastructure Services Committee provides policy recommendations on legislative matters relating to transportation\, traffic\, streets\, water\, sewer\, surface water\, power\, street lighting and signals\, solid waste and recycling\, river basins and levees\, aviation\, telecommunications\, shops facilities\, fleet\, public transit and other ad hoc matters as assigned. \nMembers: Jovita McConnell\, Chair; Mohamed Abdi\, Hannah Hedrick \nTransportation & Infrastructure Services Committee Agendas/Minutes/Audio \nMeetings are open to the public. This is a hybrid meeting\, conducted both onsite and electronically via MS Teams. The meeting room is the City Council Conference Room in City Hall\, 6200 Southcenter Boulevard.  Information about how to access the meeting is printed on each agenda. Sign up for the Council Agenda Packet Email List here: https://www.tukwilawa.gov/departments/city-clerks-office/
URL:https://www.tukwilawa.gov/event/transportation-infrastructure-services-special-meeting/
LOCATION:City Hall – City Council Conference Room\, 6200 Southcenter Blvd\, Tukwila\, WA\, 98188\, United States
CATEGORIES:City Council,Meeting
ORGANIZER;CN="Laurel Humphrey":MAILTO:citycouncil@tukwilawa.gov
END:VEVENT
END:VCALENDAR