BEGIN:VCALENDAR
VERSION:2.0
PRODID:-//City of Tukwila - ECPv6.15.20//NONSGML v1.0//EN
CALSCALE:GREGORIAN
METHOD:PUBLISH
X-WR-CALNAME:City of Tukwila
X-ORIGINAL-URL:https://www.tukwilawa.gov
X-WR-CALDESC:Events for City of Tukwila
REFRESH-INTERVAL;VALUE=DURATION:PT1H
X-Robots-Tag:noindex
X-PUBLISHED-TTL:PT1H
BEGIN:VTIMEZONE
TZID:America/Los_Angeles
BEGIN:DAYLIGHT
TZOFFSETFROM:-0800
TZOFFSETTO:-0700
TZNAME:PDT
DTSTART:20240310T100000
END:DAYLIGHT
BEGIN:STANDARD
TZOFFSETFROM:-0700
TZOFFSETTO:-0800
TZNAME:PST
DTSTART:20241103T090000
END:STANDARD
BEGIN:DAYLIGHT
TZOFFSETFROM:-0800
TZOFFSETTO:-0700
TZNAME:PDT
DTSTART:20250309T100000
END:DAYLIGHT
BEGIN:STANDARD
TZOFFSETFROM:-0700
TZOFFSETTO:-0800
TZNAME:PST
DTSTART:20251102T090000
END:STANDARD
BEGIN:DAYLIGHT
TZOFFSETFROM:-0800
TZOFFSETTO:-0700
TZNAME:PDT
DTSTART:20260308T100000
END:DAYLIGHT
BEGIN:STANDARD
TZOFFSETFROM:-0700
TZOFFSETTO:-0800
TZNAME:PST
DTSTART:20261101T090000
END:STANDARD
END:VTIMEZONE
BEGIN:VEVENT
DTSTART;TZID=America/Los_Angeles:20250402T173000
DTEND;TZID=America/Los_Angeles:20250402T203000
DTSTAMP:20260419T175934
CREATED:20250225T211828Z
LAST-MODIFIED:20250225T212038Z
UID:10014102-1743615000-1743625800@www.tukwilawa.gov
SUMMARY:2025 State of the City Address Event
DESCRIPTION:I would like to invite you to join me for my annual State of the City address to be held on Wednesday\, April 2 at 6:00pm at the Foster High School Performing Arts Center\, located at 4242 South 144th Street. This is an opportunity to hear about what the City of Tukwila has accomplished in the past year and highlights about the vision for 2025. \nThe event will include informational tables\, providing you with opportunities to meet City staff and community partners. Learn more about services and programs available to members of the Tukwila community. Light refreshments will be served. I am looking forward to this event and I hope you can join me. \nThomas McLeod\, Mayor \n  \nAll participants are welcome. If you need reasonable accommodation to participate in this event\, please call or text 206-433-1850 or email Mayor@TukwilaWA.gov at least seven days before the event.
URL:https://www.tukwilawa.gov/event/2025-state-of-the-city-address-event/
LOCATION:Foster High’s Performing Arts Center\, 4242 S 144th St\, Tukwila\, 98188
CATEGORIES:City Event
GEO:47.4747434;-122.2798545
X-APPLE-STRUCTURED-LOCATION;VALUE=URI;X-ADDRESS=Foster High’s Performing Arts Center 4242 S 144th St Tukwila 98188;X-APPLE-RADIUS=500;X-TITLE=4242 S 144th St:geo:-122.2798545,47.4747434
END:VEVENT
BEGIN:VEVENT
DTSTART;TZID=America/Los_Angeles:20250410T110000
DTEND;TZID=America/Los_Angeles:20250410T130000
DTSTAMP:20260419T175934
CREATED:20250225T001230Z
LAST-MODIFIED:20250225T001318Z
UID:10014100-1744282800-1744290000@www.tukwilawa.gov
SUMMARY:Riverton Creek - Cottonwood Corner Work Party
DESCRIPTION:Join local Forest Stewards Heidi & Greta for a fun work party removing noxious weeds and learning about healthy eco-systems. All tools and training provided. \n✔️ Click here to sign-up. \nWhat to Bring\nBring a full water bottle\, snacks for yourself\, clothes that are weather-appropriate\, and closed-toed shoes. If you have garden gloves please bring them. \nWhere to Meet\nThe site is a corner lot\, gather by the JOBOX down in the site with the circle of log rounds. \nWhere to Park\nLots of street parking in the neighborhood and around the site. \nIf you have questions or concerns\, please get in touch with Heidi Watters at heidiwatters@gmail.com or 206.679.8820.
URL:https://www.tukwilawa.gov/event/riverton-creek-cottonwood-corner-work-party/
CATEGORIES:City Event,Volunteer Opportunity
END:VEVENT
BEGIN:VEVENT
DTSTART;TZID=America/Los_Angeles:20250418T140000
DTEND;TZID=America/Los_Angeles:20250418T160000
DTSTAMP:20260419T175934
CREATED:20250327T200936Z
LAST-MODIFIED:20250327T201415Z
UID:10014151-1744984800-1744992000@www.tukwilawa.gov
SUMMARY:Coffee With a Cop at the Mall
DESCRIPTION:Join us for Coffee with a Cop at Westfield Southcenter\, a welcoming and informal opportunity to connect with local law enforcement over a cup of coffee. This community event fosters open conversations\, allowing shoppers and residents to ask questions\, share concerns\, and get to know the officers who serve their community—all in a relaxed\, friendly setting. \nStop by\, say hello\, and build positive relationships with your local police department. \nLocation:   Level 1 at Food Court entrance in the Police center.
URL:https://www.tukwilawa.gov/event/coffee-with-a-cop-5/
LOCATION:Westfield Southcenter Mall
CATEGORIES:City Event,Community Event
END:VEVENT
BEGIN:VEVENT
DTSTART;TZID=America/Los_Angeles:20250428T180000
DTEND;TZID=America/Los_Angeles:20250428T200000
DTSTAMP:20260419T175934
CREATED:20250307T184716Z
LAST-MODIFIED:20250307T185320Z
UID:10014130-1745863200-1745870400@www.tukwilawa.gov
SUMMARY:Cooking to Prevent Food Waste Workshop
DESCRIPTION:The average family of four throws away about $1\,500 each year on wasted food. Join us at a free cooking class to learn how to make the most of your groceries! We will make and taste together some surprising treats that are yummy\, nutritious\, and reduce food waste! Meal planning\, proper food storage\, and using all parts of the food that we buy all play a real part in saving our landfills while saving us money! Ages 16+ \nREGISTRATION REQUIRED DUE TO LIMITED SPACE \n✔️ Click on below date to register. \nMonday\, April 28       6 p.m.–8 p.m. \nTuesday\, April 29       1:30 p.m.–3:30 p.m.
URL:https://www.tukwilawa.gov/event/cooking-to-prevent-food-waste-workshop/2025-04-28/
LOCATION:Tukwila Community Center\, 12424 42nd Avenue South \, Tukwila\, WA\, 98168\, United States
CATEGORIES:City Event,Class,Community Event
GEO:47.4910019;-122.278439
X-APPLE-STRUCTURED-LOCATION;VALUE=URI;X-ADDRESS=Tukwila Community Center 12424 42nd Avenue South  Tukwila WA 98168 United States;X-APPLE-RADIUS=500;X-TITLE=12424 42nd Avenue South:geo:-122.278439,47.4910019
END:VEVENT
BEGIN:VEVENT
DTSTART;TZID=America/Los_Angeles:20250429T133000
DTEND;TZID=America/Los_Angeles:20250429T153000
DTSTAMP:20260419T175934
CREATED:20250307T184716Z
LAST-MODIFIED:20250307T185320Z
UID:10014131-1745933400-1745940600@www.tukwilawa.gov
SUMMARY:Cooking to Prevent Food Waste Workshop
DESCRIPTION:The average family of four throws away about $1\,500 each year on wasted food. Join us at a free cooking class to learn how to make the most of your groceries! We will make and taste together some surprising treats that are yummy\, nutritious\, and reduce food waste! Meal planning\, proper food storage\, and using all parts of the food that we buy all play a real part in saving our landfills while saving us money! Ages 16+ \nREGISTRATION REQUIRED DUE TO LIMITED SPACE \n✔️ Click on below date to register. \nMonday\, April 28       6 p.m.–8 p.m. \nTuesday\, April 29       1:30 p.m.–3:30 p.m.
URL:https://www.tukwilawa.gov/event/cooking-to-prevent-food-waste-workshop/2025-04-29/
LOCATION:Tukwila Community Center\, 12424 42nd Avenue South \, Tukwila\, WA\, 98168\, United States
CATEGORIES:City Event,Class,Community Event
GEO:47.4910019;-122.278439
X-APPLE-STRUCTURED-LOCATION;VALUE=URI;X-ADDRESS=Tukwila Community Center 12424 42nd Avenue South  Tukwila WA 98168 United States;X-APPLE-RADIUS=500;X-TITLE=12424 42nd Avenue South:geo:-122.278439,47.4910019
END:VEVENT
BEGIN:VEVENT
DTSTART;TZID=America/Los_Angeles:20250430T100000
DTEND;TZID=America/Los_Angeles:20250430T160000
DTSTAMP:20260419T175934
CREATED:20250403T224434Z
LAST-MODIFIED:20250403T224515Z
UID:10014213-1746007200-1746028800@www.tukwilawa.gov
SUMMARY:City Hall Blood Donation Drive
DESCRIPTION:City Hall Blood Drive is on Wednesday\, April 30\, 10 a.m. – 4 p.m.  \n✔️ Sign up here: https://donate.bloodworksnw.org/donor/schedules/drive_schedule/77071 \nEach spring\, when the sun comes out\, blood donations drop during school breaks and families taking vacations together\, but there’s still a need for blood. Consider sharing a little sunshine with patients near you by making blood donation part of your spring break plans. When you donate with Bloodworks\, you’re giving a critical boost to patients undergoing surgeries\, traumas\, and cancer treatments. \nAs a donor\, you are also encouraging our local community to step up and donate blood every 56 days\, rain or shine. \nThis month\, all donors can enter to win a dream trip to Hawaii for two.  Book your appointment today for a chance to soak up the sun. \n 
URL:https://www.tukwilawa.gov/event/city-hall-blood-donation-drive/
LOCATION:Tukwila City Hall – Council Chambers\, 6200 Southcenter Blvd. \, Tukwila\, 98188\, United States
CATEGORIES:City Event,Community Event,Volunteer Opportunity
END:VEVENT
BEGIN:VEVENT
DTSTART;TZID=America/Los_Angeles:20250430T103000
DTEND;TZID=America/Los_Angeles:20250430T170000
DTSTAMP:20260419T175934
CREATED:20241210T002853Z
LAST-MODIFIED:20241210T002853Z
UID:10012675-1746009000-1746032400@www.tukwilawa.gov
SUMMARY:Veteran's Day with Seattle Mariners (for Seniors)
DESCRIPTION:Veteran’s Day with Seattle Mariners (for Seniors) \n** Free ** \nClick here to sign-up.   \n10:30 AM – 5:00 PM \nTukwila Community Center – 12424 42nd Ave S
URL:https://www.tukwilawa.gov/event/veterans-day-with-seattle-mariners-for-seniors/
LOCATION:Tukwila Community Center\, 12424 42nd Avenue South \, Tukwila\, WA\, 98168\, United States
CATEGORIES:City Event
GEO:47.4910019;-122.278439
X-APPLE-STRUCTURED-LOCATION;VALUE=URI;X-ADDRESS=Tukwila Community Center 12424 42nd Avenue South  Tukwila WA 98168 United States;X-APPLE-RADIUS=500;X-TITLE=12424 42nd Avenue South:geo:-122.278439,47.4910019
END:VEVENT
END:VCALENDAR