BEGIN:VCALENDAR
VERSION:2.0
PRODID:-//City of Tukwila - ECPv6.15.20//NONSGML v1.0//EN
CALSCALE:GREGORIAN
METHOD:PUBLISH
X-ORIGINAL-URL:https://www.tukwilawa.gov
X-WR-CALDESC:Events for City of Tukwila
REFRESH-INTERVAL;VALUE=DURATION:PT1H
X-Robots-Tag:noindex
X-PUBLISHED-TTL:PT1H
BEGIN:VTIMEZONE
TZID:America/Los_Angeles
BEGIN:DAYLIGHT
TZOFFSETFROM:-0800
TZOFFSETTO:-0700
TZNAME:PDT
DTSTART:20240310T100000
END:DAYLIGHT
BEGIN:STANDARD
TZOFFSETFROM:-0700
TZOFFSETTO:-0800
TZNAME:PST
DTSTART:20241103T090000
END:STANDARD
BEGIN:DAYLIGHT
TZOFFSETFROM:-0800
TZOFFSETTO:-0700
TZNAME:PDT
DTSTART:20250309T100000
END:DAYLIGHT
BEGIN:STANDARD
TZOFFSETFROM:-0700
TZOFFSETTO:-0800
TZNAME:PST
DTSTART:20251102T090000
END:STANDARD
BEGIN:DAYLIGHT
TZOFFSETFROM:-0800
TZOFFSETTO:-0700
TZNAME:PDT
DTSTART:20260308T100000
END:DAYLIGHT
BEGIN:STANDARD
TZOFFSETFROM:-0700
TZOFFSETTO:-0800
TZNAME:PST
DTSTART:20261101T090000
END:STANDARD
END:VTIMEZONE
BEGIN:VEVENT
DTSTART;TZID=America/Los_Angeles:20250614T100000
DTEND;TZID=America/Los_Angeles:20250614T140000
DTSTAMP:20260419T213221
CREATED:20250429T222007Z
LAST-MODIFIED:20250528T193329Z
UID:10014086-1749895200-1749909600@www.tukwilawa.gov
SUMMARY:Free Recycling Drop-Off Event
DESCRIPTION:City of Tukwila will be accepting styrofoam\, scrap metal\, and paper at this Recycling Drop-Off Event.\nThis free event is only for Tukwila residents.  For more details about this event and items accepted and other upcoming events\, visit TukwilaWA.gov/GarbageAndRecycling.\n____________________________________________ \nJune 14\, 2025 \n10 a.m. – 2 p.m. \nTukwila Community Center – 12424 42nd Ave S    \nAcceptable items:  scrap metal\, styrofoam and paper.   \nPaper is limited to 4 file boxes or bags per vehicle \n  \n____________________________________________ \n  \n\nRecology and the City of Tukwila are announcing their second Earth Day Contest for Tukwila students\, this year titled\, Project Recycle Right. \nHow do you reduce waste\, reuse items\, and/or recycle correctly? Share a drawing\, photo\, photo of an art piece\, or a short video (60 seconds or less) that you created telling us about your experience embarking on Project Recycle Right. You can win up to $300 for your submittal! Winning entries will be shared on City of Tukwila and Recology websites\, social media\, and featured in an Earth Day news release. Entries are due by Friday\, March 7th at 12:00 PM. \nFor more information and to apply\, please visit the online application. \n\n2025 UPCOMING EVENTS\nMarch 22 – Styrofoam\, appliances\, scrap metal\, and electronics recycling collection event\, TCC\, 10 a.m. -2 p.m. \nMay 31 – Paint collection event\, TCC\, 9 a.m. – 3 p.m. \nJune 14 – Styrofoam\, scrap metal\, and shredding recycling collection event\, TCC\, 10 a.m. – 2 p.m. \nJuly 12 – King County Repair Event\, TCC\, 1:30 – 4:30 p.m. \nSeptember 27 – Paint collection event\, TCC\, 9 a.m. – 3 p.m. \nOctober 11 – Mattress recycling collection event\, TCC\, 10 a.m. – 2 p.m. \nNovember 8 – Shredding recycling collection event\, TCC\, 10 a.m. – 2 p.m. \n  \n**  If you have any questions or need further assistance\, please contact the City of Tukwila at: Recycle@TukwilaWA.gov. ** \n\nOn November 1\, 2023\, the City of Tukwila started a 10-year waste hauler contract with Recology. Recology provides garbage\, recycling\, and food & yard waste services. If you have questions about your service\, please contact Recology at 206-944-3900 or Tukwila@Recology.com. To find out more information regarding Recology’s services\, cart/container sizes\, and rates\, visit Recology.com/Tukwila. \n\nWaste Hauler Transition FAQs\n\nTo find out which items are recyclable\, compostable\, and garbage\, visit: \n\nRecology sorting guides
URL:https://www.tukwilawa.gov/event/recycling-collection-event-2-2/
LOCATION:Tukwila Community Center\, 12424 42nd Avenue South \, Tukwila\, WA\, 98168\, United States
CATEGORIES:City Event
GEO:47.4910019;-122.278439
X-APPLE-STRUCTURED-LOCATION;VALUE=URI;X-ADDRESS=Tukwila Community Center 12424 42nd Avenue South  Tukwila WA 98168 United States;X-APPLE-RADIUS=500;X-TITLE=12424 42nd Avenue South:geo:-122.278439,47.4910019
END:VEVENT
BEGIN:VEVENT
DTSTART;TZID=America/Los_Angeles:20250619T110000
DTEND;TZID=America/Los_Angeles:20250619T130000
DTSTAMP:20260419T213221
CREATED:20250327T232459Z
LAST-MODIFIED:20250528T154930Z
UID:10014155-1750330800-1750338000@www.tukwilawa.gov
SUMMARY:5th Annual Juneteenth Commemoration Event
DESCRIPTION:The City of Tukwila welcomes the community to come together for its Fifth Annual Juneteenth Commemoration. This year’s theme is Echoes of Freedom: Past\, Present & Future. \nThis free outdoor event will be held at the Sullivan Center at Tukwila Village\, 14350 Tukwila International Boulevard\, on Thursday\, June 19\, from 11 a.m. to 1 p.m. \nPRINT EVENT FLYER \nChef Dayo Edwards and her DayoSense Catering will prepare light refreshments at no cost to attendees. Chef Dayo (pronounced “Dah-yo”\, a Nigerian name that means Joy Arrives) Edwards was born and raised in Seattle. \nFood and giveaways sponsored by Public Health – Seattle and King County. \n  \n  \n 
URL:https://www.tukwilawa.gov/event/5th-annual-juneteenth-commemoration-event/
LOCATION:Sullivan Center at Tukwila Village\, 14350 Tukwila International Blvd.\, Tukwila\, WA\, 98168\, United States
CATEGORIES:City Event
END:VEVENT
BEGIN:VEVENT
DTSTART;TZID=America/Los_Angeles:20250625T190000
DTEND;TZID=America/Los_Angeles:20250625T203000
DTSTAMP:20260419T213221
CREATED:20250611T164927Z
LAST-MODIFIED:20250611T164937Z
UID:10014349-1750878000-1750883400@www.tukwilawa.gov
SUMMARY:Virtual Info & Help Session: Wetlands\, Trees\, Shoreline\, Streams & Slopes
DESCRIPTION:Learn about critical area regulations\, resources available\, and stewardship techniques.  Tukwila is home to many wetlands\, streams\, shorelines\, springs and steep slopes – come find out more! \nCall 206-839-6483 or email Heidi.Watters@TukwilaWA.gov for Teams meeting link.
URL:https://www.tukwilawa.gov/event/virtual-info-help-session-wetlands-trees-shoreline-streams-slopes/
LOCATION:Virtual/Online\, United States
CATEGORIES:City Event
END:VEVENT
BEGIN:VEVENT
DTSTART;TZID=America/Los_Angeles:20250628T120000
DTEND;TZID=America/Los_Angeles:20250628T170000
DTSTAMP:20260419T213221
CREATED:20250530T162834Z
LAST-MODIFIED:20250530T163040Z
UID:10014301-1751112000-1751130000@www.tukwilawa.gov
SUMMARY:World Refugee Day Global Village Event
DESCRIPTION:World Refugee Day Global Village \nSaturday\, June 28\, 12-5pm\, Foster High School \nThis day honors the courage and determination of the millions of refugees who have been forced to flee their homelands due to war\, persecution\, or environmental disasters. This free event is open to the public and features multiple performances from around the world\, vendor and resource tables\, children’s activities\, multicultural cuisine and more. \n\nRefugee artisans\, vendors & art\nCultural dances & performances\nCulinary dishes by refugee chefs\nFree multicultural books for all ages\nFresh produce from IRC’s New Roots and so much more!\n\nInquire about information and resource tabling opportunities. \n✔️ Sign-up to perform\, sponsor or volunteer:    https://tinyurl.com/4fa2k9pw \n  \nOn behalf of the Equity Policy Implementation Committee (EPIC) and the Equity & Social Justice Commission\,
URL:https://www.tukwilawa.gov/event/world-refugee-day-global-village-event/
LOCATION:Foster High School\, 4242 S 144th St\, Tukwila\, 98188
CATEGORIES:City Event,Community Event,Volunteer Opportunity
GEO:47.4747434;-122.2798545
X-APPLE-STRUCTURED-LOCATION;VALUE=URI;X-ADDRESS=Foster High School 4242 S 144th St Tukwila 98188;X-APPLE-RADIUS=500;X-TITLE=4242 S 144th St:geo:-122.2798545,47.4747434
END:VEVENT
END:VCALENDAR