BEGIN:VCALENDAR
VERSION:2.0
PRODID:-//City of Tukwila - ECPv6.15.20//NONSGML v1.0//EN
CALSCALE:GREGORIAN
METHOD:PUBLISH
X-ORIGINAL-URL:https://www.tukwilawa.gov
X-WR-CALDESC:Events for City of Tukwila
REFRESH-INTERVAL;VALUE=DURATION:PT1H
X-Robots-Tag:noindex
X-PUBLISHED-TTL:PT1H
BEGIN:VTIMEZONE
TZID:America/Los_Angeles
BEGIN:DAYLIGHT
TZOFFSETFROM:-0800
TZOFFSETTO:-0700
TZNAME:PDT
DTSTART:20230312T100000
END:DAYLIGHT
BEGIN:STANDARD
TZOFFSETFROM:-0700
TZOFFSETTO:-0800
TZNAME:PST
DTSTART:20231105T090000
END:STANDARD
BEGIN:DAYLIGHT
TZOFFSETFROM:-0800
TZOFFSETTO:-0700
TZNAME:PDT
DTSTART:20240310T100000
END:DAYLIGHT
BEGIN:STANDARD
TZOFFSETFROM:-0700
TZOFFSETTO:-0800
TZNAME:PST
DTSTART:20241103T090000
END:STANDARD
BEGIN:DAYLIGHT
TZOFFSETFROM:-0800
TZOFFSETTO:-0700
TZNAME:PDT
DTSTART:20250309T100000
END:DAYLIGHT
BEGIN:STANDARD
TZOFFSETFROM:-0700
TZOFFSETTO:-0800
TZNAME:PST
DTSTART:20251102T090000
END:STANDARD
END:VTIMEZONE
BEGIN:VEVENT
DTSTART;TZID=America/Los_Angeles:20240601T193000
DTEND;TZID=America/Los_Angeles:20240601T210000
DTSTAMP:20260419T194824
CREATED:20230818T210001Z
LAST-MODIFIED:20230926T170945Z
UID:10007973-1717270200-1717275600@www.tukwilawa.gov
SUMMARY:Rainier Symphony Concert
DESCRIPTION:Buy tickets here:  https://www.rainiersymphony.org/tickets.shtml\nIn the event of unforeseen circumstances\, programs and artists may change without notice.\n\n___________________________________________________________________________\n\n\n\n** CLASSICS CONCERT **\nSaturday\, October 21 – 7:30 pm\n\nSunday\, October 22 – 3:00 pm \n\n\n\n\nSilvestre Revueltas\nLa noche de los mayas (The Night of the Mayas)\n\n\n\nAntonin Dvorak\nSymphony No. 7\n\n\n\n  \n** HOLIDAY CONCERT **\nSaturday\, December 16 – 7:30 pm\nSunday\, December 17 – 3:00 pm \nCelebrate the season with traditional holiday favorites and carols the entire family is sure to enjoy! \n  \n** CLASSICS CONCERT **\nSaturday\, February 24 – 7:30 pm\nSunday\, February 25 – 3:00 pm \n\n\n\n\nW.A. Mozart\nThe Marriage of Figaro Overture\n\n\n\nNey Rosauro\nConcerto No. 1 for Marimba; Jeffery Lund\, marimba\n\n\n\nJohannes Brahms\nSymphony No. 4\n\n\n\n  \n** CLASSICS CONCERT **\nSaturday\, April 13 – 7:30 pm\nSunday\, April 14 – 3:00 pm \n\n\n\n\nVirgil Thomson\nA Joyful Fugue\n\n\n\nMargaret Bonds\nMontgomery Variations\n\n\n\nVirgil Thomson\nA Solemn Music\n\n\n\nPaul Hindemith\nSymphonic Metamorphosis\n\n\n\n  \n** SYMPHONIC POPS! **  \nSaturday\, June 1 – 7:30 pm\nSunday\, June 2 – 3:00 pm \nFeaturing Blush Fox Trio \n\n\n\n\nDarius Milhaud\nLa creation du monde (The Creation of the World)\n\n\n\nGeorge Gershwin\nAn American in Paris\n\n\n\nAND songs from the Great American Songbook! \n\n  \n_____________________________________________________________________ \n  \nSupport Rainier Symphony\n  \n\n\n\n\n \n\nYour donation helps keep classical music alive and affordable in South Sound communities.\n\n\n\n\n\n\n 
URL:https://www.tukwilawa.gov/event/rainier-symphony-5/2024-06-01/
LOCATION:Foster High’s Performing Arts Center\, 4242 S 144th St\, Tukwila\, 98188
CATEGORIES:Community Event
GEO:47.4747434;-122.2798545
X-APPLE-STRUCTURED-LOCATION;VALUE=URI;X-ADDRESS=Foster High’s Performing Arts Center 4242 S 144th St Tukwila 98188;X-APPLE-RADIUS=500;X-TITLE=4242 S 144th St:geo:-122.2798545,47.4747434
END:VEVENT
BEGIN:VEVENT
DTSTART;TZID=America/Los_Angeles:20240602T150000
DTEND;TZID=America/Los_Angeles:20240602T170000
DTSTAMP:20260419T194824
CREATED:20230818T210001Z
LAST-MODIFIED:20230926T170945Z
UID:10007974-1717340400-1717347600@www.tukwilawa.gov
SUMMARY:Rainier Symphony Concert
DESCRIPTION:Buy tickets here:  https://www.rainiersymphony.org/tickets.shtml\nIn the event of unforeseen circumstances\, programs and artists may change without notice.\n\n___________________________________________________________________________\n\n\n\n** CLASSICS CONCERT **\nSaturday\, October 21 – 7:30 pm\n\nSunday\, October 22 – 3:00 pm \n\n\n\n\nSilvestre Revueltas\nLa noche de los mayas (The Night of the Mayas)\n\n\n\nAntonin Dvorak\nSymphony No. 7\n\n\n\n  \n** HOLIDAY CONCERT **\nSaturday\, December 16 – 7:30 pm\nSunday\, December 17 – 3:00 pm \nCelebrate the season with traditional holiday favorites and carols the entire family is sure to enjoy! \n  \n** CLASSICS CONCERT **\nSaturday\, February 24 – 7:30 pm\nSunday\, February 25 – 3:00 pm \n\n\n\n\nW.A. Mozart\nThe Marriage of Figaro Overture\n\n\n\nNey Rosauro\nConcerto No. 1 for Marimba; Jeffery Lund\, marimba\n\n\n\nJohannes Brahms\nSymphony No. 4\n\n\n\n  \n** CLASSICS CONCERT **\nSaturday\, April 13 – 7:30 pm\nSunday\, April 14 – 3:00 pm \n\n\n\n\nVirgil Thomson\nA Joyful Fugue\n\n\n\nMargaret Bonds\nMontgomery Variations\n\n\n\nVirgil Thomson\nA Solemn Music\n\n\n\nPaul Hindemith\nSymphonic Metamorphosis\n\n\n\n  \n** SYMPHONIC POPS! **  \nSaturday\, June 1 – 7:30 pm\nSunday\, June 2 – 3:00 pm \nFeaturing Blush Fox Trio \n\n\n\n\nDarius Milhaud\nLa creation du monde (The Creation of the World)\n\n\n\nGeorge Gershwin\nAn American in Paris\n\n\n\nAND songs from the Great American Songbook! \n\n  \n_____________________________________________________________________ \n  \nSupport Rainier Symphony\n  \n\n\n\n\n \n\nYour donation helps keep classical music alive and affordable in South Sound communities.\n\n\n\n\n\n\n 
URL:https://www.tukwilawa.gov/event/rainier-symphony-5/2024-06-02/
LOCATION:Foster High’s Performing Arts Center\, 4242 S 144th St\, Tukwila\, 98188
CATEGORIES:Community Event
GEO:47.4747434;-122.2798545
X-APPLE-STRUCTURED-LOCATION;VALUE=URI;X-ADDRESS=Foster High’s Performing Arts Center 4242 S 144th St Tukwila 98188;X-APPLE-RADIUS=500;X-TITLE=4242 S 144th St:geo:-122.2798545,47.4747434
END:VEVENT
BEGIN:VEVENT
DTSTART;TZID=America/Los_Angeles:20240606T090000
DTEND;TZID=America/Los_Angeles:20240606T150000
DTSTAMP:20260419T194824
CREATED:20240425T181636Z
LAST-MODIFIED:20240425T181948Z
UID:10009777-1717664400-1717686000@www.tukwilawa.gov
SUMMARY:King County Substance Use Conference: A Vision for Hope
DESCRIPTION:Join King County Councilmember Reagan Dunn\, Public Health – Seattle & King County\, the King County Recovery Coalition\, the King County Council\, King County Department of Community and Human Services\, and many others for King County’s 4th Annual Conference on Substance Use – Embracing a vision for hope\, we unite to highlight pathways and opportunities for individuals along their journey of recovery.\nPresenter topics and additional agenda information will be announced soon!\nJune 6\, 2024\n9 am-3 pm (PST)\nHighline College – 2400 S 240th St\, Des Moines\, WA 98198\n\nLinks for virtual and in-person registration are listed below. Please register for only one\, as in-person attendance is limited.\nIN-PERSON ATTENDANCE REGISTRATION\nVIRTUAL ATTENDANCE REGISTRATION\n____________________________________________________________________________\nFor Businesses and Organizations\nWe invite you to host a table at our conference centered around ‘A Vision for Hope’ – supporting individuals on their pathway to recovery. This provides an opportunity to showcase your organization’s programs\, engage with attendees\, and foster hope and understanding. Our community organizations will be tabling the entirety of this event. We eagerly anticipate the prospect of collaborating with you and benefitting from your valuable contributions.\nIf interested\, please complete our online request form\nKeynote Speakers:\n\n\n\n\n\n\n\n\n\n\n \nChris Poulos\nExecutive Director\nCenter for Justice and Human Dignity \n\n\n\nDerrick Belgarde\nExecutive Director\nChief Seattle Club
URL:https://www.tukwilawa.gov/event/king-county-substance-use-conference-a-vision-for-hope/
LOCATION:Highline College\, 2400 S 240th St\, Des Moines\, 98198\, United States
CATEGORIES:Class,Community Event
END:VEVENT
BEGIN:VEVENT
DTSTART;TZID=America/Los_Angeles:20240606T160000
DTEND;TZID=America/Los_Angeles:20240606T180000
DTSTAMP:20260419T194824
CREATED:20240522T223425Z
LAST-MODIFIED:20240522T223702Z
UID:10009843-1717689600-1717696800@www.tukwilawa.gov
SUMMARY:ANEW's Construction Career Fair
DESCRIPTION:ANEW is hosting a Construction Career fair on June 6th and it is open to the public and ANYONE that wants to connect with Apprenticeships and contractors or get started in the construction industry!\n\nReady to get started in the construction industry??  Connect with area pre-apprenticeships\, apprenticeships and contractors looking to hire for their workforce needs!\n\nCity of Tukwila representatives will host a booth.  Join us!\n\nRegistration is encouraged\, here is the link:  https://lp.constantcontactpages.com/ev/reg/ume6a94/lp/3cb71e5c-ec50-4c60-8d6a-91d4cf414b2b
URL:https://www.tukwilawa.gov/event/anews-construction-career-fair/
LOCATION:ANEW Training Center\, 18338 Andover Park W\, Tukwila\, 98188\, United States
CATEGORIES:City Event,Community Event
END:VEVENT
BEGIN:VEVENT
DTSTART;TZID=America/Los_Angeles:20240611T160000
DTEND;TZID=America/Los_Angeles:20240611T190000
DTSTAMP:20260419T194824
CREATED:20240531T161130Z
LAST-MODIFIED:20240531T161227Z
UID:10009863-1718121600-1718132400@www.tukwilawa.gov
SUMMARY:King County Metro Green Jobs Fair
DESCRIPTION:Green Jobs Fair\nHelp the planet and grow your career! \nExplore a wide variety of Metro green jobs\, including entry-level\, apprenticeships and trades positions within bus operations\, light rail\, Street Car\, and Water Taxi.  Opportunities will be highlighted for everyone\, with a special focus on career paths for youth\, women\, BIPOC individuals and job seekers who want to change direction. Participate in mock interviews and application clinics and explore new possibilities with Metro staff. \nAll are welcome!  All job seekers ages 16+ \nClick here to register.\n* Registration is encouraged but not required.
URL:https://www.tukwilawa.gov/event/king-county-metro-green-jobs-fair/
LOCATION:Tukwila Community Center\, 12424 42nd Avenue South \, Tukwila\, WA\, 98168\, United States
CATEGORIES:Community Event
GEO:47.4910019;-122.278439
X-APPLE-STRUCTURED-LOCATION;VALUE=URI;X-ADDRESS=Tukwila Community Center 12424 42nd Avenue South  Tukwila WA 98168 United States;X-APPLE-RADIUS=500;X-TITLE=12424 42nd Avenue South:geo:-122.278439,47.4910019
END:VEVENT
BEGIN:VEVENT
DTSTART;TZID=America/Los_Angeles:20240615T090000
DTEND;TZID=America/Los_Angeles:20240615T160000
DTSTAMP:20260419T194824
CREATED:20240412T185845Z
LAST-MODIFIED:20240412T185845Z
UID:10009757-1718442000-1718467200@www.tukwilawa.gov
SUMMARY:Classic Swagger Car Show
DESCRIPTION:Class Swagger Car Show will be held at Westfield Southcenter Mall parking lot. \nClick here for more information.
URL:https://www.tukwilawa.gov/event/classic-swagger-car-show/
LOCATION:Westfield Southcenter Mall
CATEGORIES:Community Event
END:VEVENT
BEGIN:VEVENT
DTSTART;TZID=America/Los_Angeles:20240615T113000
DTEND;TZID=America/Los_Angeles:20240615T143000
DTSTAMP:20260419T194824
CREATED:20240506T222904Z
LAST-MODIFIED:20240506T224028Z
UID:10009821-1718451000-1718461800@www.tukwilawa.gov
SUMMARY:Community Resource Fair
DESCRIPTION:Serves community members in need of support. Social service providers will be available to help connect attendees with resources such as health care\, education\, legal clinics and more. Reasonable accommodation for people with disabilities is available by request. \n\nTukwila Library \n14380 Tukwila Int’l Blvd \nClick here for information. \n  \nReasonable accommodation for people with disabilities is available by request. Email access@kcls.org at least seven days before the event. Automated closed captioning is always available for online events. \n 
URL:https://www.tukwilawa.gov/event/community-resource-fair-3/2024-06-15/
LOCATION:Tukwila Library\, 14380 Tukwila International Boulevard\, Tukwila\, WA\, United States
CATEGORIES:Community Event
GEO:47.4740802;-122.2844557
X-APPLE-STRUCTURED-LOCATION;VALUE=URI;X-ADDRESS=Tukwila Library 14380 Tukwila International Boulevard Tukwila WA United States;X-APPLE-RADIUS=500;X-TITLE=14380 Tukwila International Boulevard:geo:-122.2844557,47.4740802
END:VEVENT
BEGIN:VEVENT
DTSTART;TZID=America/Los_Angeles:20240617T103000
DTEND;TZID=America/Los_Angeles:20240617T130000
DTSTAMP:20260419T194824
CREATED:20240531T181541Z
LAST-MODIFIED:20240725T173959Z
UID:10009825-1718620200-1718629200@www.tukwilawa.gov
SUMMARY:Neighborhood Legal Clinics Info Session
DESCRIPTION:Have a civil legal issue? Stop by to learn about King County Bar Association’s free Neighborhood Legal Clinics (NLC) program. NLC staff will provide information about the program and may conduct intake screenings and appointment scheduling for prospective clients. \nCan’t make it?  Check the KCLS calendar for alternate dates or visit the NLC website for more information about the program and to apply online. \nPlease note\, the NLC program offers limited legal advice only (no ongoing representation). This is an informational event about the program\, NOT a walk-in legal clinic. Staff cannot give you legal advice at this event. \nAges 18 and older. \nFirst come\, first served. \nReasonable accommodation for people with disabilities is available by request. Email access@kcls.org at least seven days before the event. Automated closed captioning is always available for online events.
URL:https://www.tukwilawa.gov/event/neighborhood-legal-clinics-info-session-2/2024-06-17/
LOCATION:Tukwila Library\, 14380 Tukwila International Boulevard\, Tukwila\, WA\, United States
CATEGORIES:Community Event
GEO:47.4740802;-122.2844557
X-APPLE-STRUCTURED-LOCATION;VALUE=URI;X-ADDRESS=Tukwila Library 14380 Tukwila International Boulevard Tukwila WA United States;X-APPLE-RADIUS=500;X-TITLE=14380 Tukwila International Boulevard:geo:-122.2844557,47.4740802
END:VEVENT
BEGIN:VEVENT
DTSTART;VALUE=DATE:20240625
DTEND;VALUE=DATE:20240626
DTSTAMP:20260419T194824
CREATED:20240628T173925Z
LAST-MODIFIED:20240628T174453Z
UID:10009918-1719273600-1719359999@www.tukwilawa.gov
SUMMARY:Free Summer Meals (Monday-Friday)
DESCRIPTION:FREE SUMMER MEALS FOR AGES 18 AND UNDER!  \nSummer Food Service Program provides free summer meals for children in King County.  Free meals are provided at the following 5 locations! \nClick here for more information. \nSummer Meals Locator:    English     Español    Af Somali    Tiếng Việt \n  \n\n\n\nCASCADE VIEW COMMUNITY PARK  \n14211 37TH Ave S \n  \nJul 10 – Aug 25    Mon – Fri \nLunch:  11:45 AM – 12:45 PM \nSnack:  1:45 PM – 2:00 PM\nFOSTER HIGH SCHOOL  \n4242 S 144th St \n  \nJul 5 – Aug 3    Mon – Thu \nBreakfast:  7:30 AM – 8:00 AM \nLunch:  11:00 AM – 11:30 AM \nTUKWILA ELEMENTARY  \n5939 S 149th St \n  \nJul 5 – Aug 3    Mon – Thu \nBreakfast: 8:30 AM – 9:00 AM \nLunch:  12:00 PM – 12:30 PM \n\n\n\n  \n\n\n\nTUKWILA VILLAGE FARMER’S MARKET  \n14350 Tukwila International Blvd \n  \nJun 21 – Aug 30    Wednesdays \nDinner:  4:30 PM – 6:30 PM  \nHalal friendly options. \nMeals available for caregivers too!\nTUKWILA COMMUNITY CENTER  \n12424 42nd Ave S \n  \nJul 5 – Aug 25    Mon – Fri \nLunch: 11:15 AM – 12:15 PM \nSnack:  3:00 PM – 3:30 PM 
URL:https://www.tukwilawa.gov/event/free-summer-meals-2-2/
LOCATION:WA
CATEGORIES:Community Event,Volunteer Opportunity
END:VEVENT
BEGIN:VEVENT
DTSTART;VALUE=DATE:20240629
DTEND;VALUE=DATE:20240630
DTSTAMP:20260419T194824
CREATED:20230511T223424Z
LAST-MODIFIED:20230511T223426Z
UID:10007235-1719619200-1719705599@www.tukwilawa.gov
SUMMARY:TIBAC Trash Pick Up
DESCRIPTION:Tukwila International Boulevard Action Committee (TIBAC) Trash Pick Up Day \nFor location or information contact Sharon Mann at 206-200-3616. \n  \n 
URL:https://www.tukwilawa.gov/event/tibac-trash-pick-up-5-2-2/2024-06-29/
LOCATION:WA
CATEGORIES:Community Event,Volunteer Opportunity
END:VEVENT
END:VCALENDAR