BEGIN:VCALENDAR
VERSION:2.0
PRODID:-//City of Tukwila - ECPv6.15.20//NONSGML v1.0//EN
CALSCALE:GREGORIAN
METHOD:PUBLISH
X-ORIGINAL-URL:https://www.tukwilawa.gov
X-WR-CALDESC:Events for City of Tukwila
REFRESH-INTERVAL;VALUE=DURATION:PT1H
X-Robots-Tag:noindex
X-PUBLISHED-TTL:PT1H
BEGIN:VTIMEZONE
TZID:America/Los_Angeles
BEGIN:DAYLIGHT
TZOFFSETFROM:-0800
TZOFFSETTO:-0700
TZNAME:PDT
DTSTART:20240310T100000
END:DAYLIGHT
BEGIN:STANDARD
TZOFFSETFROM:-0700
TZOFFSETTO:-0800
TZNAME:PST
DTSTART:20241103T090000
END:STANDARD
BEGIN:DAYLIGHT
TZOFFSETFROM:-0800
TZOFFSETTO:-0700
TZNAME:PDT
DTSTART:20250309T100000
END:DAYLIGHT
BEGIN:STANDARD
TZOFFSETFROM:-0700
TZOFFSETTO:-0800
TZNAME:PST
DTSTART:20251102T090000
END:STANDARD
BEGIN:DAYLIGHT
TZOFFSETFROM:-0800
TZOFFSETTO:-0700
TZNAME:PDT
DTSTART:20260308T100000
END:DAYLIGHT
BEGIN:STANDARD
TZOFFSETFROM:-0700
TZOFFSETTO:-0800
TZNAME:PST
DTSTART:20261101T090000
END:STANDARD
END:VTIMEZONE
BEGIN:VEVENT
DTSTART;TZID=America/Los_Angeles:20250105T080000
DTEND;TZID=America/Los_Angeles:20250105T170000
DTSTAMP:20260423T002243
CREATED:20240801T194947Z
LAST-MODIFIED:20240801T194947Z
UID:10010275-1736064000-1736096400@www.tukwilawa.gov
SUMMARY:Give Blood to Save 3 Lives
DESCRIPTION:You’re the type to help save lives.\nDONATE BLOOD WITH BLOODWORKS AND FILL OUT THE ENTRY FORM TO WIN A BIG PRIZE THIS MONTH! \nEvery two seconds in the United States\, someone needs blood. No matter who you are\, you can help. Here are what types of blood we most urgently need right now. \nYour donation is critical! To schedule an appointment\, call 1-800-398-7888. \nClick here for more information and to schedule an appointment online. \n  \nBLOODWORKS DONATION CENTER \n660 SW 39TH ST #100\, RENTON  (1 block from IKEA) \n  \nYou can also donate umbilical cord blood after the birth of your baby to save a life. \nClick here for information.
URL:https://www.tukwilawa.gov/event/give-blood-to-save-3-lives-3/2025-01-05/
LOCATION:Bloodworks Donation Center\, 660 SW 39TH ST #100\, Renton
CATEGORIES:Community Event,Volunteer Opportunity
END:VEVENT
BEGIN:VEVENT
DTSTART;TZID=America/Los_Angeles:20250107T120000
DTEND;TZID=America/Los_Angeles:20250107T140000
DTSTAMP:20260423T002243
CREATED:20250103T220105Z
LAST-MODIFIED:20250106T223202Z
UID:10012926-1736251200-1736258400@www.tukwilawa.gov
SUMMARY:Feedback on King County Metro's Proposed South Link Connections
DESCRIPTION:Have feedback or questions on our proposed South Link Connections plans?  Please register for an online info session.  Register at: https://bit.ly/4d2vb7t \n  \nVirtual Open House #1 \nJan 7\, 2025\, 12:00 PM \n\nVirtual Open House #2 \nJan 25\, 2025\, 10:00 AM \n\nVirtual Open House #3 \nFeb 10\, 2025\, 6:00 PM \n  \n  \nOTHER LANGUAGES AVAILABLE: \n– አማርኛ (Amharic):   https://bit.ly/49Gqa3m \n– العربية (Arabic)  : https://bit.ly/3DgL6Su \n– 简体中文 (Simplified Chinese):   https://bit.ly/3ZZ7msX \n– 官話 (Traditional Chinese):   https://bit.ly/3BAFB0s \n– دری (Dari)  : https://bit.ly/3ZXMu59 \n– Français (French):   https://bit.ly/3VJEW3k \n– 한국어 (Korean):   https://bit.ly/3VIsYXO \n– Русский (Russian):   https://bit.ly/3ZW0xbv \n– af Soomaali (Somali):   https://bit.ly/3ZFtwyX \n– Español (Spanish):   https://bit.ly/3ZWgMp2 \n– Wikang Tagalog/Filipino (Tagalog/Filipino):   https://bit.ly/3ZYmUgA \n– ትግርኛ (Tigrinya):   https://bit.ly/3ZZMUrC \n– Українська (Ukrainian):   https://bit.ly/49EYUCl \n– Tiếng Việt (Vietnamese):   https://bit.ly/3VMVKGP \n 
URL:https://www.tukwilawa.gov/event/your-feedback-needed-king-county-metros-proposed-south-link-connections/2025-01-07/
LOCATION:Virtual/Online\, United States
CATEGORIES:Community Event
END:VEVENT
BEGIN:VEVENT
DTSTART;TZID=America/Los_Angeles:20250108T183000
DTEND;TZID=America/Los_Angeles:20250108T200000
DTSTAMP:20260423T002243
CREATED:20241119T170156Z
LAST-MODIFIED:20241119T170156Z
UID:10012658-1736361000-1736366400@www.tukwilawa.gov
SUMMARY:Info & Help Session: Wetlands\, Trees\, Shoreline\, Streams & Slopes!
DESCRIPTION:Do you have questions? City Staff will be on hand to answer them – learn about critical area regulations\, resources available and stewardship techniques. Tukwila is home to many wetlands\, streams\, shorelines\, springs and steep slopes – drop in to find out more from the Department of Community Development’s Urban Environmental Specialist and Associate Planner. \nEvent will take place at the Tukwila Community Center  in Meeting Room A on January 8\, 2025 from 6:30pm to 8:30pm
URL:https://www.tukwilawa.gov/event/info-help-session-wetlands-trees-shoreline-streams-slopes/
LOCATION:Tukwila Community Center\, 12424 42nd Avenue South \, Tukwila\, WA\, 98168\, United States
CATEGORIES:Class,Community Event
GEO:47.4910019;-122.278439
X-APPLE-STRUCTURED-LOCATION;VALUE=URI;X-ADDRESS=Tukwila Community Center 12424 42nd Avenue South  Tukwila WA 98168 United States;X-APPLE-RADIUS=500;X-TITLE=12424 42nd Avenue South:geo:-122.278439,47.4910019
END:VEVENT
BEGIN:VEVENT
DTSTART;TZID=America/Los_Angeles:20250111T130000
DTEND;TZID=America/Los_Angeles:20250111T190000
DTSTAMP:20260423T002243
CREATED:20241218T000214Z
LAST-MODIFIED:20241227T181737Z
UID:10012821-1736600400-1736622000@www.tukwilawa.gov
SUMMARY:2025 Charity Cup - South Sound Police vs Puget Sound Fire
DESCRIPTION:January 11\, 2025 \n1:00 PM Charity Cup  \nfollowed by 6:00 PM Thunderbirds Game (included) \n  \nOn Saturday\,  \, \, the Seattle Thunderbirds will be hosting a    . For this event\, a  .     will take place before the Thunderbirds take to the ice. For this charity game\, the Puget Sound Fire/EMS Hockey Club will take on the South Sound LawDogs from Pierce County.Purchasing a ticket will get you into the charity hockey game at 1:00 pm as well as the Thunderbirds vs. Silvertips at 6:05 pm. Tickets are being offered at the group rate of $33.45 which includes the processing fee. If you purchase a ticket using one of the charity team links a portion of that ticket cost will go back to the selected charity.To support the Puget Sound Firefighters Foundation\, please use this link with the password:  FIREhttps://tickets.seattlethunderbirds.com/PremiumTickets…To support the Behind the Badge Foundation\,  please use this link with the password: POLICEhttps://tickets.seattlethunderbirds.com/PremiumTickets… \n  \n  \n 
URL:https://www.tukwilawa.gov/event/2025-charity-cup-south-sound-police-vs-puget-sound-fire/
LOCATION:ShoWare Arena\, 625 W James St\, Kent\, WA\, 98032
CATEGORIES:Community Event
END:VEVENT
BEGIN:VEVENT
DTSTART;TZID=America/Los_Angeles:20250112T080000
DTEND;TZID=America/Los_Angeles:20250112T170000
DTSTAMP:20260423T002243
CREATED:20240801T194947Z
LAST-MODIFIED:20240801T194947Z
UID:10010276-1736668800-1736701200@www.tukwilawa.gov
SUMMARY:Give Blood to Save 3 Lives
DESCRIPTION:You’re the type to help save lives.\nDONATE BLOOD WITH BLOODWORKS AND FILL OUT THE ENTRY FORM TO WIN A BIG PRIZE THIS MONTH! \nEvery two seconds in the United States\, someone needs blood. No matter who you are\, you can help. Here are what types of blood we most urgently need right now. \nYour donation is critical! To schedule an appointment\, call 1-800-398-7888. \nClick here for more information and to schedule an appointment online. \n  \nBLOODWORKS DONATION CENTER \n660 SW 39TH ST #100\, RENTON  (1 block from IKEA) \n  \nYou can also donate umbilical cord blood after the birth of your baby to save a life. \nClick here for information.
URL:https://www.tukwilawa.gov/event/give-blood-to-save-3-lives-3/2025-01-12/
LOCATION:Bloodworks Donation Center\, 660 SW 39TH ST #100\, Renton
CATEGORIES:Community Event,Volunteer Opportunity
END:VEVENT
BEGIN:VEVENT
DTSTART;TZID=America/Los_Angeles:20250119T080000
DTEND;TZID=America/Los_Angeles:20250119T170000
DTSTAMP:20260423T002243
CREATED:20240801T194947Z
LAST-MODIFIED:20240801T194947Z
UID:10010277-1737273600-1737306000@www.tukwilawa.gov
SUMMARY:Give Blood to Save 3 Lives
DESCRIPTION:You’re the type to help save lives.\nDONATE BLOOD WITH BLOODWORKS AND FILL OUT THE ENTRY FORM TO WIN A BIG PRIZE THIS MONTH! \nEvery two seconds in the United States\, someone needs blood. No matter who you are\, you can help. Here are what types of blood we most urgently need right now. \nYour donation is critical! To schedule an appointment\, call 1-800-398-7888. \nClick here for more information and to schedule an appointment online. \n  \nBLOODWORKS DONATION CENTER \n660 SW 39TH ST #100\, RENTON  (1 block from IKEA) \n  \nYou can also donate umbilical cord blood after the birth of your baby to save a life. \nClick here for information.
URL:https://www.tukwilawa.gov/event/give-blood-to-save-3-lives-3/2025-01-19/
LOCATION:Bloodworks Donation Center\, 660 SW 39TH ST #100\, Renton
CATEGORIES:Community Event,Volunteer Opportunity
END:VEVENT
BEGIN:VEVENT
DTSTART;TZID=America/Los_Angeles:20250125T100000
DTEND;TZID=America/Los_Angeles:20250125T120000
DTSTAMP:20260423T002243
CREATED:20250103T220105Z
LAST-MODIFIED:20250106T223202Z
UID:10012927-1737799200-1737806400@www.tukwilawa.gov
SUMMARY:Feedback on King County Metro's Proposed South Link Connections
DESCRIPTION:Have feedback or questions on our proposed South Link Connections plans?  Please register for an online info session.  Register at: https://bit.ly/4d2vb7t \n  \nVirtual Open House #1 \nJan 7\, 2025\, 12:00 PM \n\nVirtual Open House #2 \nJan 25\, 2025\, 10:00 AM \n\nVirtual Open House #3 \nFeb 10\, 2025\, 6:00 PM \n  \n  \nOTHER LANGUAGES AVAILABLE: \n– አማርኛ (Amharic):   https://bit.ly/49Gqa3m \n– العربية (Arabic)  : https://bit.ly/3DgL6Su \n– 简体中文 (Simplified Chinese):   https://bit.ly/3ZZ7msX \n– 官話 (Traditional Chinese):   https://bit.ly/3BAFB0s \n– دری (Dari)  : https://bit.ly/3ZXMu59 \n– Français (French):   https://bit.ly/3VJEW3k \n– 한국어 (Korean):   https://bit.ly/3VIsYXO \n– Русский (Russian):   https://bit.ly/3ZW0xbv \n– af Soomaali (Somali):   https://bit.ly/3ZFtwyX \n– Español (Spanish):   https://bit.ly/3ZWgMp2 \n– Wikang Tagalog/Filipino (Tagalog/Filipino):   https://bit.ly/3ZYmUgA \n– ትግርኛ (Tigrinya):   https://bit.ly/3ZZMUrC \n– Українська (Ukrainian):   https://bit.ly/49EYUCl \n– Tiếng Việt (Vietnamese):   https://bit.ly/3VMVKGP \n 
URL:https://www.tukwilawa.gov/event/your-feedback-needed-king-county-metros-proposed-south-link-connections/2025-01-25/
LOCATION:Virtual/Online\, United States
CATEGORIES:Community Event
END:VEVENT
BEGIN:VEVENT
DTSTART;TZID=America/Los_Angeles:20250126T080000
DTEND;TZID=America/Los_Angeles:20250126T170000
DTSTAMP:20260423T002243
CREATED:20240801T194947Z
LAST-MODIFIED:20240801T194947Z
UID:10010278-1737878400-1737910800@www.tukwilawa.gov
SUMMARY:Give Blood to Save 3 Lives
DESCRIPTION:You’re the type to help save lives.\nDONATE BLOOD WITH BLOODWORKS AND FILL OUT THE ENTRY FORM TO WIN A BIG PRIZE THIS MONTH! \nEvery two seconds in the United States\, someone needs blood. No matter who you are\, you can help. Here are what types of blood we most urgently need right now. \nYour donation is critical! To schedule an appointment\, call 1-800-398-7888. \nClick here for more information and to schedule an appointment online. \n  \nBLOODWORKS DONATION CENTER \n660 SW 39TH ST #100\, RENTON  (1 block from IKEA) \n  \nYou can also donate umbilical cord blood after the birth of your baby to save a life. \nClick here for information.
URL:https://www.tukwilawa.gov/event/give-blood-to-save-3-lives-3/2025-01-26/
LOCATION:Bloodworks Donation Center\, 660 SW 39TH ST #100\, Renton
CATEGORIES:Community Event,Volunteer Opportunity
END:VEVENT
BEGIN:VEVENT
DTSTART;TZID=America/Los_Angeles:20250128T190000
DTEND;TZID=America/Los_Angeles:20250128T210000
DTSTAMP:20260423T002243
CREATED:20241227T165320Z
LAST-MODIFIED:20241227T165358Z
UID:10012822-1738090800-1738098000@www.tukwilawa.gov
SUMMARY:Sound Transit Open House - Boeing Access Road Infill Station Project
DESCRIPTION:Join Sound Transit to learn more about the Boeing Access Road Infill Station project\, including information about the station location\, next steps\, and how you can get involved in the project. Bring your questions\, concerns\, and ideas about the station”. \n  \nTuesday\, January 28 \n7:00 P.M. (doors open at 6:45 P.M.) \nTukwila Community Center – Social Hall
URL:https://www.tukwilawa.gov/event/sound-transit-open-house-boeing-access-road-infill-station-project/
LOCATION:Tukwila Community Center\, 12424 42nd Avenue South \, Tukwila\, WA\, 98168\, United States
CATEGORIES:Community Event
GEO:47.4910019;-122.278439
X-APPLE-STRUCTURED-LOCATION;VALUE=URI;X-ADDRESS=Tukwila Community Center 12424 42nd Avenue South  Tukwila WA 98168 United States;X-APPLE-RADIUS=500;X-TITLE=12424 42nd Avenue South:geo:-122.278439,47.4910019
END:VEVENT
BEGIN:VEVENT
DTSTART;TZID=America/Los_Angeles:20250131T080000
DTEND;TZID=America/Los_Angeles:20250131T170000
DTSTAMP:20260423T002243
CREATED:20250128T172804Z
LAST-MODIFIED:20250128T172804Z
UID:10013016-1738310400-1738342800@www.tukwilawa.gov
SUMMARY:Petition for Adjustment of Fire Benefit Charges Due Today
DESCRIPTION:Deadline to file a Petition for Adjustment of Fire Benefit Charges is January 31\, 2025 \n\n\n\nEffective January 1\, 2025 the City of Tukwila fully annexed our Fire Department into the Puget Sound Fire service area. This month\, property owners received a notice from Puget Sound Fire regarding the Fire Benefit Charge\, which is part of a two-part funding system that helps ensure growing communities maintain high quality fire and life safety services. The fee is included in your property tax payable to King County. \nAs part of the Fire Benefit Charge legislation\, property owners are afforded the opportunity to file a Petition for Adjustment of Fire Benefit Charges (FBC) each year.  Adjustments could include having a fire suppression system or other factors that might lower your fire risk and thus may possibly reduce what you pay for the Fire Benefit Charge. Information on the charge and how to file a petition for adjustments can be found on the Puget Sound Fire website. \nPetitions for adjustments must be filed no later than 4:30 P.M. January 31\, 2025.
URL:https://www.tukwilawa.gov/event/petition-for-adjustment-of-fire-benefit-charges-due-today/
LOCATION:Virtual/Online\, United States
CATEGORIES:Community Event
END:VEVENT
END:VCALENDAR