BEGIN:VCALENDAR
VERSION:2.0
PRODID:-//City of Tukwila - ECPv6.15.20//NONSGML v1.0//EN
CALSCALE:GREGORIAN
METHOD:PUBLISH
X-WR-CALNAME:City of Tukwila
X-ORIGINAL-URL:https://www.tukwilawa.gov
X-WR-CALDESC:Events for City of Tukwila
REFRESH-INTERVAL;VALUE=DURATION:PT1H
X-Robots-Tag:noindex
X-PUBLISHED-TTL:PT1H
BEGIN:VTIMEZONE
TZID:America/Los_Angeles
BEGIN:DAYLIGHT
TZOFFSETFROM:-0800
TZOFFSETTO:-0700
TZNAME:PDT
DTSTART:20240310T100000
END:DAYLIGHT
BEGIN:STANDARD
TZOFFSETFROM:-0700
TZOFFSETTO:-0800
TZNAME:PST
DTSTART:20241103T090000
END:STANDARD
BEGIN:DAYLIGHT
TZOFFSETFROM:-0800
TZOFFSETTO:-0700
TZNAME:PDT
DTSTART:20250309T100000
END:DAYLIGHT
BEGIN:STANDARD
TZOFFSETFROM:-0700
TZOFFSETTO:-0800
TZNAME:PST
DTSTART:20251102T090000
END:STANDARD
BEGIN:DAYLIGHT
TZOFFSETFROM:-0800
TZOFFSETTO:-0700
TZNAME:PDT
DTSTART:20260308T100000
END:DAYLIGHT
BEGIN:STANDARD
TZOFFSETFROM:-0700
TZOFFSETTO:-0800
TZNAME:PST
DTSTART:20261101T090000
END:STANDARD
END:VTIMEZONE
BEGIN:VEVENT
DTSTART;TZID=America/Los_Angeles:20250201T110000
DTEND;TZID=America/Los_Angeles:20250201T150000
DTSTAMP:20260423T222214
CREATED:20241227T185159Z
LAST-MODIFIED:20241227T185159Z
UID:10012823-1738407600-1738422000@www.tukwilawa.gov
SUMMARY:Lunar New Year Celebration - Westfield Southcenter Mall
DESCRIPTION:Celebrate Lunar New Year 2025 at Westfield Southcenter!\n\n\nSaturday\, February 1\, 2025 \n11:00 AM – 3:00 PM\nRing in the Year of the Snake with a vibrant celebration filled with tradition\, culture\, and fun for the whole family! From dazzling lion dances to cultural performances and interactive activities\, there’s something for everyone to enjoy. \nEvent Highlights \nLion Dance  – Experience the excitement of the Lion Dance as it winds through the mall. \n🎶 Live Cultural Performances – Enjoy traditional music\, dance\, and storytelling at Macy’s Court. \n🖋️ Calligraphy & Astrology Readings – Discover your fortune for the year ahead. \n🌳 Wishing Tree Dedication – Make a wish and place it on our Wishing Tree for good luck and prosperity. \n🎁 Spin the Wheel of Fortune – Try your luck to win prizes and gift cards from top retailers! \n  \nSchedule of Events \nComing Soon! \nShop & Earn Big Rewards! \nCelebrate and shop with our Gift with Purchase program: \nDetails Coming Soon! \n  \nDon’t miss this unforgettable Lunar New Year celebration! Bring your family and friends to Westfield Southcenter on February 1\, 2025 and start the Year of the Snake with joy\, luck\, and prosperity. \nSave the date – It’s a celebration you won’t want to miss! \nStreet Team Fortune Cookie Offer Giveaways  \nDetails Coming Soon! \n\n\n✔️ Click here for updates:    https://www.westfield.com/united-states/southcenter/events-detail/lunar-new-year-2025
URL:https://www.tukwilawa.gov/event/lunar-new-year-celebration-westfield-southcenter-mall/
LOCATION:Westfield Southcenter Mall
CATEGORIES:Community Event
END:VEVENT
BEGIN:VEVENT
DTSTART;TZID=America/Los_Angeles:20250202T080000
DTEND;TZID=America/Los_Angeles:20250202T170000
DTSTAMP:20260423T222214
CREATED:20240801T194947Z
LAST-MODIFIED:20240801T194947Z
UID:10010279-1738483200-1738515600@www.tukwilawa.gov
SUMMARY:Give Blood to Save 3 Lives
DESCRIPTION:You’re the type to help save lives.\nDONATE BLOOD WITH BLOODWORKS AND FILL OUT THE ENTRY FORM TO WIN A BIG PRIZE THIS MONTH! \nEvery two seconds in the United States\, someone needs blood. No matter who you are\, you can help. Here are what types of blood we most urgently need right now. \nYour donation is critical! To schedule an appointment\, call 1-800-398-7888. \nClick here for more information and to schedule an appointment online. \n  \nBLOODWORKS DONATION CENTER \n660 SW 39TH ST #100\, RENTON  (1 block from IKEA) \n  \nYou can also donate umbilical cord blood after the birth of your baby to save a life. \nClick here for information.
URL:https://www.tukwilawa.gov/event/give-blood-to-save-3-lives-3/2025-02-02/
LOCATION:Bloodworks Donation Center\, 660 SW 39TH ST #100\, Renton
CATEGORIES:Community Event,Volunteer Opportunity
END:VEVENT
BEGIN:VEVENT
DTSTART;TZID=America/Los_Angeles:20250206T170000
DTEND;TZID=America/Los_Angeles:20250206T210000
DTSTAMP:20260423T222214
CREATED:20240903T180127Z
LAST-MODIFIED:20240903T180127Z
UID:10010374-1738861200-1738875600@www.tukwilawa.gov
SUMMARY:Museum of Flight - Free Admission 5pm-9pm
DESCRIPTION:On the first Thursday of each month\, the Museum stays open late – and admission is FREE.  \nEnjoy the Museum’s Great Gallery\, Personal Courage Wing\, Simonyi Space Gallery\, Aviation Pavilion and more from 5:00 PM to 9:00 PM. The Museum Store and Café also remain open for extended hours. \nEach month\, we host local aerospace and technology organizations to: \n\nShare their resources and services\nShowcase their cutting edge technologies and 21st century skills\nProvide innovative and interactive hands-on experiences.\n\nIn addition\, we offer opportunities for visitors and families to engage with: \n\nScience\, Technology\, Engineering\, and Mathematics (STEM)\nExperience aerospace topics in fun and surprising ways with our popular family workshops.\n\nReservations are not required. Arrive anytime* between 5:00 PM and 9:00 PM. *If you arrive before 5:00 PM\, you will need to purchase admission. \n\nDelta Air Lines is the 2024 Sponsor of Free First Thursdays
URL:https://www.tukwilawa.gov/event/museum-of-flight-free-admission-5pm-9pm/2025-02-06/
LOCATION:Museum of Flight\, 9404 East Marginal Way South\, Seattle\, WA\, 98108\, United States
CATEGORIES:Community Event
GEO:47.5182137;-122.2966729
X-APPLE-STRUCTURED-LOCATION;VALUE=URI;X-ADDRESS=Museum of Flight 9404 East Marginal Way South Seattle WA 98108 United States;X-APPLE-RADIUS=500;X-TITLE=9404 East Marginal Way South:geo:-122.2966729,47.5182137
END:VEVENT
BEGIN:VEVENT
DTSTART;TZID=America/Los_Angeles:20250209T080000
DTEND;TZID=America/Los_Angeles:20250209T170000
DTSTAMP:20260423T222214
CREATED:20240801T194947Z
LAST-MODIFIED:20240801T194947Z
UID:10010280-1739088000-1739120400@www.tukwilawa.gov
SUMMARY:Give Blood to Save 3 Lives
DESCRIPTION:You’re the type to help save lives.\nDONATE BLOOD WITH BLOODWORKS AND FILL OUT THE ENTRY FORM TO WIN A BIG PRIZE THIS MONTH! \nEvery two seconds in the United States\, someone needs blood. No matter who you are\, you can help. Here are what types of blood we most urgently need right now. \nYour donation is critical! To schedule an appointment\, call 1-800-398-7888. \nClick here for more information and to schedule an appointment online. \n  \nBLOODWORKS DONATION CENTER \n660 SW 39TH ST #100\, RENTON  (1 block from IKEA) \n  \nYou can also donate umbilical cord blood after the birth of your baby to save a life. \nClick here for information.
URL:https://www.tukwilawa.gov/event/give-blood-to-save-3-lives-3/2025-02-09/
LOCATION:Bloodworks Donation Center\, 660 SW 39TH ST #100\, Renton
CATEGORIES:Community Event,Volunteer Opportunity
END:VEVENT
BEGIN:VEVENT
DTSTART;TZID=America/Los_Angeles:20250210T180000
DTEND;TZID=America/Los_Angeles:20250210T200000
DTSTAMP:20260423T222214
CREATED:20250103T220105Z
LAST-MODIFIED:20250106T223202Z
UID:10012928-1739210400-1739217600@www.tukwilawa.gov
SUMMARY:Feedback on King County Metro's Proposed South Link Connections
DESCRIPTION:Have feedback or questions on our proposed South Link Connections plans?  Please register for an online info session.  Register at: https://bit.ly/4d2vb7t \n  \nVirtual Open House #1 \nJan 7\, 2025\, 12:00 PM \n\nVirtual Open House #2 \nJan 25\, 2025\, 10:00 AM \n\nVirtual Open House #3 \nFeb 10\, 2025\, 6:00 PM \n  \n  \nOTHER LANGUAGES AVAILABLE: \n– አማርኛ (Amharic):   https://bit.ly/49Gqa3m \n– العربية (Arabic)  : https://bit.ly/3DgL6Su \n– 简体中文 (Simplified Chinese):   https://bit.ly/3ZZ7msX \n– 官話 (Traditional Chinese):   https://bit.ly/3BAFB0s \n– دری (Dari)  : https://bit.ly/3ZXMu59 \n– Français (French):   https://bit.ly/3VJEW3k \n– 한국어 (Korean):   https://bit.ly/3VIsYXO \n– Русский (Russian):   https://bit.ly/3ZW0xbv \n– af Soomaali (Somali):   https://bit.ly/3ZFtwyX \n– Español (Spanish):   https://bit.ly/3ZWgMp2 \n– Wikang Tagalog/Filipino (Tagalog/Filipino):   https://bit.ly/3ZYmUgA \n– ትግርኛ (Tigrinya):   https://bit.ly/3ZZMUrC \n– Українська (Ukrainian):   https://bit.ly/49EYUCl \n– Tiếng Việt (Vietnamese):   https://bit.ly/3VMVKGP \n 
URL:https://www.tukwilawa.gov/event/your-feedback-needed-king-county-metros-proposed-south-link-connections/2025-02-10/
LOCATION:Virtual/Online\, United States
CATEGORIES:Community Event
END:VEVENT
BEGIN:VEVENT
DTSTART;TZID=America/Los_Angeles:20250213T100000
DTEND;TZID=America/Los_Angeles:20250213T160000
DTSTAMP:20260423T222214
CREATED:20250128T195010Z
LAST-MODIFIED:20250128T195119Z
UID:10014061-1739440800-1739462400@www.tukwilawa.gov
SUMMARY:City of Tukwila Blood Drive
DESCRIPTION:February is Heart Health Month—a perfect time to care for yourself and others. Did you know 1 in 2 U.S. adults has high blood pressure\, and 1 in 7 hospital patients needs a blood transfusion? Here’s how you can make a difference: donate blood with Bloodworks Northwest. Each blood donation includes a quick health check\, where you can monitor your blood pressure and pulse over time. You can donate every 56 days\, and the process only takes about an hour\, including registration\, the health check\, a 10-minute donation\, and a post-donation snack. Your donation helps local patients battling cancer\, recovering from surgeries\, or facing emergencies. Right now\, there’s an urgent need for donors of all blood types\, especially those with Type O blood. Honor your heart and save lives—schedule your blood donation today. \n  \n 
URL:https://www.tukwilawa.gov/event/city-of-tukwila-blood-drive-4/
LOCATION:City Hall – Council Chamber\, 6200 Southcenter Boulevard\, Tukwila\, WA\, 98188\, United States
CATEGORIES:Community Event
ORGANIZER;CN="Laurel Humphrey":MAILTO:citycouncil@tukwilawa.gov
GEO:47.4631345;-122.2555662
X-APPLE-STRUCTURED-LOCATION;VALUE=URI;X-ADDRESS=City Hall – Council Chamber 6200 Southcenter Boulevard Tukwila WA 98188 United States;X-APPLE-RADIUS=500;X-TITLE=6200 Southcenter Boulevard:geo:-122.2555662,47.4631345
END:VEVENT
BEGIN:VEVENT
DTSTART;TZID=America/Los_Angeles:20250215T113000
DTEND;TZID=America/Los_Angeles:20250215T143000
DTSTAMP:20260423T222214
CREATED:20250131T201515Z
LAST-MODIFIED:20250131T201515Z
UID:10014076-1739619000-1739629800@www.tukwilawa.gov
SUMMARY:Community Resource Fair
DESCRIPTION:Come for a resource fair serving community members in need of support. Social service providers will be available to help connect attendees with resources such as healthcare\, education\, legal clinics and more! \nRegistration not required. \nReasonable accommodation for people with disabilities is available by request. Email access@kcls.org at least seven days before the event. Automated closed captioning is always available for online events. \n  \n** See other events and fun activities at the Tukwila Library.   Click here for information.   
URL:https://www.tukwilawa.gov/event/community-resource-fair-6/2025-02-15/
LOCATION:Tukwila Library\, 14380 Tukwila International Boulevard\, Tukwila\, WA\, United States
CATEGORIES:Community Event
GEO:47.4740802;-122.2844557
X-APPLE-STRUCTURED-LOCATION;VALUE=URI;X-ADDRESS=Tukwila Library 14380 Tukwila International Boulevard Tukwila WA United States;X-APPLE-RADIUS=500;X-TITLE=14380 Tukwila International Boulevard:geo:-122.2844557,47.4740802
END:VEVENT
BEGIN:VEVENT
DTSTART;TZID=America/Los_Angeles:20250216T080000
DTEND;TZID=America/Los_Angeles:20250216T170000
DTSTAMP:20260423T222214
CREATED:20240801T194947Z
LAST-MODIFIED:20240801T194947Z
UID:10010281-1739692800-1739725200@www.tukwilawa.gov
SUMMARY:Give Blood to Save 3 Lives
DESCRIPTION:You’re the type to help save lives.\nDONATE BLOOD WITH BLOODWORKS AND FILL OUT THE ENTRY FORM TO WIN A BIG PRIZE THIS MONTH! \nEvery two seconds in the United States\, someone needs blood. No matter who you are\, you can help. Here are what types of blood we most urgently need right now. \nYour donation is critical! To schedule an appointment\, call 1-800-398-7888. \nClick here for more information and to schedule an appointment online. \n  \nBLOODWORKS DONATION CENTER \n660 SW 39TH ST #100\, RENTON  (1 block from IKEA) \n  \nYou can also donate umbilical cord blood after the birth of your baby to save a life. \nClick here for information.
URL:https://www.tukwilawa.gov/event/give-blood-to-save-3-lives-3/2025-02-16/
LOCATION:Bloodworks Donation Center\, 660 SW 39TH ST #100\, Renton
CATEGORIES:Community Event,Volunteer Opportunity
END:VEVENT
BEGIN:VEVENT
DTSTART;TZID=America/Los_Angeles:20250217T080000
DTEND;TZID=America/Los_Angeles:20250217T170000
DTSTAMP:20260423T222214
CREATED:20250127T184724Z
LAST-MODIFIED:20250127T185056Z
UID:10013013-1739779200-1739811600@www.tukwilawa.gov
SUMMARY:Free Community Emergency Response Team Training - Registration is open
DESCRIPTION:Make a Difference in Your Community!\nYou can make a difference in our community by using the CERT training we offer to save lives and protect property. \nOn a normal day\, emergency services personnel are the best trained and equipped to handle emergencies\, and we all count on them for their expertise. However\, following a catastrophic disaster\, emergency response personnel may not be able to help everyone immediately\, because of the size of the area affected\, loss of communications\, and impassable roads. \nThe Puget Sound Fire CERT program serves the areas of Covington\, Kent\, Maple Valley\, SeaTac/Burien\, Tukwila\, Fire District #37\, and Fire District #43. \nCERT Basic Training\nPuget Sound Fire invites those who live or work in Covington\, Kent\, SeaTac/Burien\, Maple Valley\, Tukwila\, Fire District #37 and Fire District #43 to attend our next session of CERT Basic Training. The CERT curriculum includes: \n\nDisaster Preparedness\nCERT Organization\nDisaster Medical Operations – Part 1\nDisaster Medical Operations – Part 2\nDisaster Psychology\nFire Safety and Utility Controls\nLight Search and Rescue Operations\nTerrorism and CERT\nCourse Review and Disaster Simulation\n\nStudents will complete an in-person skills check to practice skills such as fire suppression\, basic medical aid\, and light search and rescue. If you miss a class\, you will need to work with your instructor to make it up. \nAbout CERT\nThe  CERT concept was developed and implemented by the Los Angeles City Fire Department in 1985. CERT became a national program in 1993. There are now CERT programs in all 50 states\, including many tribal nations and U.S. territories. Each is unique to its community. The CERT program offers a consistent\, nationwide approach to volunteer training and organization. \nUpcoming Spring 2025 Session\nRegistration for the Spring 2025 CERT Basic Training session that begin on March 19 will open on Monday February 17. Classes are available afternoons (1:00-4:30pm) or evenings (6:00-9:30pm)\, and will be held at two locations: Station 73 on the West Hill and Station 74 on the East Hill. \nThe CERT Basic Training is free but registration is required as class sizes are limited. \n✔️ Click here to register:  https://pugetsoundfire.org/emergency-management/community-emergency-response-team-cert/
URL:https://www.tukwilawa.gov/event/free-community-emergency-response-team-training/2025-02-17/
LOCATION:Puget Sound Fire Station 73\, 26512 Military Rd S\, Kent\, WA\, United States
CATEGORIES:Class,Community Event
END:VEVENT
BEGIN:VEVENT
DTSTART;TZID=America/Los_Angeles:20250222T193000
DTEND;TZID=America/Los_Angeles:20250222T213000
DTSTAMP:20260423T222214
CREATED:20240820T173803Z
LAST-MODIFIED:20240820T173842Z
UID:10010345-1740252600-1740259800@www.tukwilawa.gov
SUMMARY:Rainier Symphony Concert
DESCRIPTION:Season 2024/2025 Program for Rainier Symphony\n** Buy tickets here – https://www.rainiersymphony.org/tickets.shtml **\n  \nClassics Concert\nSaturday\, October 5 – 7:30 pm\nSunday\, October 6 – 3:00 pm \n\n\n\n\nGioachino Rossini\nL’italiana in Algeri\n\n\n\nRichard Wagner\nSiegfried Idyll\n\n\n\nLudwig von Beethoven\nSymphony No. 7\n\n\n\n  \nClassics Concert\nSaturday\, November 16 – 7:30 pm\nSunday\, November 17 – 3:00 pm \n\n\n\n\nRobert Schumann\nManfred Overture\n\n\n\nRichard Strauss\nSong Cycles\n\n\n\nEdward Elgar\nCello Concerto\n\n\n\nHector Berlioz\nLa Captive\n\n\n\n  \nHoliday Concert\nSaturday\, December 14 – 7:30 pm\nSunday\, December 15 – 3:00 pm \nCelebrate the season with traditional holiday favorites and carols the entire family is sure to enjoy! \n  \nClassics Concert\nSaturday\, February 22 – 7:30 pm\nSunday\, February 23 – 3:00 pm \n\n\n\n\nGiuseppe Verdi\nLa Forza del Destino\n\n\n\nHenri Tomasi\nTrombone Concerto\n\n\n\nFlorence Price\nSymphony No. 1\n\n\n\n  \nClassics Concert\nSaturday\, April 12 – 7:30 pm\nSunday\, April 13 – 3:00 pm \n\n\n\n\nNikolai Rimsky-Korsakov\nSuite from Mlada\n\n\n\nSamuel Coleridge-Taylor\nIdyll for Orchestra\n\n\n\nSergei Prokofiev\nSymphony No. 5\n\n\n\n  \nSymphonic Pops!\nSaturday\, May 31 – 7:30 pm\nSunday\, June 1 – 3:00 pm \n\n\n\n\nJohn Williams arr. Custer\nHighlights from Jurassic Park\n\n\n\nHans Zimmer\, arr. Wasson\nMusic from Gladiator\n\n\n\nDanny Elfman\, arr. Wasson\nSpiderman\n\n\n\nJohn Williams\nStar Wars Suite\n\n\n\n  \nSupport Rainier Symphony\n\n\n\n\n \n\nYour donation helps keep classical music alive and affordable in South Sound communities.
URL:https://www.tukwilawa.gov/event/42713/2025-02-22/
LOCATION:Foster High’s Performing Arts Center\, 4242 S 144th St\, Tukwila\, 98188
CATEGORIES:Community Event
GEO:47.4747434;-122.2798545
X-APPLE-STRUCTURED-LOCATION;VALUE=URI;X-ADDRESS=Foster High’s Performing Arts Center 4242 S 144th St Tukwila 98188;X-APPLE-RADIUS=500;X-TITLE=4242 S 144th St:geo:-122.2798545,47.4747434
END:VEVENT
BEGIN:VEVENT
DTSTART;TZID=America/Los_Angeles:20250223T080000
DTEND;TZID=America/Los_Angeles:20250223T170000
DTSTAMP:20260423T222214
CREATED:20240801T194947Z
LAST-MODIFIED:20240801T194947Z
UID:10010282-1740297600-1740330000@www.tukwilawa.gov
SUMMARY:Give Blood to Save 3 Lives
DESCRIPTION:You’re the type to help save lives.\nDONATE BLOOD WITH BLOODWORKS AND FILL OUT THE ENTRY FORM TO WIN A BIG PRIZE THIS MONTH! \nEvery two seconds in the United States\, someone needs blood. No matter who you are\, you can help. Here are what types of blood we most urgently need right now. \nYour donation is critical! To schedule an appointment\, call 1-800-398-7888. \nClick here for more information and to schedule an appointment online. \n  \nBLOODWORKS DONATION CENTER \n660 SW 39TH ST #100\, RENTON  (1 block from IKEA) \n  \nYou can also donate umbilical cord blood after the birth of your baby to save a life. \nClick here for information.
URL:https://www.tukwilawa.gov/event/give-blood-to-save-3-lives-3/2025-02-23/
LOCATION:Bloodworks Donation Center\, 660 SW 39TH ST #100\, Renton
CATEGORIES:Community Event,Volunteer Opportunity
END:VEVENT
BEGIN:VEVENT
DTSTART;TZID=America/Los_Angeles:20250223T150000
DTEND;TZID=America/Los_Angeles:20250223T170000
DTSTAMP:20260423T222214
CREATED:20240820T173803Z
LAST-MODIFIED:20240820T173842Z
UID:10010346-1740322800-1740330000@www.tukwilawa.gov
SUMMARY:Rainier Symphony Concert
DESCRIPTION:Season 2024/2025 Program for Rainier Symphony\n** Buy tickets here – https://www.rainiersymphony.org/tickets.shtml **\n  \nClassics Concert\nSaturday\, October 5 – 7:30 pm\nSunday\, October 6 – 3:00 pm \n\n\n\n\nGioachino Rossini\nL’italiana in Algeri\n\n\n\nRichard Wagner\nSiegfried Idyll\n\n\n\nLudwig von Beethoven\nSymphony No. 7\n\n\n\n  \nClassics Concert\nSaturday\, November 16 – 7:30 pm\nSunday\, November 17 – 3:00 pm \n\n\n\n\nRobert Schumann\nManfred Overture\n\n\n\nRichard Strauss\nSong Cycles\n\n\n\nEdward Elgar\nCello Concerto\n\n\n\nHector Berlioz\nLa Captive\n\n\n\n  \nHoliday Concert\nSaturday\, December 14 – 7:30 pm\nSunday\, December 15 – 3:00 pm \nCelebrate the season with traditional holiday favorites and carols the entire family is sure to enjoy! \n  \nClassics Concert\nSaturday\, February 22 – 7:30 pm\nSunday\, February 23 – 3:00 pm \n\n\n\n\nGiuseppe Verdi\nLa Forza del Destino\n\n\n\nHenri Tomasi\nTrombone Concerto\n\n\n\nFlorence Price\nSymphony No. 1\n\n\n\n  \nClassics Concert\nSaturday\, April 12 – 7:30 pm\nSunday\, April 13 – 3:00 pm \n\n\n\n\nNikolai Rimsky-Korsakov\nSuite from Mlada\n\n\n\nSamuel Coleridge-Taylor\nIdyll for Orchestra\n\n\n\nSergei Prokofiev\nSymphony No. 5\n\n\n\n  \nSymphonic Pops!\nSaturday\, May 31 – 7:30 pm\nSunday\, June 1 – 3:00 pm \n\n\n\n\nJohn Williams arr. Custer\nHighlights from Jurassic Park\n\n\n\nHans Zimmer\, arr. Wasson\nMusic from Gladiator\n\n\n\nDanny Elfman\, arr. Wasson\nSpiderman\n\n\n\nJohn Williams\nStar Wars Suite\n\n\n\n  \nSupport Rainier Symphony\n\n\n\n\n \n\nYour donation helps keep classical music alive and affordable in South Sound communities.
URL:https://www.tukwilawa.gov/event/42713/2025-02-23/
LOCATION:Foster High’s Performing Arts Center\, 4242 S 144th St\, Tukwila\, 98188
CATEGORIES:Community Event
GEO:47.4747434;-122.2798545
X-APPLE-STRUCTURED-LOCATION;VALUE=URI;X-ADDRESS=Foster High’s Performing Arts Center 4242 S 144th St Tukwila 98188;X-APPLE-RADIUS=500;X-TITLE=4242 S 144th St:geo:-122.2798545,47.4747434
END:VEVENT
BEGIN:VEVENT
DTSTART;TZID=America/Los_Angeles:20250225T080000
DTEND;TZID=America/Los_Angeles:20250225T170000
DTSTAMP:20260423T222214
CREATED:20250127T184724Z
LAST-MODIFIED:20250127T185056Z
UID:10013014-1740470400-1740502800@www.tukwilawa.gov
SUMMARY:Free Community Emergency Response Team Training - Registration is open
DESCRIPTION:Make a Difference in Your Community!\nYou can make a difference in our community by using the CERT training we offer to save lives and protect property. \nOn a normal day\, emergency services personnel are the best trained and equipped to handle emergencies\, and we all count on them for their expertise. However\, following a catastrophic disaster\, emergency response personnel may not be able to help everyone immediately\, because of the size of the area affected\, loss of communications\, and impassable roads. \nThe Puget Sound Fire CERT program serves the areas of Covington\, Kent\, Maple Valley\, SeaTac/Burien\, Tukwila\, Fire District #37\, and Fire District #43. \nCERT Basic Training\nPuget Sound Fire invites those who live or work in Covington\, Kent\, SeaTac/Burien\, Maple Valley\, Tukwila\, Fire District #37 and Fire District #43 to attend our next session of CERT Basic Training. The CERT curriculum includes: \n\nDisaster Preparedness\nCERT Organization\nDisaster Medical Operations – Part 1\nDisaster Medical Operations – Part 2\nDisaster Psychology\nFire Safety and Utility Controls\nLight Search and Rescue Operations\nTerrorism and CERT\nCourse Review and Disaster Simulation\n\nStudents will complete an in-person skills check to practice skills such as fire suppression\, basic medical aid\, and light search and rescue. If you miss a class\, you will need to work with your instructor to make it up. \nAbout CERT\nThe  CERT concept was developed and implemented by the Los Angeles City Fire Department in 1985. CERT became a national program in 1993. There are now CERT programs in all 50 states\, including many tribal nations and U.S. territories. Each is unique to its community. The CERT program offers a consistent\, nationwide approach to volunteer training and organization. \nUpcoming Spring 2025 Session\nRegistration for the Spring 2025 CERT Basic Training session that begin on March 19 will open on Monday February 17. Classes are available afternoons (1:00-4:30pm) or evenings (6:00-9:30pm)\, and will be held at two locations: Station 73 on the West Hill and Station 74 on the East Hill. \nThe CERT Basic Training is free but registration is required as class sizes are limited. \n✔️ Click here to register:  https://pugetsoundfire.org/emergency-management/community-emergency-response-team-cert/
URL:https://www.tukwilawa.gov/event/free-community-emergency-response-team-training/2025-02-25/
LOCATION:Puget Sound Fire Station 73\, 26512 Military Rd S\, Kent\, WA\, United States
CATEGORIES:Class,Community Event
END:VEVENT
END:VCALENDAR