BEGIN:VCALENDAR
VERSION:2.0
PRODID:-//City of Tukwila - ECPv6.15.20//NONSGML v1.0//EN
CALSCALE:GREGORIAN
METHOD:PUBLISH
X-ORIGINAL-URL:https://www.tukwilawa.gov
X-WR-CALDESC:Events for City of Tukwila
REFRESH-INTERVAL;VALUE=DURATION:PT1H
X-Robots-Tag:noindex
X-PUBLISHED-TTL:PT1H
BEGIN:VTIMEZONE
TZID:America/Los_Angeles
BEGIN:DAYLIGHT
TZOFFSETFROM:-0800
TZOFFSETTO:-0700
TZNAME:PDT
DTSTART:20210314T100000
END:DAYLIGHT
BEGIN:STANDARD
TZOFFSETFROM:-0700
TZOFFSETTO:-0800
TZNAME:PST
DTSTART:20211107T090000
END:STANDARD
BEGIN:DAYLIGHT
TZOFFSETFROM:-0800
TZOFFSETTO:-0700
TZNAME:PDT
DTSTART:20220313T100000
END:DAYLIGHT
BEGIN:STANDARD
TZOFFSETFROM:-0700
TZOFFSETTO:-0800
TZNAME:PST
DTSTART:20221106T090000
END:STANDARD
BEGIN:DAYLIGHT
TZOFFSETFROM:-0800
TZOFFSETTO:-0700
TZNAME:PDT
DTSTART:20230312T100000
END:DAYLIGHT
BEGIN:STANDARD
TZOFFSETFROM:-0700
TZOFFSETTO:-0800
TZNAME:PST
DTSTART:20231105T090000
END:STANDARD
END:VTIMEZONE
BEGIN:VEVENT
DTSTART;TZID=America/Los_Angeles:20220201T100000
DTEND;TZID=America/Los_Angeles:20220201T120000
DTSTAMP:20260424T104732
CREATED:20220110T212753Z
LAST-MODIFIED:20220110T213656Z
UID:10006232-1643709600-1643716800@www.tukwilawa.gov
SUMMARY:Hearing Examiner Public Hearing
DESCRIPTION:Notice is hereby given that the Hearing Examiner will hold a virtual public hearing at 10 am on February 1st\, 2022 to discuss the following: \n\nFile Number: A21-0023\nPurpose: Type 3 Noise Variance public hearing for maintenance to Sound Transit’s Link Light Rail over the next 5 years.\nLocation: Link Light Rail trackway from Boeing Access Road to Tukwila International Boulevard Station/SR 518\n\nThe meeting will be conducted via Microsoft Teams. \nThose wishing to provide public comments at the above meeting will have the opportunity to deliver comments via email\, or verbally via telephone or online during the meeting: \nWritten Comments: All written comments received by email to Meredith.Sampson@TukwilaWA.gov prior to 5:00 pm on January 31st will be included in the review. \nVerbal Comments: Sign up to verbally deliver your comments during the meeting by 5:00 pm on January 31st using Signup Genius at https://www.signupgenius.com/go/9040444A5AF28AAFE3-a210023 \nTo participate in the Virtual Meeting at 10 am: \n\nBy phone: Dial +1 253-292-9750\, Conference ID 543 721 160#\nOnline: To join the meeting online click here.\n\nFor technical support during the meeting you may call 1-206-433-7155. \nInformation on the above case may be obtained by emailing Meredith.Sampson@TukwilaWA.gov or calling 206-431-3661.
URL:https://www.tukwilawa.gov/event/planning-commission-public-hearing-3/
LOCATION:Virtual/Online\, United States
CATEGORIES:Public Hearing
END:VEVENT
BEGIN:VEVENT
DTSTART;TZID=America/Los_Angeles:20220224T140000
DTEND;TZID=America/Los_Angeles:20220224T160000
DTSTAMP:20260424T104732
CREATED:20220209T174930Z
LAST-MODIFIED:20220209T174930Z
UID:10006313-1645711200-1645718400@www.tukwilawa.gov
SUMMARY:Public Hearing with Hearing Examiner
DESCRIPTION:Notice is hereby given that the Hearing Examiner will hold a virtual public hearing at 2 pm on February 24th\, 2022 to discuss the following: \n\nFile Number: A21-0023\nPurpose: Type 3 Noise Variance public hearing for maintenance to Sound Transit’s Link Light Rail over the next 5 years.\nLocation: Link Light Rail trackway from Boeing Access Road to Tukwila International Boulevard Station/SR 518\n\nThe meeting will be conducted via Microsoft Teams. \nThose wishing to provide public comments at the above meeting will have the opportunity to deliver comments via email\, or verbally via telephone or online during the meeting: \nWritten Comments: All written comments received by email to Meredith.Sampson@TukwilaWA.gov prior to 5:00 pm on February 23rd will be included in the review. \nTo participate in the Virtual Meeting at 2 pm: \n\nBy phone: Dial +1 253-292-9750\, Conference ID 108 024 076#\nOnline: To join the meeting online click here.\n\nFor technical support during the meeting you may call 1-206-433-7155. \nInformation on the above case may be obtained by emailing Meredith.Sampson@TukwilaWA.gov or calling 206-431-3661.
URL:https://www.tukwilawa.gov/event/public-hearing-with-hearing-examiner/
LOCATION:Virtual/Online\, United States
CATEGORIES:Public Hearing
END:VEVENT
END:VCALENDAR