BEGIN:VCALENDAR
VERSION:2.0
PRODID:-//City of Tukwila - ECPv6.15.20//NONSGML v1.0//EN
CALSCALE:GREGORIAN
METHOD:PUBLISH
X-ORIGINAL-URL:https://www.tukwilawa.gov
X-WR-CALDESC:Events for City of Tukwila
REFRESH-INTERVAL;VALUE=DURATION:PT1H
X-Robots-Tag:noindex
X-PUBLISHED-TTL:PT1H
BEGIN:VTIMEZONE
TZID:America/Los_Angeles
BEGIN:DAYLIGHT
TZOFFSETFROM:-0800
TZOFFSETTO:-0700
TZNAME:PDT
DTSTART:20250309T100000
END:DAYLIGHT
BEGIN:STANDARD
TZOFFSETFROM:-0700
TZOFFSETTO:-0800
TZNAME:PST
DTSTART:20251102T090000
END:STANDARD
BEGIN:DAYLIGHT
TZOFFSETFROM:-0800
TZOFFSETTO:-0700
TZNAME:PDT
DTSTART:20260308T100000
END:DAYLIGHT
BEGIN:STANDARD
TZOFFSETFROM:-0700
TZOFFSETTO:-0800
TZNAME:PST
DTSTART:20261101T090000
END:STANDARD
BEGIN:DAYLIGHT
TZOFFSETFROM:-0800
TZOFFSETTO:-0700
TZNAME:PDT
DTSTART:20270314T100000
END:DAYLIGHT
BEGIN:STANDARD
TZOFFSETFROM:-0700
TZOFFSETTO:-0800
TZNAME:PST
DTSTART:20271107T090000
END:STANDARD
END:VTIMEZONE
BEGIN:VEVENT
DTSTART;TZID=America/Los_Angeles:20260430T180000
DTEND;TZID=America/Los_Angeles:20260430T210000
DTSTAMP:20260423T195608
CREATED:20260422T155719Z
LAST-MODIFIED:20260422T155719Z
UID:10019489-1777572000-1777582800@www.tukwilawa.gov
SUMMARY:Public Meeting - Boeing Access Road Infill Station
DESCRIPTION:With Sound Transit’s current capital and operational budget challenges\, the Boeing Access Road Infill Station is at risk of being deferred. \nThe City and other partners will be hosting an information session to learn about the station and how community members can advocate for the station to move forward. \nApril 30\, 2026  \n6:00 pm \nMuseum of Flight – Skyline Room \n9404 E Marginal Way  \nFor information\, visit tinyurl.com/5abhamr8
URL:https://www.tukwilawa.gov/event/public-meeting-boeing-access-road-infill-station/
LOCATION:Museum of Flight\, 9404 East Marginal Way South\, Seattle\, WA\, 98108\, United States
CATEGORIES:Public Meeting
GEO:47.5182137;-122.2966729
X-APPLE-STRUCTURED-LOCATION;VALUE=URI;X-ADDRESS=Museum of Flight 9404 East Marginal Way South Seattle WA 98108 United States;X-APPLE-RADIUS=500;X-TITLE=9404 East Marginal Way South:geo:-122.2966729,47.5182137
END:VEVENT
END:VCALENDAR