BEGIN:VCALENDAR
VERSION:2.0
PRODID:-//City of Tukwila - ECPv6.15.20//NONSGML v1.0//EN
CALSCALE:GREGORIAN
METHOD:PUBLISH
X-WR-CALNAME:City of Tukwila
X-ORIGINAL-URL:https://www.tukwilawa.gov
X-WR-CALDESC:Events for City of Tukwila
REFRESH-INTERVAL;VALUE=DURATION:PT1H
X-Robots-Tag:noindex
X-PUBLISHED-TTL:PT1H
BEGIN:VTIMEZONE
TZID:America/Los_Angeles
BEGIN:DAYLIGHT
TZOFFSETFROM:-0800
TZOFFSETTO:-0700
TZNAME:PDT
DTSTART:20170312T100000
END:DAYLIGHT
BEGIN:STANDARD
TZOFFSETFROM:-0700
TZOFFSETTO:-0800
TZNAME:PST
DTSTART:20171105T090000
END:STANDARD
BEGIN:DAYLIGHT
TZOFFSETFROM:-0800
TZOFFSETTO:-0700
TZNAME:PDT
DTSTART:20180311T100000
END:DAYLIGHT
BEGIN:STANDARD
TZOFFSETFROM:-0700
TZOFFSETTO:-0800
TZNAME:PST
DTSTART:20181104T090000
END:STANDARD
BEGIN:DAYLIGHT
TZOFFSETFROM:-0800
TZOFFSETTO:-0700
TZNAME:PDT
DTSTART:20190310T100000
END:DAYLIGHT
BEGIN:STANDARD
TZOFFSETFROM:-0700
TZOFFSETTO:-0800
TZNAME:PST
DTSTART:20191103T090000
END:STANDARD
END:VTIMEZONE
BEGIN:VEVENT
DTSTART;TZID=America/Los_Angeles:20180321T180000
DTEND;TZID=America/Los_Angeles:20180321T200000
DTSTAMP:20260425T153515
CREATED:20180321T205447Z
LAST-MODIFIED:20180321T205931Z
UID:10004729-1521655200-1521662400@www.tukwilawa.gov
SUMMARY:Open House - FEMA Flood Maps Update
DESCRIPTION:FEMA is updating flood maps throughout King County based on new data about flood hazards. This is the first update in many years and is an important opportunity for our region to get a better and more accurate assessment of the flood hazards we face. The City of Kent and City of Renton will each host an open house to discuss the map changes in the county and what they mean for those who live in or near floodplains. \n  \n\nOpen house in Kent – 6-8 p.m.\, Wednesday\, March 21\, 2018 (City Council Chambers\, Kent City Hall\, 220 4th Ave. S.)\n\n  \n** If you have specific questions about your property\, please contact the City of Tukwila’s Floodplain Manager Ryan Larson at (206) 431-2456.\n 
URL:https://www.tukwilawa.gov/event/open-house-fema-flood-maps-update/
LOCATION:Kent City Hall\, 220 4th Ave S\, Kent\, WA\, United States
CATEGORIES:Public Open House
GEO:47.3806709;-122.2368937
X-APPLE-STRUCTURED-LOCATION;VALUE=URI;X-ADDRESS=Kent City Hall 220 4th Ave S Kent WA United States;X-APPLE-RADIUS=500;X-TITLE=220 4th Ave S:geo:-122.2368937,47.3806709
END:VEVENT
END:VCALENDAR