BEGIN:VCALENDAR
VERSION:2.0
PRODID:-//City of Tukwila - ECPv6.15.20//NONSGML v1.0//EN
CALSCALE:GREGORIAN
METHOD:PUBLISH
X-ORIGINAL-URL:https://www.tukwilawa.gov
X-WR-CALDESC:Events for City of Tukwila
REFRESH-INTERVAL;VALUE=DURATION:PT1H
X-Robots-Tag:noindex
X-PUBLISHED-TTL:PT1H
BEGIN:VTIMEZONE
TZID:America/Los_Angeles
BEGIN:DAYLIGHT
TZOFFSETFROM:-0800
TZOFFSETTO:-0700
TZNAME:PDT
DTSTART:20170312T100000
END:DAYLIGHT
BEGIN:STANDARD
TZOFFSETFROM:-0700
TZOFFSETTO:-0800
TZNAME:PST
DTSTART:20171105T090000
END:STANDARD
BEGIN:DAYLIGHT
TZOFFSETFROM:-0800
TZOFFSETTO:-0700
TZNAME:PDT
DTSTART:20180311T100000
END:DAYLIGHT
BEGIN:STANDARD
TZOFFSETFROM:-0700
TZOFFSETTO:-0800
TZNAME:PST
DTSTART:20181104T090000
END:STANDARD
BEGIN:DAYLIGHT
TZOFFSETFROM:-0800
TZOFFSETTO:-0700
TZNAME:PDT
DTSTART:20190310T100000
END:DAYLIGHT
BEGIN:STANDARD
TZOFFSETFROM:-0700
TZOFFSETTO:-0800
TZNAME:PST
DTSTART:20191103T090000
END:STANDARD
END:VTIMEZONE
BEGIN:VEVENT
DTSTART;TZID=America/Los_Angeles:20181117T100000
DTEND;TZID=America/Los_Angeles:20181117T120000
DTSTAMP:20260424T080503
CREATED:20181106T201844Z
LAST-MODIFIED:20181106T201844Z
UID:10004951-1542448800-1542456000@www.tukwilawa.gov
SUMMARY:Open House - Public Safety Plan
DESCRIPTION:You’re invited to a Public Safety Plan Open House \n\nSee design images for the new buildings\nGet a status update on each facility\nLearn more abort the Public Safety Plan\nEnjoy some coffee and refreshments as you ask questions & get answers! \n\n  \nFor more information\, see link:    http://www.tukwilawa.gov/departments/mayors-office/key-city-plans-and-projects/public-safety-plan/
URL:https://www.tukwilawa.gov/event/open-house-public-safety-plan-2/
LOCATION:Valley View Sewer District\, 3460 South 148th Street\, Tukwila\, WA\, 98168\, United States
CATEGORIES:City Event,Public Open House
GEO:47.4710165;-122.2871073
X-APPLE-STRUCTURED-LOCATION;VALUE=URI;X-ADDRESS=Valley View Sewer District 3460 South 148th Street Tukwila WA 98168 United States;X-APPLE-RADIUS=500;X-TITLE=3460 South 148th Street:geo:-122.2871073,47.4710165
END:VEVENT
END:VCALENDAR