BEGIN:VCALENDAR
VERSION:2.0
PRODID:-//City of Tukwila - ECPv6.15.20//NONSGML v1.0//EN
CALSCALE:GREGORIAN
METHOD:PUBLISH
X-ORIGINAL-URL:https://www.tukwilawa.gov
X-WR-CALDESC:Events for City of Tukwila
REFRESH-INTERVAL;VALUE=DURATION:PT1H
X-Robots-Tag:noindex
X-PUBLISHED-TTL:PT1H
BEGIN:VTIMEZONE
TZID:America/Los_Angeles
BEGIN:DAYLIGHT
TZOFFSETFROM:-0800
TZOFFSETTO:-0700
TZNAME:PDT
DTSTART:20190310T100000
END:DAYLIGHT
BEGIN:STANDARD
TZOFFSETFROM:-0700
TZOFFSETTO:-0800
TZNAME:PST
DTSTART:20191103T090000
END:STANDARD
BEGIN:DAYLIGHT
TZOFFSETFROM:-0800
TZOFFSETTO:-0700
TZNAME:PDT
DTSTART:20200308T100000
END:DAYLIGHT
BEGIN:STANDARD
TZOFFSETFROM:-0700
TZOFFSETTO:-0800
TZNAME:PST
DTSTART:20201101T090000
END:STANDARD
BEGIN:DAYLIGHT
TZOFFSETFROM:-0800
TZOFFSETTO:-0700
TZNAME:PDT
DTSTART:20210314T100000
END:DAYLIGHT
BEGIN:STANDARD
TZOFFSETFROM:-0700
TZOFFSETTO:-0800
TZNAME:PST
DTSTART:20211107T090000
END:STANDARD
END:VTIMEZONE
BEGIN:VEVENT
DTSTART;TZID=America/Los_Angeles:20200201T100000
DTEND;TZID=America/Los_Angeles:20200201T140000
DTSTAMP:20260425T173327
CREATED:20191010T172150Z
LAST-MODIFIED:20200507T160550Z
UID:10004335-1580551200-1580565600@www.tukwilawa.gov
SUMMARY:SnackPack Stuff the Bus Food Drive
DESCRIPTION:  \nSnackPack’s Quarterly Food Drive at Saar’s Super Saver Foods.   Shop and donate food items to feed homeless students in the Tukwila School District.   Come and support both the non-profit SnackPack Program and your local business!   Volunteers will be available to assist you on your shopping adventure. \nSaar’s Super Saver Foods \n3725 S 144th St \n\n\nVolunteer sign up here: https://www.tuksnackpack.com/stuff-the-bus1.html\n\n\n\n\n\n1st Shift of Volunteers –      Please arrive at 9:45 am \n\n\n12:00 PM – 2:00 PM 2nd Shift of Volunteers –     Please arrive at 11:45 am \n\n\n2:00 PM Clean Up and Unload Crew –        Volunteers follow the bus to our storehouse to unload\n\n  \nPlease contact SnackPack to sign-up at 206-717-4709 or email tuksnackpack@gmail.com.
URL:https://www.tukwilawa.gov/event/snackpack-stuff-the-bus-food-drive-3/2020-02-01/
LOCATION:SAAR”S Super Saver Foods\, 3725 South 144th Street\, Tukwila\, WA\, United States
CATEGORIES:Community Event,Volunteer Opportunity
GEO:47.4728866;-122.2858459
X-APPLE-STRUCTURED-LOCATION;VALUE=URI;X-ADDRESS=SAAR”S Super Saver Foods 3725 South 144th Street Tukwila WA United States;X-APPLE-RADIUS=500;X-TITLE=3725 South 144th Street:geo:-122.2858459,47.4728866
END:VEVENT
BEGIN:VEVENT
DTSTART;TZID=America/Los_Angeles:20200204T170000
DTEND;TZID=America/Los_Angeles:20200204T200000
DTSTAMP:20260425T173327
CREATED:20200203T211606Z
LAST-MODIFIED:20200318T164725Z
UID:10005881-1580835600-1580846400@www.tukwilawa.gov
SUMMARY:FREE Tax Preparation
DESCRIPTION:  \nOut of an abundance of caution and in alignment with recommendations from Public Health\, United Way of King County Free Tax Prep Sites are closed due to the risks associated with COVID-19. \nFor updates on when sites will be open again\, please visit FreeTaxExperts.org \nStill Need Tax Help? File your taxes online free with United Way’s filing tool at www.MyFreeTaxes.comThis link will take you away from uwkc.org \n\n  \nFor income above $69\,000\, you can prepare and file your taxes using the FREE fillable forms with IRS.   You must know how to do your taxes yourself.   For more information\, visit \nirs.gov/filing/free-file-do-your-federal-taxes-for-free.
URL:https://www.tukwilawa.gov/event/free-tax-preparation-9/2020-02-04/
LOCATION:Riverton Park United Methodist Church\, 3118 South 140th Street\, Tukwila WA  \, WA
CATEGORIES:Community Event,Volunteer Opportunity
GEO:47.4785988;-122.2924361
X-APPLE-STRUCTURED-LOCATION;VALUE=URI;X-ADDRESS=Riverton Park United Methodist Church 3118 South 140th Street Tukwila WA   WA;X-APPLE-RADIUS=500;X-TITLE=3118 South 140th Street:geo:-122.2924361,47.4785988
END:VEVENT
BEGIN:VEVENT
DTSTART;TZID=America/Los_Angeles:20200208T100000
DTEND;TZID=America/Los_Angeles:20200208T140000
DTSTAMP:20260425T173327
CREATED:20221114T202339Z
LAST-MODIFIED:20221114T202339Z
UID:10005885-1581156000-1581170400@www.tukwilawa.gov
SUMMARY:FREE Tax Preparation
DESCRIPTION:  \nOut of an abundance of caution and in alignment with recommendations from Public Health\, United Way of King County Free Tax Prep Sites are closed due to the risks associated with COVID-19. \nFor updates on when sites will be open again\, please visit FreeTaxExperts.org \nStill Need Tax Help? File your taxes online free with United Way’s filing tool at www.MyFreeTaxes.comThis link will take you away from uwkc.org \n\n  \nFor income above $69\,000\, you can prepare and file your taxes using the FREE fillable forms with IRS.   You must know how to do your taxes yourself.   For more information\, visit \nirs.gov/filing/free-file-do-your-federal-taxes-for-free.
URL:https://www.tukwilawa.gov/event/free-tax-preparation-9/2020-02-08/
LOCATION:Riverton Park United Methodist Church\, 3118 South 140th Street\, Tukwila WA  \, WA
CATEGORIES:Community Event,Volunteer Opportunity
GEO:47.4785988;-122.2924361
X-APPLE-STRUCTURED-LOCATION;VALUE=URI;X-ADDRESS=Riverton Park United Methodist Church 3118 South 140th Street Tukwila WA   WA;X-APPLE-RADIUS=500;X-TITLE=3118 South 140th Street:geo:-122.2924361,47.4785988
END:VEVENT
BEGIN:VEVENT
DTSTART;TZID=America/Los_Angeles:20200211T170000
DTEND;TZID=America/Los_Angeles:20200211T200000
DTSTAMP:20260425T173327
CREATED:20200203T211606Z
LAST-MODIFIED:20200318T164725Z
UID:10005882-1581440400-1581451200@www.tukwilawa.gov
SUMMARY:FREE Tax Preparation
DESCRIPTION:  \nOut of an abundance of caution and in alignment with recommendations from Public Health\, United Way of King County Free Tax Prep Sites are closed due to the risks associated with COVID-19. \nFor updates on when sites will be open again\, please visit FreeTaxExperts.org \nStill Need Tax Help? File your taxes online free with United Way’s filing tool at www.MyFreeTaxes.comThis link will take you away from uwkc.org \n\n  \nFor income above $69\,000\, you can prepare and file your taxes using the FREE fillable forms with IRS.   You must know how to do your taxes yourself.   For more information\, visit \nirs.gov/filing/free-file-do-your-federal-taxes-for-free.
URL:https://www.tukwilawa.gov/event/free-tax-preparation-9/2020-02-11/
LOCATION:Riverton Park United Methodist Church\, 3118 South 140th Street\, Tukwila WA  \, WA
CATEGORIES:Community Event,Volunteer Opportunity
GEO:47.4785988;-122.2924361
X-APPLE-STRUCTURED-LOCATION;VALUE=URI;X-ADDRESS=Riverton Park United Methodist Church 3118 South 140th Street Tukwila WA   WA;X-APPLE-RADIUS=500;X-TITLE=3118 South 140th Street:geo:-122.2924361,47.4785988
END:VEVENT
BEGIN:VEVENT
DTSTART;TZID=America/Los_Angeles:20200211T190000
DTEND;TZID=America/Los_Angeles:20200211T203000
DTSTAMP:20260425T173327
CREATED:20200114T214917Z
LAST-MODIFIED:20201214T170207Z
UID:10005872-1581447600-1581453000@www.tukwilawa.gov
SUMMARY:Tukwila International Boulevard Action Committee
DESCRIPTION:  \nTIBAC  meets every 2nd Tuesday  at Valley View Sewer District – 3460 South 148th Street. \nThe Tukwila International Boulevard Action Committee (TIBAC) is a group of residents and businesses working to revitalize Tukwila International Boulevard.   The committee was formed in 1995 to address social\, economic and crime issues on the corridor. \nâ€¢ The focus of the Tukwila International Boulevard Action Committee is: “Neighbors working together making a difference in Tukwila.” \nâ€¢ The group’s vision: “A Tukwila International Boulevard neighborhood that is vibrant and diverse”. \nâ€¢ Mission: “Working in collaboration with the City of Tukwila to discourage criminal activity\, support local businesses\, and improve the livability of the Tukwila International Boulevard neighborhood.” \nFor information\, please contact Police Chief Linton at 206-431-2190.
URL:https://www.tukwilawa.gov/event/tukwila-international-boulevard-action-committee-2/2020-02-11/
LOCATION:Valley View Sewer District\, 3460 South 148th Street\, Tukwila\, WA\, 98168\, United States
CATEGORIES:Meeting,Volunteer Opportunity
GEO:47.4710165;-122.2871073
X-APPLE-STRUCTURED-LOCATION;VALUE=URI;X-ADDRESS=Valley View Sewer District 3460 South 148th Street Tukwila WA 98168 United States;X-APPLE-RADIUS=500;X-TITLE=3460 South 148th Street:geo:-122.2871073,47.4710165
END:VEVENT
BEGIN:VEVENT
DTSTART;TZID=America/Los_Angeles:20200213T050000
DTEND;TZID=America/Los_Angeles:20200213T180000
DTSTAMP:20260425T173327
CREATED:20190912T164611Z
LAST-MODIFIED:20200123T212837Z
UID:10005452-1581570000-1581616800@www.tukwilawa.gov
SUMMARY:FREE Seattle/King County Clinic - Feb 13-16
DESCRIPTION:  \nDescription\n\nSeattle/King County Clinic returns Feb. 13 – 16\, 2020 at Seattle Center. The community is coming together once again to offer free dental\, vision and medical care to anyone in the region who struggles to access or afford healthcare. The effort\, involving months of preparation\, over 100 community organizations and thousands of volunteers\, creates the largest free health clinic of its kind in Washington State. Over 3\,000 patients from across the region are served by healthcare professionals and general support volunteers\, who provide more than $2.5 million in healthcare services. Learn more: seattlecenter.org/skcclinic \n\n\n\nContact\n\nFor more information: \n\nSKCClinic@seattlecenter.org; 206-684-7200\nLearn more about  volunteering\nVisit the  patient information page\nSee news coverage about the clinic\nFollow Seattle/King County Clinic on  Facebook\n\nSeattle Center Foundation relies on financial contributions of  all sizes  to help provide the necessary equipment\, supplies\, food and resources for the Seattle/King County Clinic.   Please consider making a tax-deductible  donation  today. \nA Special Thank You to Partners\, Donors\, and Volunteers!
URL:https://www.tukwilawa.gov/event/free-seattle-king-county-clinic-feb-13-16/
LOCATION:Seattle Center – Fisher Pavilion\, 2nd Avenue North and Thomas Street\, Seattle\, United States
CATEGORIES:Community Event,Volunteer Opportunity
GEO:47.6209274;-122.3528284
X-APPLE-STRUCTURED-LOCATION;VALUE=URI;X-ADDRESS=Seattle Center – Fisher Pavilion 2nd Avenue North and Thomas Street Seattle United States;X-APPLE-RADIUS=500;X-TITLE=2nd Avenue North and Thomas Street:geo:-122.3528284,47.6209274
END:VEVENT
BEGIN:VEVENT
DTSTART;TZID=America/Los_Angeles:20200215T100000
DTEND;TZID=America/Los_Angeles:20200215T140000
DTSTAMP:20260425T173327
CREATED:20221114T202339Z
LAST-MODIFIED:20221114T202339Z
UID:10005886-1581760800-1581775200@www.tukwilawa.gov
SUMMARY:FREE Tax Preparation
DESCRIPTION:  \nOut of an abundance of caution and in alignment with recommendations from Public Health\, United Way of King County Free Tax Prep Sites are closed due to the risks associated with COVID-19. \nFor updates on when sites will be open again\, please visit FreeTaxExperts.org \nStill Need Tax Help? File your taxes online free with United Way’s filing tool at www.MyFreeTaxes.comThis link will take you away from uwkc.org \n\n  \nFor income above $69\,000\, you can prepare and file your taxes using the FREE fillable forms with IRS.   You must know how to do your taxes yourself.   For more information\, visit \nirs.gov/filing/free-file-do-your-federal-taxes-for-free.
URL:https://www.tukwilawa.gov/event/free-tax-preparation-9/2020-02-15/
LOCATION:Riverton Park United Methodist Church\, 3118 South 140th Street\, Tukwila WA  \, WA
CATEGORIES:Community Event,Volunteer Opportunity
GEO:47.4785988;-122.2924361
X-APPLE-STRUCTURED-LOCATION;VALUE=URI;X-ADDRESS=Riverton Park United Methodist Church 3118 South 140th Street Tukwila WA   WA;X-APPLE-RADIUS=500;X-TITLE=3118 South 140th Street:geo:-122.2924361,47.4785988
END:VEVENT
BEGIN:VEVENT
DTSTART;TZID=America/Los_Angeles:20200218T170000
DTEND;TZID=America/Los_Angeles:20200218T200000
DTSTAMP:20260425T173327
CREATED:20200203T211606Z
LAST-MODIFIED:20200318T164725Z
UID:10005883-1582045200-1582056000@www.tukwilawa.gov
SUMMARY:FREE Tax Preparation
DESCRIPTION:  \nOut of an abundance of caution and in alignment with recommendations from Public Health\, United Way of King County Free Tax Prep Sites are closed due to the risks associated with COVID-19. \nFor updates on when sites will be open again\, please visit FreeTaxExperts.org \nStill Need Tax Help? File your taxes online free with United Way’s filing tool at www.MyFreeTaxes.comThis link will take you away from uwkc.org \n\n  \nFor income above $69\,000\, you can prepare and file your taxes using the FREE fillable forms with IRS.   You must know how to do your taxes yourself.   For more information\, visit \nirs.gov/filing/free-file-do-your-federal-taxes-for-free.
URL:https://www.tukwilawa.gov/event/free-tax-preparation-9/2020-02-18/
LOCATION:Riverton Park United Methodist Church\, 3118 South 140th Street\, Tukwila WA  \, WA
CATEGORIES:Community Event,Volunteer Opportunity
GEO:47.4785988;-122.2924361
X-APPLE-STRUCTURED-LOCATION;VALUE=URI;X-ADDRESS=Riverton Park United Methodist Church 3118 South 140th Street Tukwila WA   WA;X-APPLE-RADIUS=500;X-TITLE=3118 South 140th Street:geo:-122.2924361,47.4785988
END:VEVENT
BEGIN:VEVENT
DTSTART;TZID=America/Los_Angeles:20200222T100000
DTEND;TZID=America/Los_Angeles:20200222T140000
DTSTAMP:20260425T173327
CREATED:20221114T202339Z
LAST-MODIFIED:20221114T202339Z
UID:10005887-1582365600-1582380000@www.tukwilawa.gov
SUMMARY:FREE Tax Preparation
DESCRIPTION:  \nOut of an abundance of caution and in alignment with recommendations from Public Health\, United Way of King County Free Tax Prep Sites are closed due to the risks associated with COVID-19. \nFor updates on when sites will be open again\, please visit FreeTaxExperts.org \nStill Need Tax Help? File your taxes online free with United Way’s filing tool at www.MyFreeTaxes.comThis link will take you away from uwkc.org \n\n  \nFor income above $69\,000\, you can prepare and file your taxes using the FREE fillable forms with IRS.   You must know how to do your taxes yourself.   For more information\, visit \nirs.gov/filing/free-file-do-your-federal-taxes-for-free.
URL:https://www.tukwilawa.gov/event/free-tax-preparation-9/2020-02-22/
LOCATION:Riverton Park United Methodist Church\, 3118 South 140th Street\, Tukwila WA  \, WA
CATEGORIES:Community Event,Volunteer Opportunity
GEO:47.4785988;-122.2924361
X-APPLE-STRUCTURED-LOCATION;VALUE=URI;X-ADDRESS=Riverton Park United Methodist Church 3118 South 140th Street Tukwila WA   WA;X-APPLE-RADIUS=500;X-TITLE=3118 South 140th Street:geo:-122.2924361,47.4785988
END:VEVENT
BEGIN:VEVENT
DTSTART;TZID=America/Los_Angeles:20200225T170000
DTEND;TZID=America/Los_Angeles:20200225T200000
DTSTAMP:20260425T173327
CREATED:20200203T211606Z
LAST-MODIFIED:20200318T164725Z
UID:10005884-1582650000-1582660800@www.tukwilawa.gov
SUMMARY:FREE Tax Preparation
DESCRIPTION:  \nOut of an abundance of caution and in alignment with recommendations from Public Health\, United Way of King County Free Tax Prep Sites are closed due to the risks associated with COVID-19. \nFor updates on when sites will be open again\, please visit FreeTaxExperts.org \nStill Need Tax Help? File your taxes online free with United Way’s filing tool at www.MyFreeTaxes.comThis link will take you away from uwkc.org \n\n  \nFor income above $69\,000\, you can prepare and file your taxes using the FREE fillable forms with IRS.   You must know how to do your taxes yourself.   For more information\, visit \nirs.gov/filing/free-file-do-your-federal-taxes-for-free.
URL:https://www.tukwilawa.gov/event/free-tax-preparation-9/2020-02-25/
LOCATION:Riverton Park United Methodist Church\, 3118 South 140th Street\, Tukwila WA  \, WA
CATEGORIES:Community Event,Volunteer Opportunity
GEO:47.4785988;-122.2924361
X-APPLE-STRUCTURED-LOCATION;VALUE=URI;X-ADDRESS=Riverton Park United Methodist Church 3118 South 140th Street Tukwila WA   WA;X-APPLE-RADIUS=500;X-TITLE=3118 South 140th Street:geo:-122.2924361,47.4785988
END:VEVENT
BEGIN:VEVENT
DTSTART;VALUE=DATE:20200229
DTEND;VALUE=DATE:20200301
DTSTAMP:20260425T173327
CREATED:20190415T193631Z
LAST-MODIFIED:20220121T000832Z
UID:10005304-1582934400-1583020799@www.tukwilawa.gov
SUMMARY:TIBAC Trash Pick Up
DESCRIPTION:  \nTukwila International Boulevard Action Committee (TIBAC) Trash Pick Up Day \nFor location or information contact Sharon Mann at (206) 200-3616.
URL:https://www.tukwilawa.gov/event/tibac-trash-pick-up/2020-02-29/
LOCATION:6200 Southcenter Blvd.\, Tukwila\, WA\, 98188\, United States
CATEGORIES:Community Event,Volunteer Opportunity
GEO:47.4632017;-122.2556931
X-APPLE-STRUCTURED-LOCATION;VALUE=URI;X-ADDRESS=6200 Southcenter Blvd. Tukwila WA 98188 United States;X-APPLE-RADIUS=500;X-TITLE=6200 Southcenter Blvd.:geo:-122.2556931,47.4632017
END:VEVENT
BEGIN:VEVENT
DTSTART;VALUE=DATE:20200229
DTEND;VALUE=DATE:20200301
DTSTAMP:20260425T173327
CREATED:20221114T202255Z
LAST-MODIFIED:20221206T220332Z
UID:10005347-1582934400-1583020799@www.tukwilawa.gov
SUMMARY:TIBAC Trash Pick Up
DESCRIPTION:Tukwila International Boulevard Action Committee (TIBAC) Trash Pick Up Day \nFor location or information contact Sharon Mann at (206) 200-3616.
URL:https://www.tukwilawa.gov/event/tibac-trash-pick-up-3/2020-02-29/
LOCATION:6200 Southcenter Blvd.\, Tukwila\, WA\, 98188\, United States
CATEGORIES:Community Event,Volunteer Opportunity
GEO:47.4632017;-122.2556931
X-APPLE-STRUCTURED-LOCATION;VALUE=URI;X-ADDRESS=6200 Southcenter Blvd. Tukwila WA 98188 United States;X-APPLE-RADIUS=500;X-TITLE=6200 Southcenter Blvd.:geo:-122.2556931,47.4632017
END:VEVENT
BEGIN:VEVENT
DTSTART;VALUE=DATE:20200229
DTEND;VALUE=DATE:20200301
DTSTAMP:20260425T173327
CREATED:20221114T202255Z
LAST-MODIFIED:20221114T202255Z
UID:10005387-1582934400-1583020799@www.tukwilawa.gov
SUMMARY:TIBAC Trash Pick Up
DESCRIPTION:  \nTukwila International Boulevard Action Committee (TIBAC) Trash Pick Up Day \nFor location or information contact Sharon Mann at (206) 200-3616.
URL:https://www.tukwilawa.gov/event/tibac-trash-pick-up/2020-02-29/
LOCATION:6200 Southcenter Blvd.\, Tukwila\, WA\, 98188\, United States
CATEGORIES:Community Event,Volunteer Opportunity
GEO:47.4632017;-122.2556931
X-APPLE-STRUCTURED-LOCATION;VALUE=URI;X-ADDRESS=6200 Southcenter Blvd. Tukwila WA 98188 United States;X-APPLE-RADIUS=500;X-TITLE=6200 Southcenter Blvd.:geo:-122.2556931,47.4632017
END:VEVENT
BEGIN:VEVENT
DTSTART;TZID=America/Los_Angeles:20200229T100000
DTEND;TZID=America/Los_Angeles:20200229T140000
DTSTAMP:20260425T173327
CREATED:20221114T202339Z
LAST-MODIFIED:20221114T202339Z
UID:10005888-1582970400-1582984800@www.tukwilawa.gov
SUMMARY:FREE Tax Preparation
DESCRIPTION:  \nOut of an abundance of caution and in alignment with recommendations from Public Health\, United Way of King County Free Tax Prep Sites are closed due to the risks associated with COVID-19. \nFor updates on when sites will be open again\, please visit FreeTaxExperts.org \nStill Need Tax Help? File your taxes online free with United Way’s filing tool at www.MyFreeTaxes.comThis link will take you away from uwkc.org \n\n  \nFor income above $69\,000\, you can prepare and file your taxes using the FREE fillable forms with IRS.   You must know how to do your taxes yourself.   For more information\, visit \nirs.gov/filing/free-file-do-your-federal-taxes-for-free.
URL:https://www.tukwilawa.gov/event/free-tax-preparation-9/2020-02-29/
LOCATION:Riverton Park United Methodist Church\, 3118 South 140th Street\, Tukwila WA  \, WA
CATEGORIES:Community Event,Volunteer Opportunity
GEO:47.4785988;-122.2924361
X-APPLE-STRUCTURED-LOCATION;VALUE=URI;X-ADDRESS=Riverton Park United Methodist Church 3118 South 140th Street Tukwila WA   WA;X-APPLE-RADIUS=500;X-TITLE=3118 South 140th Street:geo:-122.2924361,47.4785988
END:VEVENT
END:VCALENDAR