BEGIN:VCALENDAR
VERSION:2.0
PRODID:-//City of Tukwila - ECPv6.15.20//NONSGML v1.0//EN
CALSCALE:GREGORIAN
METHOD:PUBLISH
X-WR-CALNAME:City of Tukwila
X-ORIGINAL-URL:https://www.tukwilawa.gov
X-WR-CALDESC:Events for City of Tukwila
REFRESH-INTERVAL;VALUE=DURATION:PT1H
X-Robots-Tag:noindex
X-PUBLISHED-TTL:PT1H
BEGIN:VTIMEZONE
TZID:America/Los_Angeles
BEGIN:DAYLIGHT
TZOFFSETFROM:-0800
TZOFFSETTO:-0700
TZNAME:PDT
DTSTART:20190310T100000
END:DAYLIGHT
BEGIN:STANDARD
TZOFFSETFROM:-0700
TZOFFSETTO:-0800
TZNAME:PST
DTSTART:20191103T090000
END:STANDARD
BEGIN:DAYLIGHT
TZOFFSETFROM:-0800
TZOFFSETTO:-0700
TZNAME:PDT
DTSTART:20200308T100000
END:DAYLIGHT
BEGIN:STANDARD
TZOFFSETFROM:-0700
TZOFFSETTO:-0800
TZNAME:PST
DTSTART:20201101T090000
END:STANDARD
BEGIN:DAYLIGHT
TZOFFSETFROM:-0800
TZOFFSETTO:-0700
TZNAME:PDT
DTSTART:20210314T100000
END:DAYLIGHT
BEGIN:STANDARD
TZOFFSETFROM:-0700
TZOFFSETTO:-0800
TZNAME:PST
DTSTART:20211107T090000
END:STANDARD
END:VTIMEZONE
BEGIN:VEVENT
DTSTART;TZID=America/Los_Angeles:20200310T190000
DTEND;TZID=America/Los_Angeles:20200310T203000
DTSTAMP:20260425T092725
CREATED:20200114T214917Z
LAST-MODIFIED:20201214T170207Z
UID:10005873-1583866800-1583872200@www.tukwilawa.gov
SUMMARY:Tukwila International Boulevard Action Committee
DESCRIPTION:  \nTIBAC  meets every 2nd Tuesday  at Valley View Sewer District – 3460 South 148th Street. \nThe Tukwila International Boulevard Action Committee (TIBAC) is a group of residents and businesses working to revitalize Tukwila International Boulevard.   The committee was formed in 1995 to address social\, economic and crime issues on the corridor. \nâ€¢ The focus of the Tukwila International Boulevard Action Committee is: “Neighbors working together making a difference in Tukwila.” \nâ€¢ The group’s vision: “A Tukwila International Boulevard neighborhood that is vibrant and diverse”. \nâ€¢ Mission: “Working in collaboration with the City of Tukwila to discourage criminal activity\, support local businesses\, and improve the livability of the Tukwila International Boulevard neighborhood.” \nFor information\, please contact Police Chief Linton at 206-431-2190.
URL:https://www.tukwilawa.gov/event/tukwila-international-boulevard-action-committee-2/2020-03-10/
LOCATION:Valley View Sewer District\, 3460 South 148th Street\, Tukwila\, WA\, 98168\, United States
CATEGORIES:Meeting,Volunteer Opportunity
GEO:47.4710165;-122.2871073
X-APPLE-STRUCTURED-LOCATION;VALUE=URI;X-ADDRESS=Valley View Sewer District 3460 South 148th Street Tukwila WA 98168 United States;X-APPLE-RADIUS=500;X-TITLE=3460 South 148th Street:geo:-122.2871073,47.4710165
END:VEVENT
END:VCALENDAR