BEGIN:VCALENDAR
VERSION:2.0
PRODID:-//City of Tukwila - ECPv6.15.20//NONSGML v1.0//EN
CALSCALE:GREGORIAN
METHOD:PUBLISH
X-ORIGINAL-URL:https://www.tukwilawa.gov
X-WR-CALDESC:Events for City of Tukwila
REFRESH-INTERVAL;VALUE=DURATION:PT1H
X-Robots-Tag:noindex
X-PUBLISHED-TTL:PT1H
BEGIN:VTIMEZONE
TZID:America/Los_Angeles
BEGIN:DAYLIGHT
TZOFFSETFROM:-0800
TZOFFSETTO:-0700
TZNAME:PDT
DTSTART:20190310T100000
END:DAYLIGHT
BEGIN:STANDARD
TZOFFSETFROM:-0700
TZOFFSETTO:-0800
TZNAME:PST
DTSTART:20191103T090000
END:STANDARD
BEGIN:DAYLIGHT
TZOFFSETFROM:-0800
TZOFFSETTO:-0700
TZNAME:PDT
DTSTART:20200308T100000
END:DAYLIGHT
BEGIN:STANDARD
TZOFFSETFROM:-0700
TZOFFSETTO:-0800
TZNAME:PST
DTSTART:20201101T090000
END:STANDARD
BEGIN:DAYLIGHT
TZOFFSETFROM:-0800
TZOFFSETTO:-0700
TZNAME:PDT
DTSTART:20210314T100000
END:DAYLIGHT
BEGIN:STANDARD
TZOFFSETFROM:-0700
TZOFFSETTO:-0800
TZNAME:PST
DTSTART:20211107T090000
END:STANDARD
END:VTIMEZONE
BEGIN:VEVENT
DTSTART;TZID=America/Los_Angeles:20200404T090000
DTEND;TZID=America/Los_Angeles:20200404T120000
DTSTAMP:20260424T193437
CREATED:20200117T204756Z
LAST-MODIFIED:20200317T235014Z
UID:10005880-1585990800-1586001600@www.tukwilawa.gov
SUMMARY:Crystal Springs Park Work Party - Cancelled
DESCRIPTION:  \n\n \n\nCrystal Springs Parks is a wonderful community park that many hands have helped to reclaim and restore over the years. However\, large areas of the park are still overrun with aggressive weeds such as English ivy and Himalyan blackberry. Join with community members and neighbors to help restore this park to a thriving urban forest! \nEveryone can help! All ages are welcome and no experience is necessary. We provide all of the tools and training needed.  So bring along your friends and family and get your hands dirty! \nIf you would like to RSVP for this event\, email Fate at   fsye@forterra.org! \nWhen:  Saturday\, April 4th; 9:00am-12:00pm \nWhere:  Crystal Springs Park (15832 51st Ave S\, Tukwila\, WA 98188) \nWhat to Bring:  Please bring a reusable water bottle wear sturdy close-toed shoes and weather appropriate layers that you don’t mind getting dirty- we will work rain or shine! \nIf you are a volunteer under 18 and attending the event without a parent or guardian\, please  print and bring this waiver signed by a parent or guardian. \nTo find more restoration events in Tukwila\, you  can click here \n\n+ Google Calendar+ iCal Export
URL:https://www.tukwilawa.gov/event/crystal-springs-park-work-party-2/
LOCATION:Crystal Springs Park\, 15832 51st Ave S\, Tukwila\, WA\, 98188\, United States
CATEGORIES:Community Event,Volunteer Opportunity
END:VEVENT
BEGIN:VEVENT
DTSTART;TZID=America/Los_Angeles:20200416T190000
DTEND;TZID=America/Los_Angeles:20200416T203000
DTSTAMP:20260424T193437
CREATED:20180523T224533Z
LAST-MODIFIED:20200324T165742Z
UID:10004775-1587063600-1587069000@www.tukwilawa.gov
SUMMARY:Action Tukwila - Cancelled
DESCRIPTION:  \nAction Tukwila holds monthly meetings on the 3rd Thursday of each month.   All who are interested in the goal of building community in Tukwila are welcome! \n  \nAction Tukwila took shape in 2016.  Its seed was an informal group of citizens who wanted to explore ideas for projects that would build a vibrant community and help people who live in Tukwila thrive. \nThe group’s first project was a record-breaking community gathering: Come Sit at Our Table – The World’s Largest Potluck. For one glorious August afternoon\, the northbound lanes of Tukwila International Boulevard closed to traffic.  More than 1\,500 people came together to enjoy food\, dance\, music\, and soccer with their neighbors. \nNow a 501(c)(3)\,  Action Tukwila continues to evolve and launch new projects.
URL:https://www.tukwilawa.gov/event/action-tukwila-2-2020-04-16/
LOCATION:Valley View Sewer District\, 3460 South 148th Street\, Tukwila\, WA\, 98168\, United States
CATEGORIES:Meeting,Volunteer Opportunity
GEO:47.4710165;-122.2871073
X-APPLE-STRUCTURED-LOCATION;VALUE=URI;X-ADDRESS=Valley View Sewer District 3460 South 148th Street Tukwila WA 98168 United States;X-APPLE-RADIUS=500;X-TITLE=3460 South 148th Street:geo:-122.2871073,47.4710165
END:VEVENT
BEGIN:VEVENT
DTSTART;VALUE=DATE:20200418
DTEND;VALUE=DATE:20200419
DTSTAMP:20260424T193437
CREATED:20190916T184628Z
LAST-MODIFIED:20200317T224150Z
UID:10005460-1587168000-1587254399@www.tukwilawa.gov
SUMMARY:Rainier Symphony - Cancelled
DESCRIPTION:  \n“Enigma” concert with Rainier Symphony.   An artistically distinguished 75-member community orchestra founded in 1981. \nConcert series supported by Tukwila Arts Commission and King County 4Culture. \nAPRIL 18 @ 7:30 pm \nAPRIL 19 @ 3:00 pm \n  \n\n$20 Adult\n$14 Senior / Student\nFree for Children 12 & Under\n\nGroup discounts are available for purchases of 10 or more tickets.   Get 5 tickets for the price of 4 by purchasing a Season Ticket Package. \nFor more information\, call 206-781-5618.   www.RainierSymphony.org
URL:https://www.tukwilawa.gov/event/rainier-symphony-3/2020-04-18/
LOCATION:Foster High’s Performing Arts Center\, 4242 S 144th St\, Tukwila\, 98188
CATEGORIES:Community Event,Volunteer Opportunity
GEO:47.4747434;-122.2798545
X-APPLE-STRUCTURED-LOCATION;VALUE=URI;X-ADDRESS=Foster High’s Performing Arts Center 4242 S 144th St Tukwila 98188;X-APPLE-RADIUS=500;X-TITLE=4242 S 144th St:geo:-122.2798545,47.4747434
END:VEVENT
BEGIN:VEVENT
DTSTART;VALUE=DATE:20200419
DTEND;VALUE=DATE:20200420
DTSTAMP:20260424T193437
CREATED:20190916T184628Z
LAST-MODIFIED:20200317T224150Z
UID:10005461-1587254400-1587340799@www.tukwilawa.gov
SUMMARY:Rainier Symphony - Cancelled
DESCRIPTION:  \n“Enigma” concert with Rainier Symphony.   An artistically distinguished 75-member community orchestra founded in 1981. \nConcert series supported by Tukwila Arts Commission and King County 4Culture. \nAPRIL 18 @ 7:30 pm \nAPRIL 19 @ 3:00 pm \n  \n\n$20 Adult\n$14 Senior / Student\nFree for Children 12 & Under\n\nGroup discounts are available for purchases of 10 or more tickets.   Get 5 tickets for the price of 4 by purchasing a Season Ticket Package. \nFor more information\, call 206-781-5618.   www.RainierSymphony.org
URL:https://www.tukwilawa.gov/event/rainier-symphony-3/2020-04-19/
LOCATION:Foster High’s Performing Arts Center\, 4242 S 144th St\, Tukwila\, 98188
CATEGORIES:Community Event,Volunteer Opportunity
GEO:47.4747434;-122.2798545
X-APPLE-STRUCTURED-LOCATION;VALUE=URI;X-ADDRESS=Foster High’s Performing Arts Center 4242 S 144th St Tukwila 98188;X-APPLE-RADIUS=500;X-TITLE=4242 S 144th St:geo:-122.2798545,47.4747434
END:VEVENT
BEGIN:VEVENT
DTSTART;VALUE=DATE:20200425
DTEND;VALUE=DATE:20200426
DTSTAMP:20260424T193437
CREATED:20190415T193631Z
LAST-MODIFIED:20220121T000832Z
UID:10005305-1587772800-1587859199@www.tukwilawa.gov
SUMMARY:TIBAC Trash Pick Up
DESCRIPTION:  \nTukwila International Boulevard Action Committee (TIBAC) Trash Pick Up Day \nFor location or information contact Sharon Mann at (206) 200-3616.
URL:https://www.tukwilawa.gov/event/tibac-trash-pick-up/2020-04-25/
LOCATION:6200 Southcenter Blvd.\, Tukwila\, WA\, 98188\, United States
CATEGORIES:Community Event,Volunteer Opportunity
GEO:47.4632017;-122.2556931
X-APPLE-STRUCTURED-LOCATION;VALUE=URI;X-ADDRESS=6200 Southcenter Blvd. Tukwila WA 98188 United States;X-APPLE-RADIUS=500;X-TITLE=6200 Southcenter Blvd.:geo:-122.2556931,47.4632017
END:VEVENT
BEGIN:VEVENT
DTSTART;VALUE=DATE:20200425
DTEND;VALUE=DATE:20200426
DTSTAMP:20260424T193437
CREATED:20200417T235502Z
LAST-MODIFIED:20200417T235717Z
UID:10004566-1587772800-1587859199@www.tukwilawa.gov
SUMMARY:SnackPack Online Auction Registration Ends Today
DESCRIPTION:  \nStill Waters’ Tukwila Weekend SnackPack Online Auction will be from 5 pm – 9 pm on May 2!\nOur goal this year is to raise $75\,000\, which will help provide much needed food to hungry students in Tukwila. $10 ticket sales end\, Saturday\, April 25. \n  \nREGISTER ONLINE \n\nVisit charityauction.bid/tuksnackpack to register for the event by purchasing a ticket for the low price of $10.\nGive your snail mail address as well as email when you register since many of the auction items will be  mailed out to winning bidders.\n\nIf you have donated to our Emergency SnackPack Fund\, you are already registered for the event. Refer to your email receipt for your access code or contact us to resend the code to you. \nCREATE A LOGIN \n\nVisit charityauction.bid/tuksnackpack and create a login to our auction website. This can be done at the time of registration. The access code you receive in your email receipt will facilitate this.\nIf you prefer to bid using your smartphone\, download the Auctria app from Google Play or Apple App Store. You will need either your login to our auction website or the access code to open our catalog in the app.\n\nBROWSE CATALOG \n\nBrowse through our online catalog charityauction.bid/tuksnackpack so that you have an idea ahead of time of what you would like to bid on.\nYou can use the website search parameters on the catalog page to locate the kinds of items you are interested in and star them as your favorites.\n\nLOG ON MAY 2 AT 5 PM \n\nLog in our auction website charityauction.bid/tuksnackpack or open the Auctria app on your smartphone.\n\nYou must have a credit card registered with your account. You can add a card by updating your profile using the “My Account” tab.
URL:https://www.tukwilawa.gov/event/snackpack-online-auction-registration-ends/
LOCATION:WA\, United States
CATEGORIES:Community Event,Volunteer Opportunity
END:VEVENT
BEGIN:VEVENT
DTSTART;VALUE=DATE:20200425
DTEND;VALUE=DATE:20200426
DTSTAMP:20260424T193437
CREATED:20221114T202255Z
LAST-MODIFIED:20221206T220332Z
UID:10005348-1587772800-1587859199@www.tukwilawa.gov
SUMMARY:TIBAC Trash Pick Up
DESCRIPTION:Tukwila International Boulevard Action Committee (TIBAC) Trash Pick Up Day \nFor location or information contact Sharon Mann at (206) 200-3616.
URL:https://www.tukwilawa.gov/event/tibac-trash-pick-up-3/2020-04-25/
LOCATION:6200 Southcenter Blvd.\, Tukwila\, WA\, 98188\, United States
CATEGORIES:Community Event,Volunteer Opportunity
GEO:47.4632017;-122.2556931
X-APPLE-STRUCTURED-LOCATION;VALUE=URI;X-ADDRESS=6200 Southcenter Blvd. Tukwila WA 98188 United States;X-APPLE-RADIUS=500;X-TITLE=6200 Southcenter Blvd.:geo:-122.2556931,47.4632017
END:VEVENT
BEGIN:VEVENT
DTSTART;VALUE=DATE:20200425
DTEND;VALUE=DATE:20200426
DTSTAMP:20260424T193437
CREATED:20221114T202255Z
LAST-MODIFIED:20221114T202255Z
UID:10005388-1587772800-1587859199@www.tukwilawa.gov
SUMMARY:TIBAC Trash Pick Up
DESCRIPTION:  \nTukwila International Boulevard Action Committee (TIBAC) Trash Pick Up Day \nFor location or information contact Sharon Mann at (206) 200-3616.
URL:https://www.tukwilawa.gov/event/tibac-trash-pick-up/2020-04-25/
LOCATION:6200 Southcenter Blvd.\, Tukwila\, WA\, 98188\, United States
CATEGORIES:Community Event,Volunteer Opportunity
GEO:47.4632017;-122.2556931
X-APPLE-STRUCTURED-LOCATION;VALUE=URI;X-ADDRESS=6200 Southcenter Blvd. Tukwila WA 98188 United States;X-APPLE-RADIUS=500;X-TITLE=6200 Southcenter Blvd.:geo:-122.2556931,47.4632017
END:VEVENT
END:VCALENDAR