BEGIN:VCALENDAR
VERSION:2.0
PRODID:-//City of Tukwila - ECPv6.15.20//NONSGML v1.0//EN
CALSCALE:GREGORIAN
METHOD:PUBLISH
X-WR-CALNAME:City of Tukwila
X-ORIGINAL-URL:https://www.tukwilawa.gov
X-WR-CALDESC:Events for City of Tukwila
REFRESH-INTERVAL;VALUE=DURATION:PT1H
X-Robots-Tag:noindex
X-PUBLISHED-TTL:PT1H
BEGIN:VTIMEZONE
TZID:America/Los_Angeles
BEGIN:DAYLIGHT
TZOFFSETFROM:-0800
TZOFFSETTO:-0700
TZNAME:PDT
DTSTART:20190310T100000
END:DAYLIGHT
BEGIN:STANDARD
TZOFFSETFROM:-0700
TZOFFSETTO:-0800
TZNAME:PST
DTSTART:20191103T090000
END:STANDARD
BEGIN:DAYLIGHT
TZOFFSETFROM:-0800
TZOFFSETTO:-0700
TZNAME:PDT
DTSTART:20200308T100000
END:DAYLIGHT
BEGIN:STANDARD
TZOFFSETFROM:-0700
TZOFFSETTO:-0800
TZNAME:PST
DTSTART:20201101T090000
END:STANDARD
BEGIN:DAYLIGHT
TZOFFSETFROM:-0800
TZOFFSETTO:-0700
TZNAME:PDT
DTSTART:20210314T100000
END:DAYLIGHT
BEGIN:STANDARD
TZOFFSETFROM:-0700
TZOFFSETTO:-0800
TZNAME:PST
DTSTART:20211107T090000
END:STANDARD
END:VTIMEZONE
BEGIN:VEVENT
DTSTART;TZID=America/Los_Angeles:20200612T170000
DTEND;TZID=America/Los_Angeles:20200612T170000
DTSTAMP:20260424T100204
CREATED:20200610T193803Z
LAST-MODIFIED:20200610T194015Z
UID:10004633-1591981200-1591981200@www.tukwilawa.gov
SUMMARY:SnackPack Board Members Application Due
DESCRIPTION:  \n \nOpenings for New Board Members:  Deadline Extended!\n\nWe currently have openings for three members to serve on Tukwila Weekend SnackPack’s non-profit board – Still Waters: Services for Families in Transition. These positions are for a 3-year term expiring June 2023. The deadline to apply is 5:00 pm\, Friday\, June 12\, 2020. If you are chosen as a candidate\, you will be invited to attend our annual meeting on Tuesday\, June 16\, 5:00 – 6:30 pm for a confirmation vote. \nPlease download\, fill out\, and return the two documents below by 5:00 pm\, Friday\, June 12\, 2020. Email them to stillwatersfamilyservices@gmail.com. \n\n\n\n\n\nBoard Member Application\n\n\nFile Size:\n339 kb\n\n\nFile Type:\ndoc\n\n\n\nDownload File \n  \n\n\n\nInterest and Involvement Form\n\n\nFile Size:\n317 kb\n\n\nFile Type:\ndocx\n\n\n\nDownload File
URL:https://www.tukwilawa.gov/event/snackpack-board-members-application-due/
LOCATION:WA\, United States
CATEGORIES:Volunteer Opportunity
END:VEVENT
BEGIN:VEVENT
DTSTART;TZID=America/Los_Angeles:20200622T120000
DTEND;TZID=America/Los_Angeles:20200622T130000
DTSTAMP:20260424T100204
CREATED:20200616T221555Z
LAST-MODIFIED:20200724T185400Z
UID:10004636-1592827200-1592830800@www.tukwilawa.gov
SUMMARY:FREE SnackPack Summer Lunch
DESCRIPTION:  \nSnackPack Mobile will start serving FREE hot lunches to children up to 18 years old.    \nIn conjunction with United Way of King County\, the AmeriCorps Vista HungerCorps\, and OPERATION: Sack Lunch\, we are pleased to announce that we will be serving free hot lunches! \n  \nJun 22 – Aug 28        Monday thru Friday \n12:00 pm – 1:00 pm \n   \nHampton Heights Apartments \nParking Lot \n5711 S 152nd St \n  \nTo help serve lunches\, call 206-717-4709 or email at TukSnackPack@gmail.com
URL:https://www.tukwilawa.gov/event/free-snackpack-summer-lunch/
LOCATION:WA\, United States
CATEGORIES:Community Event,Volunteer Opportunity
END:VEVENT
BEGIN:VEVENT
DTSTART;VALUE=DATE:20200627
DTEND;VALUE=DATE:20200628
DTSTAMP:20260424T100204
CREATED:20190415T193631Z
LAST-MODIFIED:20220121T000832Z
UID:10005307-1593216000-1593302399@www.tukwilawa.gov
SUMMARY:TIBAC Trash Pick Up
DESCRIPTION:  \nTukwila International Boulevard Action Committee (TIBAC) Trash Pick Up Day \nFor location or information contact Sharon Mann at (206) 200-3616.
URL:https://www.tukwilawa.gov/event/tibac-trash-pick-up/2020-06-27/
LOCATION:6200 Southcenter Blvd.\, Tukwila\, WA\, 98188\, United States
CATEGORIES:Community Event,Volunteer Opportunity
GEO:47.4632017;-122.2556931
X-APPLE-STRUCTURED-LOCATION;VALUE=URI;X-ADDRESS=6200 Southcenter Blvd. Tukwila WA 98188 United States;X-APPLE-RADIUS=500;X-TITLE=6200 Southcenter Blvd.:geo:-122.2556931,47.4632017
END:VEVENT
BEGIN:VEVENT
DTSTART;VALUE=DATE:20200627
DTEND;VALUE=DATE:20200628
DTSTAMP:20260424T100204
CREATED:20221114T202255Z
LAST-MODIFIED:20221114T202255Z
UID:10005390-1593216000-1593302399@www.tukwilawa.gov
SUMMARY:TIBAC Trash Pick Up
DESCRIPTION:  \nTukwila International Boulevard Action Committee (TIBAC) Trash Pick Up Day \nFor location or information contact Sharon Mann at (206) 200-3616.
URL:https://www.tukwilawa.gov/event/tibac-trash-pick-up/2020-06-27/
LOCATION:6200 Southcenter Blvd.\, Tukwila\, WA\, 98188\, United States
CATEGORIES:Community Event,Volunteer Opportunity
GEO:47.4632017;-122.2556931
X-APPLE-STRUCTURED-LOCATION;VALUE=URI;X-ADDRESS=6200 Southcenter Blvd. Tukwila WA 98188 United States;X-APPLE-RADIUS=500;X-TITLE=6200 Southcenter Blvd.:geo:-122.2556931,47.4632017
END:VEVENT
BEGIN:VEVENT
DTSTART;VALUE=DATE:20200627
DTEND;VALUE=DATE:20200628
DTSTAMP:20260424T100204
CREATED:20221114T202255Z
LAST-MODIFIED:20221206T220332Z
UID:10005350-1593216000-1593302399@www.tukwilawa.gov
SUMMARY:TIBAC Trash Pick Up
DESCRIPTION:Tukwila International Boulevard Action Committee (TIBAC) Trash Pick Up Day \nFor location or information contact Sharon Mann at (206) 200-3616.
URL:https://www.tukwilawa.gov/event/tibac-trash-pick-up-3/2020-06-27/
LOCATION:6200 Southcenter Blvd.\, Tukwila\, WA\, 98188\, United States
CATEGORIES:Community Event,Volunteer Opportunity
GEO:47.4632017;-122.2556931
X-APPLE-STRUCTURED-LOCATION;VALUE=URI;X-ADDRESS=6200 Southcenter Blvd. Tukwila WA 98188 United States;X-APPLE-RADIUS=500;X-TITLE=6200 Southcenter Blvd.:geo:-122.2556931,47.4632017
END:VEVENT
END:VCALENDAR