BEGIN:VCALENDAR
VERSION:2.0
PRODID:-//City of Tukwila - ECPv6.15.20//NONSGML v1.0//EN
CALSCALE:GREGORIAN
METHOD:PUBLISH
X-WR-CALNAME:City of Tukwila
X-ORIGINAL-URL:https://www.tukwilawa.gov
X-WR-CALDESC:Events for City of Tukwila
REFRESH-INTERVAL;VALUE=DURATION:PT1H
X-Robots-Tag:noindex
X-PUBLISHED-TTL:PT1H
BEGIN:VTIMEZONE
TZID:America/Los_Angeles
BEGIN:DAYLIGHT
TZOFFSETFROM:-0800
TZOFFSETTO:-0700
TZNAME:PDT
DTSTART:20190310T100000
END:DAYLIGHT
BEGIN:STANDARD
TZOFFSETFROM:-0700
TZOFFSETTO:-0800
TZNAME:PST
DTSTART:20191103T090000
END:STANDARD
BEGIN:DAYLIGHT
TZOFFSETFROM:-0800
TZOFFSETTO:-0700
TZNAME:PDT
DTSTART:20200308T100000
END:DAYLIGHT
BEGIN:STANDARD
TZOFFSETFROM:-0700
TZOFFSETTO:-0800
TZNAME:PST
DTSTART:20201101T090000
END:STANDARD
BEGIN:DAYLIGHT
TZOFFSETFROM:-0800
TZOFFSETTO:-0700
TZNAME:PDT
DTSTART:20210314T100000
END:DAYLIGHT
BEGIN:STANDARD
TZOFFSETFROM:-0700
TZOFFSETTO:-0800
TZNAME:PST
DTSTART:20211107T090000
END:STANDARD
END:VTIMEZONE
BEGIN:VEVENT
DTSTART;VALUE=DATE:20200926
DTEND;VALUE=DATE:20200927
DTSTAMP:20260424T040451
CREATED:20190415T193631Z
LAST-MODIFIED:20220121T000832Z
UID:10005310-1601078400-1601164799@www.tukwilawa.gov
SUMMARY:TIBAC Trash Pick Up
DESCRIPTION:  \nTukwila International Boulevard Action Committee (TIBAC) Trash Pick Up Day \nFor location or information contact Sharon Mann at (206) 200-3616.
URL:https://www.tukwilawa.gov/event/tibac-trash-pick-up/2020-09-26/
LOCATION:6200 Southcenter Blvd.\, Tukwila\, WA\, 98188\, United States
CATEGORIES:Community Event,Volunteer Opportunity
GEO:47.4632017;-122.2556931
X-APPLE-STRUCTURED-LOCATION;VALUE=URI;X-ADDRESS=6200 Southcenter Blvd. Tukwila WA 98188 United States;X-APPLE-RADIUS=500;X-TITLE=6200 Southcenter Blvd.:geo:-122.2556931,47.4632017
END:VEVENT
BEGIN:VEVENT
DTSTART;VALUE=DATE:20200926
DTEND;VALUE=DATE:20200927
DTSTAMP:20260424T040451
CREATED:20221114T202255Z
LAST-MODIFIED:20221206T220332Z
UID:10005353-1601078400-1601164799@www.tukwilawa.gov
SUMMARY:TIBAC Trash Pick Up
DESCRIPTION:Tukwila International Boulevard Action Committee (TIBAC) Trash Pick Up Day \nFor location or information contact Sharon Mann at (206) 200-3616.
URL:https://www.tukwilawa.gov/event/tibac-trash-pick-up-3/2020-09-26/
LOCATION:6200 Southcenter Blvd.\, Tukwila\, WA\, 98188\, United States
CATEGORIES:Community Event,Volunteer Opportunity
GEO:47.4632017;-122.2556931
X-APPLE-STRUCTURED-LOCATION;VALUE=URI;X-ADDRESS=6200 Southcenter Blvd. Tukwila WA 98188 United States;X-APPLE-RADIUS=500;X-TITLE=6200 Southcenter Blvd.:geo:-122.2556931,47.4632017
END:VEVENT
BEGIN:VEVENT
DTSTART;VALUE=DATE:20200926
DTEND;VALUE=DATE:20200927
DTSTAMP:20260424T040451
CREATED:20221114T202255Z
LAST-MODIFIED:20221114T202255Z
UID:10005393-1601078400-1601164799@www.tukwilawa.gov
SUMMARY:TIBAC Trash Pick Up
DESCRIPTION:  \nTukwila International Boulevard Action Committee (TIBAC) Trash Pick Up Day \nFor location or information contact Sharon Mann at (206) 200-3616.
URL:https://www.tukwilawa.gov/event/tibac-trash-pick-up/2020-09-26/
LOCATION:6200 Southcenter Blvd.\, Tukwila\, WA\, 98188\, United States
CATEGORIES:Community Event,Volunteer Opportunity
GEO:47.4632017;-122.2556931
X-APPLE-STRUCTURED-LOCATION;VALUE=URI;X-ADDRESS=6200 Southcenter Blvd. Tukwila WA 98188 United States;X-APPLE-RADIUS=500;X-TITLE=6200 Southcenter Blvd.:geo:-122.2556931,47.4632017
END:VEVENT
END:VCALENDAR