BEGIN:VCALENDAR
VERSION:2.0
PRODID:-//City of Tukwila - ECPv6.15.20//NONSGML v1.0//EN
CALSCALE:GREGORIAN
METHOD:PUBLISH
X-ORIGINAL-URL:https://www.tukwilawa.gov
X-WR-CALDESC:Events for City of Tukwila
REFRESH-INTERVAL;VALUE=DURATION:PT1H
X-Robots-Tag:noindex
X-PUBLISHED-TTL:PT1H
BEGIN:VTIMEZONE
TZID:America/Los_Angeles
BEGIN:DAYLIGHT
TZOFFSETFROM:-0800
TZOFFSETTO:-0700
TZNAME:PDT
DTSTART:20190310T100000
END:DAYLIGHT
BEGIN:STANDARD
TZOFFSETFROM:-0700
TZOFFSETTO:-0800
TZNAME:PST
DTSTART:20191103T090000
END:STANDARD
BEGIN:DAYLIGHT
TZOFFSETFROM:-0800
TZOFFSETTO:-0700
TZNAME:PDT
DTSTART:20200308T100000
END:DAYLIGHT
BEGIN:STANDARD
TZOFFSETFROM:-0700
TZOFFSETTO:-0800
TZNAME:PST
DTSTART:20201101T090000
END:STANDARD
BEGIN:DAYLIGHT
TZOFFSETFROM:-0800
TZOFFSETTO:-0700
TZNAME:PDT
DTSTART:20210314T100000
END:DAYLIGHT
BEGIN:STANDARD
TZOFFSETFROM:-0700
TZOFFSETTO:-0800
TZNAME:PST
DTSTART:20211107T090000
END:STANDARD
END:VTIMEZONE
BEGIN:VEVENT
DTSTART;VALUE=DATE:20201101
DTEND;VALUE=DATE:20201102
DTSTAMP:20260423T113520
CREATED:20201020T173503Z
LAST-MODIFIED:20201020T173613Z
UID:10005946-1604188800-1604275199@www.tukwilawa.gov
SUMMARY:SnackPack Oodles of Noodles Challenge
DESCRIPTION:  \nDuring November Hunger & Homelessness Awareness Month in Tukwila\, SnackPack is issuing a challenge. \nThe team that donates the largest number of Cup Noodles in November will win tickets to our spring auction and will be recognized at the event as well as in our newsletters and FB posts. \nSo\, organize your friends\, family\, service club\, social group\, business associates or members of your faith community\, and register your team today. You will be able to follow the progress of this competition on our Facebook Event Page. \nLet others know about this challenge and encourage them to form their own teams. With your help\, we can reach the goal of #NoChildHungryInTukwila! \n\n   Call 206-717-4709\n   m.me/TukwilaWeekendSnackPack\n\n\n   tuksnackpack@gmail.com\n   http://www.tuksnackpack.com\n\n\n\n\nABOUT HOMELESSNESS IN TUKWILA: \nIn the academic year 2018-2019 307 students in Tukwila School District met the federal McKinney-Vento criteria for homelessness. This represents 10.1% of our school age children. Compare this to a TSD student homeless rate of 1.6% in 2009-2010. In one elementary school more than 20% of the students met the federal criteria for homelessness as defined in the McKinney-Vento Act. \nHere’s where the campaign money goes: The Tukwila Weekend SnackPack Program was launched in February 2015 to provide 7 meals each weekend for our McKinney-Vento students at Thorndyke Elementary. Since then\, we have distributed more than 200\,000 meals\, serving four schools in Tukwila. \nOver 200 volunteers worked last year to provide meals to close to 300 students each week. Volunteers come from the Tukwila church community\, Tukwila residents\, city employees\, and local business partners. \nThank you for helping to ensure that No Child Goes Hungry in Tukwila. https://youtu.be/Qe863tkVQUI
URL:https://www.tukwilawa.gov/event/snackpack-oodles-of-noodles-challenge/
LOCATION:WA
CATEGORIES:Community Event,Volunteer Opportunity
END:VEVENT
BEGIN:VEVENT
DTSTART;TZID=America/Los_Angeles:20201103T083000
DTEND;TZID=America/Los_Angeles:20201103T200000
DTSTAMP:20260423T113520
CREATED:20201023T170728Z
LAST-MODIFIED:20201023T171504Z
UID:10005947-1604392200-1604433600@www.tukwilawa.gov
SUMMARY:Election Day
DESCRIPTION:  \nBallots must be postmarked by today or returned to a ballot drop box by 8 PM tonight! \nYou can register in-person and vote today. Beat the line and register to vote early! \n  \nKING COUNTY ELECTIONS\n919 SW Grady Way \n  \nELECTION DAY   8:30 AM – 8:00 PM\n \nOCT 26 – NOV 2\nWeekdays   8:30 AM – 6:00 PM \nSat\, Oct 31   10:00 AM – 4:00 PM \n  \nFor more information\, call 206-296-8683 or visit  kingcounty.gov/depts/elections.aspx.
URL:https://www.tukwilawa.gov/event/23331/
LOCATION:King County Elections\, 919 Southwest Grady Way\, Renton\, WA
CATEGORIES:Community Event,Volunteer Opportunity
END:VEVENT
BEGIN:VEVENT
DTSTART;VALUE=DATE:20201128
DTEND;VALUE=DATE:20201129
DTSTAMP:20260423T113520
CREATED:20190415T193631Z
LAST-MODIFIED:20220121T000832Z
UID:10005312-1606521600-1606607999@www.tukwilawa.gov
SUMMARY:TIBAC Trash Pick Up
DESCRIPTION:  \nTukwila International Boulevard Action Committee (TIBAC) Trash Pick Up Day \nFor location or information contact Sharon Mann at (206) 200-3616.
URL:https://www.tukwilawa.gov/event/tibac-trash-pick-up/2020-11-28/
LOCATION:6200 Southcenter Blvd.\, Tukwila\, WA\, 98188\, United States
CATEGORIES:Community Event,Volunteer Opportunity
GEO:47.4632017;-122.2556931
X-APPLE-STRUCTURED-LOCATION;VALUE=URI;X-ADDRESS=6200 Southcenter Blvd. Tukwila WA 98188 United States;X-APPLE-RADIUS=500;X-TITLE=6200 Southcenter Blvd.:geo:-122.2556931,47.4632017
END:VEVENT
BEGIN:VEVENT
DTSTART;VALUE=DATE:20201128
DTEND;VALUE=DATE:20201129
DTSTAMP:20260423T113520
CREATED:20221114T202255Z
LAST-MODIFIED:20221206T220332Z
UID:10005355-1606521600-1606607999@www.tukwilawa.gov
SUMMARY:TIBAC Trash Pick Up
DESCRIPTION:Tukwila International Boulevard Action Committee (TIBAC) Trash Pick Up Day \nFor location or information contact Sharon Mann at (206) 200-3616.
URL:https://www.tukwilawa.gov/event/tibac-trash-pick-up-3/2020-11-28/
LOCATION:6200 Southcenter Blvd.\, Tukwila\, WA\, 98188\, United States
CATEGORIES:Community Event,Volunteer Opportunity
GEO:47.4632017;-122.2556931
X-APPLE-STRUCTURED-LOCATION;VALUE=URI;X-ADDRESS=6200 Southcenter Blvd. Tukwila WA 98188 United States;X-APPLE-RADIUS=500;X-TITLE=6200 Southcenter Blvd.:geo:-122.2556931,47.4632017
END:VEVENT
BEGIN:VEVENT
DTSTART;VALUE=DATE:20201128
DTEND;VALUE=DATE:20201129
DTSTAMP:20260423T113520
CREATED:20221114T202255Z
LAST-MODIFIED:20221114T202255Z
UID:10005395-1606521600-1606607999@www.tukwilawa.gov
SUMMARY:TIBAC Trash Pick Up
DESCRIPTION:  \nTukwila International Boulevard Action Committee (TIBAC) Trash Pick Up Day \nFor location or information contact Sharon Mann at (206) 200-3616.
URL:https://www.tukwilawa.gov/event/tibac-trash-pick-up/2020-11-28/
LOCATION:6200 Southcenter Blvd.\, Tukwila\, WA\, 98188\, United States
CATEGORIES:Community Event,Volunteer Opportunity
GEO:47.4632017;-122.2556931
X-APPLE-STRUCTURED-LOCATION;VALUE=URI;X-ADDRESS=6200 Southcenter Blvd. Tukwila WA 98188 United States;X-APPLE-RADIUS=500;X-TITLE=6200 Southcenter Blvd.:geo:-122.2556931,47.4632017
END:VEVENT
END:VCALENDAR