BEGIN:VCALENDAR
VERSION:2.0
PRODID:-//City of Tukwila - ECPv6.15.20//NONSGML v1.0//EN
CALSCALE:GREGORIAN
METHOD:PUBLISH
X-WR-CALNAME:City of Tukwila
X-ORIGINAL-URL:https://www.tukwilawa.gov
X-WR-CALDESC:Events for City of Tukwila
REFRESH-INTERVAL;VALUE=DURATION:PT1H
X-Robots-Tag:noindex
X-PUBLISHED-TTL:PT1H
BEGIN:VTIMEZONE
TZID:America/Los_Angeles
BEGIN:DAYLIGHT
TZOFFSETFROM:-0800
TZOFFSETTO:-0700
TZNAME:PDT
DTSTART:20200308T100000
END:DAYLIGHT
BEGIN:STANDARD
TZOFFSETFROM:-0700
TZOFFSETTO:-0800
TZNAME:PST
DTSTART:20201101T090000
END:STANDARD
BEGIN:DAYLIGHT
TZOFFSETFROM:-0800
TZOFFSETTO:-0700
TZNAME:PDT
DTSTART:20210314T100000
END:DAYLIGHT
BEGIN:STANDARD
TZOFFSETFROM:-0700
TZOFFSETTO:-0800
TZNAME:PST
DTSTART:20211107T090000
END:STANDARD
BEGIN:DAYLIGHT
TZOFFSETFROM:-0800
TZOFFSETTO:-0700
TZNAME:PDT
DTSTART:20220313T100000
END:DAYLIGHT
BEGIN:STANDARD
TZOFFSETFROM:-0700
TZOFFSETTO:-0800
TZNAME:PST
DTSTART:20221106T090000
END:STANDARD
END:VTIMEZONE
BEGIN:VEVENT
DTSTART;TZID=America/Los_Angeles:20211110T083000
DTEND;TZID=America/Los_Angeles:20211110T170000
DTSTAMP:20260420T024931
CREATED:20211027T181950Z
LAST-MODIFIED:20211027T181950Z
UID:10006126-1636533000-1636563600@www.tukwilawa.gov
SUMMARY:Board\, Commission & Committee Applications Due
DESCRIPTION:___________________________________________________________________________ \n  \nAPPLICATIONS FOR BOARD\, COMMISSION \nAND COMMITTEE VOLUNTEER POSITIONS ARE DUE AT  \n5:00 PM TODAY! \nThis is an excellent opportunity to help serve your community. These advisory bodies provide guidance to decision-makers and represent the diverse viewpoints of the community\, brining public participation into government. Volunteers serve a vital function by offering their time and expertise as members. \n  \nClick here for more information. \nOr\, call City Hall at 206-433-1850.
URL:https://www.tukwilawa.gov/event/board-commission-committee-applications-due/
LOCATION:Tukwila City Hall\, 6200 Southcenter Blvd.\, Tukwila\, WA\, 98188\, United States
CATEGORIES:Volunteer Opportunity
END:VEVENT
BEGIN:VEVENT
DTSTART;TZID=America/Los_Angeles:20211110T113000
DTEND;TZID=America/Los_Angeles:20211110T133000
DTSTAMP:20260420T024931
CREATED:20210511T165741Z
LAST-MODIFIED:20220425T173144Z
UID:10006081-1636543800-1636551000@www.tukwilawa.gov
SUMMARY:Restoration at Riverton Work Party
DESCRIPTION:GREEN TUKWILA PARTNERSHIP\n\n\n\nA MEMBER OF THE GREEN CITIES NETWORK\n\n\n\n\n\nThe City of Tukwila\njoined the Green Cities Partnership\, a regional collaboration of cities working to steward natural open spaces in 2017. Tukwila’s program and\ninitiative are called “Green Tukwila.”   Together with Forterra\, EarthCorps\, Duwamish Alive Coalition\, Dirt Corps\, King County Parks\, and the Tukwila community\, Green Tukwila will care for public parks and natural open spaces across the city. Throughout the next 20 years\, the partnership will work to restore and maintain 138 acres of Tukwila’s urban forest.\n\n\n\n\n\nGET INVOLVED TODAY!\nTo do this great work we need everyone’s help. Join friends\, neighbors\, and bring your families outside to learn about trees\, shrubs\, invasive plants\, how to use tools\, and much more. Work parties are being planned for community members and businesses to care for precious urban forests and to ensure healthy\, safe\, and beautiful public spaces to enjoy in the future. \n\n\n\n\nRestoration at Riverton Park\, second Wednesday\, year-round. \n\nMay 11\, 11:30 a.m. – 1:30 p.m.   Sign Up\nJune 8\, 11:30 a.m. – 1:30 p.m.   Sign Up\nJuly 13\, 11:30 a.m. – 1:30 p.m.   Sign Up\nAugust 10\, 11:30 a.m. – 1:30 p.m.   Sign Up\n\n  \n\n\nTO GET MORE INFORMATION\, CLICK ON THIS LINK:  https://www.tukwilawa.gov/departments/parks-and-recreation/volunteering/green-tukwila-partnership/\n\n\n Don’t miss out! Join our email list and learn about upcoming events. \n  \n\n\nOTHER UPCOMING EVENTS\nDuwamish Hill Perserve\, third Saturday\, March – May. \n\nMarch 19\, 10 a.m. – 1 p.m.    Sign Up\nApril 16\, Duwamish Alive event\, 10 a.m. – 1 p.m.    Sign Up\nMay 21\, 10 a.m. – 1 p.m.    Sign Up\n\n 
URL:https://www.tukwilawa.gov/event/restoration-at-riverton-work-party/2021-11-10/
LOCATION:6200 Southcenter Blvd.\, Tukwila\, WA\, 98188\, United States
CATEGORIES:City Event,Community Event,Volunteer Opportunity
ORGANIZER;CN="Olena Perry":MAILTO:Olena.Perry@TukwilaWA.gov
GEO:47.4632017;-122.2556931
X-APPLE-STRUCTURED-LOCATION;VALUE=URI;X-ADDRESS=6200 Southcenter Blvd. Tukwila WA 98188 United States;X-APPLE-RADIUS=500;X-TITLE=6200 Southcenter Blvd.:geo:-122.2556931,47.4632017
END:VEVENT
BEGIN:VEVENT
DTSTART;TZID=America/Los_Angeles:20211120T100000
DTEND;TZID=America/Los_Angeles:20211120T130000
DTSTAMP:20260420T024931
CREATED:20210806T191818Z
LAST-MODIFIED:20210927T163126Z
UID:10006116-1637402400-1637413200@www.tukwilawa.gov
SUMMARY:Restoration at Duwamish Hill Preserve
DESCRIPTION:  \nGreen Tukwila is following Public Health Guidelines to keep volunteers and staff safe during work parties. \nWork parties are limited to 20 people. If you need to cancel let us know so we can open up the opportunity.   If work parties fill up we may open a second work party on the same day. \nAll participants must: \nWear a mask if not vaccinated\nSocial distance\, 6 feet away from all other households. \nPlease eat before attending the work party and bring your own gloves. If you do not have gloves we will provide gloves for you. \nSIGN UP BELOW:
URL:https://www.tukwilawa.gov/event/duwamish-hill-preserve-work-party-10/2021-11-20/
LOCATION:Duwamish Hill Preserve\, 3800 S 115th St\, Tukwila\, WA\, 98168\, United States
CATEGORIES:City Event,Volunteer Opportunity
GEO:47.5010685;-122.2855265
X-APPLE-STRUCTURED-LOCATION;VALUE=URI;X-ADDRESS=Duwamish Hill Preserve 3800 S 115th St Tukwila WA 98168 United States;X-APPLE-RADIUS=500;X-TITLE=3800 S 115th St:geo:-122.2855265,47.5010685
END:VEVENT
BEGIN:VEVENT
DTSTART;VALUE=DATE:20211127
DTEND;VALUE=DATE:20211128
DTSTAMP:20260420T024931
CREATED:20190415T193631Z
LAST-MODIFIED:20220121T000832Z
UID:10005323-1637971200-1638057599@www.tukwilawa.gov
SUMMARY:TIBAC Trash Pick Up
DESCRIPTION:  \nTukwila International Boulevard Action Committee (TIBAC) Trash Pick Up Day \nFor location or information contact Sharon Mann at (206) 200-3616.
URL:https://www.tukwilawa.gov/event/tibac-trash-pick-up/2021-11-27/
LOCATION:6200 Southcenter Blvd.\, Tukwila\, WA\, 98188\, United States
CATEGORIES:Community Event,Volunteer Opportunity
GEO:47.4632017;-122.2556931
X-APPLE-STRUCTURED-LOCATION;VALUE=URI;X-ADDRESS=6200 Southcenter Blvd. Tukwila WA 98188 United States;X-APPLE-RADIUS=500;X-TITLE=6200 Southcenter Blvd.:geo:-122.2556931,47.4632017
END:VEVENT
BEGIN:VEVENT
DTSTART;VALUE=DATE:20211127
DTEND;VALUE=DATE:20211128
DTSTAMP:20260420T024931
CREATED:20221114T202255Z
LAST-MODIFIED:20221206T220332Z
UID:10005366-1637971200-1638057599@www.tukwilawa.gov
SUMMARY:TIBAC Trash Pick Up
DESCRIPTION:Tukwila International Boulevard Action Committee (TIBAC) Trash Pick Up Day \nFor location or information contact Sharon Mann at (206) 200-3616.
URL:https://www.tukwilawa.gov/event/tibac-trash-pick-up-3/2021-11-27/
LOCATION:6200 Southcenter Blvd.\, Tukwila\, WA\, 98188\, United States
CATEGORIES:Community Event,Volunteer Opportunity
GEO:47.4632017;-122.2556931
X-APPLE-STRUCTURED-LOCATION;VALUE=URI;X-ADDRESS=6200 Southcenter Blvd. Tukwila WA 98188 United States;X-APPLE-RADIUS=500;X-TITLE=6200 Southcenter Blvd.:geo:-122.2556931,47.4632017
END:VEVENT
BEGIN:VEVENT
DTSTART;VALUE=DATE:20211127
DTEND;VALUE=DATE:20211128
DTSTAMP:20260420T024931
CREATED:20221114T202255Z
LAST-MODIFIED:20221114T202255Z
UID:10005406-1637971200-1638057599@www.tukwilawa.gov
SUMMARY:TIBAC Trash Pick Up
DESCRIPTION:  \nTukwila International Boulevard Action Committee (TIBAC) Trash Pick Up Day \nFor location or information contact Sharon Mann at (206) 200-3616.
URL:https://www.tukwilawa.gov/event/tibac-trash-pick-up/2021-11-27/
LOCATION:6200 Southcenter Blvd.\, Tukwila\, WA\, 98188\, United States
CATEGORIES:Community Event,Volunteer Opportunity
GEO:47.4632017;-122.2556931
X-APPLE-STRUCTURED-LOCATION;VALUE=URI;X-ADDRESS=6200 Southcenter Blvd. Tukwila WA 98188 United States;X-APPLE-RADIUS=500;X-TITLE=6200 Southcenter Blvd.:geo:-122.2556931,47.4632017
END:VEVENT
BEGIN:VEVENT
DTSTART;VALUE=DATE:20211130
DTEND;VALUE=DATE:20211201
DTSTAMP:20260420T024931
CREATED:20211129T231038Z
LAST-MODIFIED:20211129T231234Z
UID:10004770-1638230400-1638316799@www.tukwilawa.gov
SUMMARY:SnackPack Giving Tuesday
DESCRIPTION:_________________________________________________________________________________________ \n  \nWe are participating in #GivingTuesday on November 30th to encourage support for our students. On Giving Tuesday\, you are encouraged to donate to charity\, start a fundraiser on behalf of a charity\, show up for an issue or people you care about\, or give some of what you have to those who need your help. Every act of generosity counts and everyone has something to give. \nWe are hoping to raise $9\,000 for our Tukwila Weekend SnackPack program which provides self stable meals over the weekend to student in Tukwila! \nDonate to support our mission #nochildhungryintukwila! \nMake an investment in the community TODAY! Click here:  paypal.com/us/fundraiser/charity/1620236 \nVisit tuksnackpack.com for more information. \n  \n_________________________________________________________________________________________\nVOLUNTEER OPPORTUNITIES FOR FALL 2021\nOn Wednesdays from 1:00pm – 3:00 pm\, please join our SnackPack Assembly Team to help unpack bulk food items\, set up an assembly line\, and assemble our Weekend SnackPacks at the Foster Tukwila Presbyterian Church. \nOn Fridays from 9:30 am to 11:00 am\, we are urgently needing volunteers to deliver and distribute our Weekend SnackPacks to Cascade View Elementary and other Tukwila schools. \nIf you are interested in volunteering\, please email us at tuksnackpack@gmail.com. \nThank you very much for making a difference and for getting our students fed during such a challenging time. We will continue to strive to reach our goal of #NoChildHungryInTukwila!
URL:https://www.tukwilawa.gov/event/snackpack-giving-tuesday/
LOCATION:6200 Southcenter Blvd.\, Tukwila\, WA\, 98188\, United States
CATEGORIES:Community Event,Volunteer Opportunity
GEO:47.4632017;-122.2556931
X-APPLE-STRUCTURED-LOCATION;VALUE=URI;X-ADDRESS=6200 Southcenter Blvd. Tukwila WA 98188 United States;X-APPLE-RADIUS=500;X-TITLE=6200 Southcenter Blvd.:geo:-122.2556931,47.4632017
END:VEVENT
END:VCALENDAR