BEGIN:VCALENDAR
VERSION:2.0
PRODID:-//City of Tukwila - ECPv6.15.20//NONSGML v1.0//EN
CALSCALE:GREGORIAN
METHOD:PUBLISH
X-ORIGINAL-URL:https://www.tukwilawa.gov
X-WR-CALDESC:Events for City of Tukwila
REFRESH-INTERVAL;VALUE=DURATION:PT1H
X-Robots-Tag:noindex
X-PUBLISHED-TTL:PT1H
BEGIN:VTIMEZONE
TZID:America/Los_Angeles
BEGIN:DAYLIGHT
TZOFFSETFROM:-0800
TZOFFSETTO:-0700
TZNAME:PDT
DTSTART:20220313T100000
END:DAYLIGHT
BEGIN:STANDARD
TZOFFSETFROM:-0700
TZOFFSETTO:-0800
TZNAME:PST
DTSTART:20221106T090000
END:STANDARD
BEGIN:DAYLIGHT
TZOFFSETFROM:-0800
TZOFFSETTO:-0700
TZNAME:PDT
DTSTART:20230312T100000
END:DAYLIGHT
BEGIN:STANDARD
TZOFFSETFROM:-0700
TZOFFSETTO:-0800
TZNAME:PST
DTSTART:20231105T090000
END:STANDARD
BEGIN:DAYLIGHT
TZOFFSETFROM:-0800
TZOFFSETTO:-0700
TZNAME:PDT
DTSTART:20240310T100000
END:DAYLIGHT
BEGIN:STANDARD
TZOFFSETFROM:-0700
TZOFFSETTO:-0800
TZNAME:PST
DTSTART:20241103T090000
END:STANDARD
END:VTIMEZONE
BEGIN:VEVENT
DTSTART;TZID=America/Los_Angeles:20230506T080000
DTEND;TZID=America/Los_Angeles:20230506T170000
DTSTAMP:20260419T090052
CREATED:20221214T191746Z
LAST-MODIFIED:20221214T192026Z
UID:10006570-1683360000-1683392400@www.tukwilawa.gov
SUMMARY:Give Blood to Save 3 Lives
DESCRIPTION:You’re the type to help save lives.\nDONATE BLOOD WITH BLOODWORKS AND FILL OUT THE ENTRY FORM TO WIN A BIG PRIZE THIS MONTH! \nEvery two seconds in the United States\, someone needs blood. No matter who you are\, you can help. Here are what types of blood we most urgently need right now. \nYour donation is critical! To schedule an appointment\, call 1-800-398-7888. \nClick here for more information and to schedule an appointment online. \n  \nBLOODWORKS DONATION CENTER \n660 SW 39TH ST #100\, RENTON  (1 block from IKEA) \n  \nWhole Blood and Apheresis Donation Hours \nMonday:   8am to 4pm \nTuesday:   11am to 7pm \nWednesday:   10am to 6pm \nThursday:   8am to 4pm \nFriday:   8am to 4pm \nSaturday:   8am to 4pm \nSunday:   8am to 4pm
URL:https://www.tukwilawa.gov/event/give-blood-to-save-3-lives/2023-05-06/
LOCATION:6200 Southcenter Blvd.\, Tukwila\, WA\, 98188\, United States
CATEGORIES:Community Event,Volunteer Opportunity
GEO:47.4632017;-122.2556931
X-APPLE-STRUCTURED-LOCATION;VALUE=URI;X-ADDRESS=6200 Southcenter Blvd. Tukwila WA 98188 United States;X-APPLE-RADIUS=500;X-TITLE=6200 Southcenter Blvd.:geo:-122.2556931,47.4632017
END:VEVENT
BEGIN:VEVENT
DTSTART;TZID=America/Los_Angeles:20230509T173000
DTEND;TZID=America/Los_Angeles:20230509T183000
DTSTAMP:20260419T090052
CREATED:20240112T175508Z
LAST-MODIFIED:20240112T175508Z
UID:10008275-1683653400-1683657000@www.tukwilawa.gov
SUMMARY:Park Commission
DESCRIPTION:Advises City officials regarding the acquisition\, development\, expansion and operation of parks and recreational facilities and programs. Meets in the Executive Conference Room at the Tukwila Community Center or you can participate virtually on Microsoft Teams. \nFor information\, contact Kris Kelly at Kris.Kelly@TukwilaWA.gov. \nSee agenda packets and minutes:  http://records.tukwilawa.gov/WebLink8/1/fol/179376/Row1.aspx \n  \n\n  \nSIGN UP TO RECEIVE LINKS TO COUNCIL\, COMMITTEE\, BOARD & COMMISSION PACKETS ON FRIDAYS:   https://www.tukwilawa.gov/departments/city-clerks-office/ \n  \n 
URL:https://www.tukwilawa.gov/event/park-commission-3/2023-05-09/
LOCATION:WA
CATEGORIES:Meeting,Volunteer Opportunity
END:VEVENT
BEGIN:VEVENT
DTSTART;TZID=America/Los_Angeles:20230510T113000
DTEND;TZID=America/Los_Angeles:20230510T133000
DTSTAMP:20260419T090052
CREATED:20230209T004051Z
LAST-MODIFIED:20230209T004052Z
UID:10007127-1683718200-1683725400@www.tukwilawa.gov
SUMMARY:Restoration at Riverton Park Work Party
DESCRIPTION:RESTORATION AT RIVERTON PARK WORK PARTIES:  \nWork parties are led by Park Staff and resident Forest Steward\, Debbie G. on the second Wednesday of the month. \n\nFeb 8  11:30 am – 1:30 pm   Love your LOCAL PARK    CLICK HERE\nMar 8  11:30 am – 1:30 pm   CLICK HERE\nApr 12  11:30 am – 1:30 pm   Earth Month    CLICK HERE\nMay 10  11:30 am – 1:30 pm   CLICK HERE\nJun 14 11:30 am – 1:30 pm   CLICK HERE\nJul 12  11:30 am – 1:30 pm   CLICK HERE\nAug 9   11:30 am – 1:30 pm  CLICK HERE\nSep 13  11:30 am – 1:30 pm   CLICK HERE\nOct 11 11:30 am – 1:30 pm   CLICK HERE\nNov 8  11:30 am – 1:30 pm   CLICK HERE\nDec 13 11:30 am – 1:30 pm   CLICK HERE\n\nIf you are unable to find the location\, please reach out to the Tukwila Community Center at (206) 768-2822 or stop by: 12424 42nd Ave S\, Tukwila\, WA 98168\nTo cancel\, or have questions please reach out to Olena.Perry@Tukwilawa.gov. \n\nBelow are additional work parties in Tukwila to sign-up. Or\, click on this link to view on the map and sign-up:  https://tukwila.greencitypartnerships.org/event/map/ \n  \nCOTTONWOOD CORNER / RIVERTON CREEK WORK PARTIES:  \nHomeschool Stewardship Squad and neighbors come together on Thursdays to make an impact. \n\nFeb 9  11:00 am – 2:00 pm   Love your LOCAL PARK Planting Event   CLICK HERE\nApr 13  11:00 am – 2:00 pm   Earth Month work party!    CLICK HERE\nMay 11  11:00 am – 2:00 pm   CLICK HERE\nJun 8  11:00 am – 2:00 pm   CLICK HERE\n\n  \n\n  \nDUWAMISH HILL PRESERVE WORK PARTIES:  \n\nMar 18 10:00 am – 1:00 pm    CLICK HERE\nApr 15 10:00 am – 1:00 pm   Spring Duwamish Alive Event    CLICK HERE\nMay 20  10:00 am – 1:00 pm   CLICK HERE\nSep 16 10:00 am – 1:00 pm    CLICK HERE\nOct 21  10:00 am – 1:00 pm   Duwamish Alive   CLICK HERE\nNov 18 10:00 am – 1:00 pm   Green Tukwila Day   CLICK HERE
URL:https://www.tukwilawa.gov/event/restoration-at-riverton-park-work-party-2/2023-05-10/
LOCATION:Riverton Park
CATEGORIES:City Event,Volunteer Opportunity
END:VEVENT
BEGIN:VEVENT
DTSTART;TZID=America/Los_Angeles:20230511T110000
DTEND;TZID=America/Los_Angeles:20230511T140000
DTSTAMP:20260419T090052
CREATED:20230209T001957Z
LAST-MODIFIED:20230209T004200Z
UID:10007112-1683802800-1683813600@www.tukwilawa.gov
SUMMARY:Cottonwood Corner / Riverton Creek Work Party
DESCRIPTION:COTTONWOOD CORNER / RIVERTON CREEK WORK PARTIES:  \nHomeschool Stewardship Squad and neighbors come together on Thursdays to make an impact. \n\nFeb 9  11:00 am – 2:00 pm   Love your LOCAL PARK Planting Event   CLICK HERE\nApr 13  11:00 am – 2:00 pm   Earth Month work party!    CLICK HERE\nMay 11  11:00 am – 2:00 pm   CLICK HERE\nJun 8  11:00 am – 2:00 pm   CLICK HERE\n\nIf you are unable to find the location\, please reach out to the Tukwila Community Center at (206) 768-2822 or stop by: 12424 42nd Ave S\, Tukwila\, WA 98168\nTo cancel\, or have questions please reach out to Olena.Perry@Tukwilawa.gov. \n  \n\nBelow are additional work parties in Tukwila to sign-up. Or\, click on this link to view on the map and sign-up:  https://tukwila.greencitypartnerships.org/event/map/ \nRESTORATION AT RIVERTON PARK WORK PARTIES:  \nWork parties are led by Park Staff and resident Forest Steward\, Debbie G. on the second Wednesday of the month. \n\nFeb 8  11:30 am – 1:30 pm   Love your LOCAL PARK    CLICK HERE\nMar 8  11:30 am – 1:30 pm   CLICK HERE\nApr 12  11:30 am – 1:30 pm   Earth Month    CLICK HERE\nMay 10  11:30 am – 1:30 pm   CLICK HERE\nJun 14 11:30 am – 1:30 pm   CLICK HERE\nJul 12  11:30 am – 1:30 pm   CLICK HERE\nAug 9   11:30 am – 1:30 pm  CLICK HERE\nSep 13  11:30 am – 1:30 pm   CLICK HERE\nOct 11 11:30 am – 1:30 pm   CLICK HERE\nNov 8  11:30 am – 1:30 pm   CLICK HERE\nDec 13 11:30 am – 1:30 pm   CLICK HERE\n\n  \n\n  \nDUWAMISH HILL PRESERVE WORK PARTIES:  \n\nMar 18 10:00 am – 1:00 pm    CLICK HERE\nApr 15 10:00 am – 1:00 pm   Spring Duwamish Alive Event    CLICK HERE\nMay 20  10:00 am – 1:00 pm   CLICK HERE\nSep 16 10:00 am – 1:00 pm    CLICK HERE\nOct 21  10:00 am – 1:00 pm   Duwamish Alive   CLICK HERE\nNov 18 10:00 am – 1:00 pm   Green Tukwila Day   CLICK HERE
URL:https://www.tukwilawa.gov/event/cottonwood-corner-riverton-creek-work-party/2023-05-11/
LOCATION:6200 Southcenter Blvd.\, Tukwila\, WA\, 98188\, United States
CATEGORIES:City Event,Volunteer Opportunity
GEO:47.4632017;-122.2556931
X-APPLE-STRUCTURED-LOCATION;VALUE=URI;X-ADDRESS=6200 Southcenter Blvd. Tukwila WA 98188 United States;X-APPLE-RADIUS=500;X-TITLE=6200 Southcenter Blvd.:geo:-122.2556931,47.4632017
END:VEVENT
BEGIN:VEVENT
DTSTART;TZID=America/Los_Angeles:20230515T160000
DTEND;TZID=America/Los_Angeles:20230515T160000
DTSTAMP:20260419T090052
CREATED:20230306T233011Z
LAST-MODIFIED:20230428T173710Z
UID:10007143-1684166400-1684166400@www.tukwilawa.gov
SUMMARY:Candidate In-Person & Online Filing Begins
DESCRIPTION:2023 CANDIDATE FILING \n\n\n\nMAIL:\nMonday\, May 1 through Friday\, May 19\, 4:30 p.m.\, regardless of postmark\nIN PERSON:\nMonday\, May 15 from 8:30 a.m. through Friday\, May 19 at 4:30 p.m.\nONLINE:\nMonday\, May 15 from 9:00 a.m. through Friday\, May 19 at 4:00 p.m.\nDEADLINE TO WITHDRAW CANDIDANCY\nMonday\, May 22 at 4:30 p.m.\n\n\n\n\n\n\n\n\n\nClick here to print the timeline and information: 2023 Election and Campaign Filing Information \nTo become a candidate\, you must complete and file a Declaration of Candidacy\, meet the qualifications for the office at the time of filing\, and be registered to vote in the district. Read the Candidate Manual  for more information. \n\n\n\n\nCandidate resources\n\nCandidate Manual \nOffices Subject to Election\n\nPrintable format \nComma-delimited format \n\n\nCampaign contribution limits for King County offices\nBest practices for unofficial ballot printing stations & temporary drop boxes\nPolitical sign regulations (King County)\nPolitical sign regulations (WSDOT) \nPublic Disclosure Commission requirements \n\nGet to know the PDC handout \n\n\nSeattle candidate information:\n\nDemocracy Voucher Program \nSeattle Ethics and Elections \n\n\n\nOnline filing\n\nOnline candidate filing\nOnline voters’ pamphlet filing\n\nPaper forms\n\nCampaign contact information update form \nDeclaration of Candidacy \nFiling fee petition \n\nSubscribe to candidate notifications\nSubscribe to alerts for candidates\, campaign managers\, and others interested in running for office. Includes notices about campaign filing\, deadlines\, etc. \n 
URL:https://www.tukwilawa.gov/event/candidate-filing-begins/
LOCATION:King County Elections\, 919 Southwest Grady Way\, Renton\, WA
CATEGORIES:City Council,Community Event,Volunteer Opportunity
END:VEVENT
BEGIN:VEVENT
DTSTART;TZID=America/Los_Angeles:20230519T160000
DTEND;TZID=America/Los_Angeles:20230519T160000
DTSTAMP:20260419T090052
CREATED:20230306T233226Z
LAST-MODIFIED:20230428T173737Z
UID:10007144-1684512000-1684512000@www.tukwilawa.gov
SUMMARY:Candidate In-Person and Online Filing Ends
DESCRIPTION:2023 CANDIDATE FILING \n\n\nMAIL:\nMonday\, May 1 through Friday\, May 19\, 4:30 p.m.\, regardless of postmark\nIN PERSON:\nMonday\, May 15 from 8:30 a.m. through Friday\, May 19 at 4:30 p.m.\nONLINE:\nMonday\, May 15 from 9:00 a.m. through Friday\, May 19 at 4:00 p.m.\nDEADLINE TO WITHDRAW CANDIDANCY\nMonday\, May 22 at 4:30 p.m.\n\n\n\n\nClick here to print the timeline and information: 2023 Election and Campaign Filing Information \n  \n\n\n\n\n\n\nTo become a candidate\, you must complete and file a Declaration of Candidacy\, meet the qualifications for the office at the time of filing\, and be registered to vote in the district. Read the Candidate Manual  for more information.\n\n\n\n\n\n\n\n\nCandidate resources\n\nCandidate Manual \nOffices Subject to Election\n\nPrintable format \nComma-delimited format \n\n\nCampaign contribution limits for King County offices\nBest practices for unofficial ballot printing stations & temporary drop boxes\nPolitical sign regulations (King County)\nPolitical sign regulations (WSDOT) \nPublic Disclosure Commission requirements \n\nGet to know the PDC handout \n\n\nSeattle candidate information:\n\nDemocracy Voucher Program \nSeattle Ethics and Elections \n\n\n\nOnline filing\n\nOnline candidate filing\nOnline voters’ pamphlet filing\n\nPaper forms\n\nCampaign contact information update form \nDeclaration of Candidacy \nFiling fee petition \n\nSubscribe to candidate notifications\nSubscribe to alerts for candidates\, campaign managers\, and others interested in running for office. Includes notices about campaign filing\, deadlines\, etc. \n\n 
URL:https://www.tukwilawa.gov/event/candidate-filing-ends/
LOCATION:King County Elections\, 919 Southwest Grady Way\, Renton\, WA
CATEGORIES:City Council,Community Event,Volunteer Opportunity
END:VEVENT
BEGIN:VEVENT
DTSTART;TZID=America/Los_Angeles:20230520T100000
DTEND;TZID=America/Los_Angeles:20230520T130000
DTSTAMP:20260419T090052
CREATED:20230209T002702Z
LAST-MODIFIED:20230209T004241Z
UID:10007116-1684576800-1684587600@www.tukwilawa.gov
SUMMARY:Duwamish Hill Preserve Work Party
DESCRIPTION:DUWAMISH HILL PRESERVE:  \n\nMar 18 10:00 am – 1:00 pm    CLICK HERE\nApr 15 10:00 am – 1:00 pm   Spring Duwamish Alive Event    CLICK HERE\nMay 20  10:00 am – 1:00 pm   CLICK HERE\nSep 16 10:00 am – 1:00 pm    CLICK HERE\nOct 21  10:00 am – 1:00 pm   Duwamish Alive   CLICK HERE\nNov 18 10:00 am – 1:00 pm   Green Tukwila Day   CLICK HERE\n\nIf you are unable to find the location\, please reach out to the Tukwila Community Center at (206) 768-2822 or stop by: 12424 42nd Ave S\, Tukwila\, WA 98168\nTo cancel\, or have questions please reach out to Olena.Perry@Tukwilawa.gov. \n  \n\nBelow are additional work parties in Tukwila to sign-up. Or\, click on this link to view on the map and sign-up:  https://tukwila.greencitypartnerships.org/event/map/ \nRESTORATION AT RIVERTON PARK:  \nWork parties are led by Park Staff and resident Forest Steward\, Debbie G. on the second Wednesday of the month. \n\nFeb 8  11:30 am – 1:30 pm   Love your LOCAL PARK    CLICK HERE\nMar 8  11:30 am – 1:30 pm   CLICK HERE\nApr 12  11:30 am – 1:30 pm   Earth Month    CLICK HERE\nMay 10  11:30 am – 1:30 pm   CLICK HERE\nJun 14 11:30 am – 1:30 pm   CLICK HERE\nJul 12  11:30 am – 1:30 pm   CLICK HERE\nAug 9   11:30 am – 1:30 pm  CLICK HERE\nSep 13  11:30 am – 1:30 pm   CLICK HERE\nOct 11 11:30 am – 1:30 pm   CLICK HERE\nNov 8  11:30 am – 1:30 pm   CLICK HERE\nDec 13 11:30 am – 1:30 pm   CLICK HERE\n\n  \n\n  \nCOTTONWOOD CORNER / RIVERTON CREEK:  \nHomeschool Stewardship Squad and neighbors come together on Thursdays to make an impact. \n\nFeb 9  11:00 am – 2:00 pm   Love your LOCAL PARK Planting Event   CLICK HERE\nApr 13  11:00 am – 2:00 pm   Earth Month work party!    CLICK HERE\nMay 11  11:00 am – 2:00 pm   CLICK HERE\nJun 8  11:00 am – 2:00 pm   CLICK HERE\n\n 
URL:https://www.tukwilawa.gov/event/duwamish-hill-preserve-work-party-15/2023-05-20/
LOCATION:Duwamish Hill Preserve\, 3800 S 115th St\, Tukwila\, WA\, 98168\, United States
CATEGORIES:City Event,Volunteer Opportunity
GEO:47.5010685;-122.2855265
X-APPLE-STRUCTURED-LOCATION;VALUE=URI;X-ADDRESS=Duwamish Hill Preserve 3800 S 115th St Tukwila WA 98168 United States;X-APPLE-RADIUS=500;X-TITLE=3800 S 115th St:geo:-122.2855265,47.5010685
END:VEVENT
BEGIN:VEVENT
DTSTART;TZID=America/Los_Angeles:20230524T180000
DTEND;TZID=America/Los_Angeles:20230524T193000
DTSTAMP:20260419T090052
CREATED:20230508T154937Z
LAST-MODIFIED:20230508T154937Z
UID:10007293-1684951200-1684956600@www.tukwilawa.gov
SUMMARY:Arts Commission - Rescheduled to May 31
DESCRIPTION:Advises City officials on arts matters\, encourages citizen participation in the arts\, promote art projects. Advises the Mayor on expenditure of arts-related budget appropriations. \nIn-person meeting or Microsoft Teams meeting \nJoin on your computer\, mobile app or room device \nClick here to join the meeting \n  \nFor more information\, contact Michael May at Michael.May@TukwilaWA.gov. \nSee link for agendas and minutes:     http://records.tukwilawa.gov/WebLink8/1/fol/173956/Row1.aspx \n\n  \nSIGN UP TO RECEIVE LINKS TO COUNCIL\, COMMITTEE\, BOARD & COMMISSION PACKETS ON FRIDAYS:   https://www.tukwilawa.gov/departments/city-clerks-office/
URL:https://www.tukwilawa.gov/event/arts-commission-rescheduled-to-may-31/
LOCATION:Tukwila Community Center\, 12424 42nd Avenue South \, Tukwila\, WA\, 98168\, United States
CATEGORIES:Meeting,Volunteer Opportunity
GEO:47.4910019;-122.278439
X-APPLE-STRUCTURED-LOCATION;VALUE=URI;X-ADDRESS=Tukwila Community Center 12424 42nd Avenue South  Tukwila WA 98168 United States;X-APPLE-RADIUS=500;X-TITLE=12424 42nd Avenue South:geo:-122.278439,47.4910019
END:VEVENT
BEGIN:VEVENT
DTSTART;VALUE=DATE:20230527
DTEND;VALUE=DATE:20230528
DTSTAMP:20260419T090052
CREATED:20230511T223424Z
LAST-MODIFIED:20230511T223426Z
UID:10007150-1685145600-1685231999@www.tukwilawa.gov
SUMMARY:TIBAC Trash Pick Up
DESCRIPTION:Tukwila International Boulevard Action Committee (TIBAC) Trash Pick Up Day \nFor location or information contact Sharon Mann at 206-200-3616. \n  \n 
URL:https://www.tukwilawa.gov/event/tibac-trash-pick-up-5-2-2/2023-05-27/
LOCATION:WA
CATEGORIES:Community Event,Volunteer Opportunity
END:VEVENT
BEGIN:VEVENT
DTSTART;TZID=America/Los_Angeles:20230531T180000
DTEND;TZID=America/Los_Angeles:20230531T193000
DTSTAMP:20260419T090052
CREATED:20230508T155027Z
LAST-MODIFIED:20230508T155027Z
UID:10007294-1685556000-1685561400@www.tukwilawa.gov
SUMMARY:Special Arts Commission
DESCRIPTION:Advises City officials on arts matters\, encourages citizen participation in the arts\, promote art projects. Advises the Mayor on expenditure of arts-related budget appropriations. \nIn-person meeting or Microsoft Teams meeting \nJoin on your computer\, mobile app or room device \nClick here to join the meeting \n  \nFor more information\, contact Michael May at Michael.May@TukwilaWA.gov. \nSee link for agendas and minutes:     http://records.tukwilawa.gov/WebLink8/1/fol/173956/Row1.aspx \n\n  \nSIGN UP TO RECEIVE LINKS TO COUNCIL\, COMMITTEE\, BOARD & COMMISSION PACKETS ON FRIDAYS:   https://www.tukwilawa.gov/departments/city-clerks-office/
URL:https://www.tukwilawa.gov/event/special-arts-commission/
LOCATION:Tukwila Community Center\, 12424 42nd Avenue South \, Tukwila\, WA\, 98168\, United States
CATEGORIES:Meeting,Volunteer Opportunity
GEO:47.4910019;-122.278439
X-APPLE-STRUCTURED-LOCATION;VALUE=URI;X-ADDRESS=Tukwila Community Center 12424 42nd Avenue South  Tukwila WA 98168 United States;X-APPLE-RADIUS=500;X-TITLE=12424 42nd Avenue South:geo:-122.278439,47.4910019
END:VEVENT
END:VCALENDAR