BEGIN:VCALENDAR
VERSION:2.0
PRODID:-//City of Tukwila - ECPv6.15.20//NONSGML v1.0//EN
CALSCALE:GREGORIAN
METHOD:PUBLISH
X-WR-CALNAME:City of Tukwila
X-ORIGINAL-URL:https://www.tukwilawa.gov
X-WR-CALDESC:Events for City of Tukwila
REFRESH-INTERVAL;VALUE=DURATION:PT1H
X-Robots-Tag:noindex
X-PUBLISHED-TTL:PT1H
BEGIN:VTIMEZONE
TZID:America/Los_Angeles
BEGIN:DAYLIGHT
TZOFFSETFROM:-0800
TZOFFSETTO:-0700
TZNAME:PDT
DTSTART:20220313T100000
END:DAYLIGHT
BEGIN:STANDARD
TZOFFSETFROM:-0700
TZOFFSETTO:-0800
TZNAME:PST
DTSTART:20221106T090000
END:STANDARD
BEGIN:DAYLIGHT
TZOFFSETFROM:-0800
TZOFFSETTO:-0700
TZNAME:PDT
DTSTART:20230312T100000
END:DAYLIGHT
BEGIN:STANDARD
TZOFFSETFROM:-0700
TZOFFSETTO:-0800
TZNAME:PST
DTSTART:20231105T090000
END:STANDARD
BEGIN:DAYLIGHT
TZOFFSETFROM:-0800
TZOFFSETTO:-0700
TZNAME:PDT
DTSTART:20240310T100000
END:DAYLIGHT
BEGIN:STANDARD
TZOFFSETFROM:-0700
TZOFFSETTO:-0800
TZNAME:PST
DTSTART:20241103T090000
END:STANDARD
END:VTIMEZONE
BEGIN:VEVENT
DTSTART;TZID=America/Los_Angeles:20230601T173000
DTEND;TZID=America/Los_Angeles:20230601T190000
DTSTAMP:20260419T072409
CREATED:20230425T194019Z
LAST-MODIFIED:20230425T194019Z
UID:10007272-1685640600-1685646000@www.tukwilawa.gov
SUMMARY:Equity & Social Justice Commission
DESCRIPTION:Advises City and School officials of opportunities to promote understanding and acceptance of cultural diversity in our community. \nSee agendas and minutes: http://records.tukwilawa.gov/WebLink/1/fol/287184/Row1.aspx \n\nFor in-person\, please join us at 5:30PM – Tukwila Justice Center\, 15005 Tukwila International Blvd\, Tukwila\nTo join the meeting video on your computer or mobile app:     Click here to join the meeting\nTo participate in the meeting by phone: 253-292-9750\, Phone Conference ID: 986 969 249#\n\nFor assistance during the meeting\, please call Staff Liaison\, Jo Anderson\, at 206-658-7849. \n  \n\n  \nSIGN UP TO RECEIVE LINKS TO COUNCIL\, COMMITTEE\, BOARD & COMMISSION PACKETS ON FRIDAYS:   https://www.tukwilawa.gov/departments/city-clerks-office/
URL:https://www.tukwilawa.gov/event/equity-social-justice-commission-3/2023-06-01/
LOCATION:Tukwila Justice Center\, 15005 Tukwila International Blvd\, Tukwila\, WA\, 98188\, United States
CATEGORIES:Meeting,Volunteer Opportunity
END:VEVENT
BEGIN:VEVENT
DTSTART;TZID=America/Los_Angeles:20230603T080000
DTEND;TZID=America/Los_Angeles:20230603T170000
DTSTAMP:20260419T072409
CREATED:20221214T191746Z
LAST-MODIFIED:20221214T192026Z
UID:10006571-1685779200-1685811600@www.tukwilawa.gov
SUMMARY:Give Blood to Save 3 Lives
DESCRIPTION:You’re the type to help save lives.\nDONATE BLOOD WITH BLOODWORKS AND FILL OUT THE ENTRY FORM TO WIN A BIG PRIZE THIS MONTH! \nEvery two seconds in the United States\, someone needs blood. No matter who you are\, you can help. Here are what types of blood we most urgently need right now. \nYour donation is critical! To schedule an appointment\, call 1-800-398-7888. \nClick here for more information and to schedule an appointment online. \n  \nBLOODWORKS DONATION CENTER \n660 SW 39TH ST #100\, RENTON  (1 block from IKEA) \n  \nWhole Blood and Apheresis Donation Hours \nMonday:   8am to 4pm \nTuesday:   11am to 7pm \nWednesday:   10am to 6pm \nThursday:   8am to 4pm \nFriday:   8am to 4pm \nSaturday:   8am to 4pm \nSunday:   8am to 4pm
URL:https://www.tukwilawa.gov/event/give-blood-to-save-3-lives/2023-06-03/
LOCATION:6200 Southcenter Blvd.\, Tukwila\, WA\, 98188\, United States
CATEGORIES:Community Event,Volunteer Opportunity
GEO:47.4632017;-122.2556931
X-APPLE-STRUCTURED-LOCATION;VALUE=URI;X-ADDRESS=6200 Southcenter Blvd. Tukwila WA 98188 United States;X-APPLE-RADIUS=500;X-TITLE=6200 Southcenter Blvd.:geo:-122.2556931,47.4632017
END:VEVENT
BEGIN:VEVENT
DTSTART;TZID=America/Los_Angeles:20230608T110000
DTEND;TZID=America/Los_Angeles:20230608T140000
DTSTAMP:20260419T072409
CREATED:20230209T001957Z
LAST-MODIFIED:20230209T004200Z
UID:10007113-1686222000-1686232800@www.tukwilawa.gov
SUMMARY:Cottonwood Corner / Riverton Creek Work Party
DESCRIPTION:COTTONWOOD CORNER / RIVERTON CREEK WORK PARTIES:  \nHomeschool Stewardship Squad and neighbors come together on Thursdays to make an impact. \n\nFeb 9  11:00 am – 2:00 pm   Love your LOCAL PARK Planting Event   CLICK HERE\nApr 13  11:00 am – 2:00 pm   Earth Month work party!    CLICK HERE\nMay 11  11:00 am – 2:00 pm   CLICK HERE\nJun 8  11:00 am – 2:00 pm   CLICK HERE\n\nIf you are unable to find the location\, please reach out to the Tukwila Community Center at (206) 768-2822 or stop by: 12424 42nd Ave S\, Tukwila\, WA 98168\nTo cancel\, or have questions please reach out to Olena.Perry@Tukwilawa.gov. \n  \n\nBelow are additional work parties in Tukwila to sign-up. Or\, click on this link to view on the map and sign-up:  https://tukwila.greencitypartnerships.org/event/map/ \nRESTORATION AT RIVERTON PARK WORK PARTIES:  \nWork parties are led by Park Staff and resident Forest Steward\, Debbie G. on the second Wednesday of the month. \n\nFeb 8  11:30 am – 1:30 pm   Love your LOCAL PARK    CLICK HERE\nMar 8  11:30 am – 1:30 pm   CLICK HERE\nApr 12  11:30 am – 1:30 pm   Earth Month    CLICK HERE\nMay 10  11:30 am – 1:30 pm   CLICK HERE\nJun 14 11:30 am – 1:30 pm   CLICK HERE\nJul 12  11:30 am – 1:30 pm   CLICK HERE\nAug 9   11:30 am – 1:30 pm  CLICK HERE\nSep 13  11:30 am – 1:30 pm   CLICK HERE\nOct 11 11:30 am – 1:30 pm   CLICK HERE\nNov 8  11:30 am – 1:30 pm   CLICK HERE\nDec 13 11:30 am – 1:30 pm   CLICK HERE\n\n  \n\n  \nDUWAMISH HILL PRESERVE WORK PARTIES:  \n\nMar 18 10:00 am – 1:00 pm    CLICK HERE\nApr 15 10:00 am – 1:00 pm   Spring Duwamish Alive Event    CLICK HERE\nMay 20  10:00 am – 1:00 pm   CLICK HERE\nSep 16 10:00 am – 1:00 pm    CLICK HERE\nOct 21  10:00 am – 1:00 pm   Duwamish Alive   CLICK HERE\nNov 18 10:00 am – 1:00 pm   Green Tukwila Day   CLICK HERE
URL:https://www.tukwilawa.gov/event/cottonwood-corner-riverton-creek-work-party/2023-06-08/
LOCATION:6200 Southcenter Blvd.\, Tukwila\, WA\, 98188\, United States
CATEGORIES:City Event,Volunteer Opportunity
GEO:47.4632017;-122.2556931
X-APPLE-STRUCTURED-LOCATION;VALUE=URI;X-ADDRESS=6200 Southcenter Blvd. Tukwila WA 98188 United States;X-APPLE-RADIUS=500;X-TITLE=6200 Southcenter Blvd.:geo:-122.2556931,47.4632017
END:VEVENT
BEGIN:VEVENT
DTSTART;TZID=America/Los_Angeles:20230610T100000
DTEND;TZID=America/Los_Angeles:20230610T130000
DTSTAMP:20260419T072409
CREATED:20230530T180140Z
LAST-MODIFIED:20230530T180257Z
UID:10007590-1686391200-1686402000@www.tukwilawa.gov
SUMMARY:Weeding at Upper Crystal Springs Park
DESCRIPTION:Join us to care for this important forest in Tukwila! We will be removing weeds including ivy and blackberry to make room to plant 350 native plants in the fall. Join us for this event in the summer and come back in the fall to plant this area! \nOpen to the public \nAll ages OK \n2 out of 50 participants registered.  Click here to register:  https://tukwila.greencitypartnerships.org/event/72/ \n\nWhat to Bring\nBring a full water bottle\, snacks for yourself\, clothes that are weather appropriate\, and closed-toed shoes. If you have garden gloves please bring them. \nWhere to Meet\nMeet in the Crystal Springs Park parking lot – 15832 51st Ave S\, Tukwila\, WA 98188 \nMeeting Location Map \nWhere to Park\nPark in the parking lot. Bus #156 also stops at the park. \n\n\nContact\nRoseann Barnhill\ncasey@thedirtcorps.com \nMaya Klem – maya.klem@kingcd.org\n206-379-5290
URL:https://www.tukwilawa.gov/event/weeding-at-upper-crystal-springs-park/
LOCATION:Crystal Springs Park\, 15832 51st Ave S\, Tukwila\, WA\, 98188\, United States
CATEGORIES:City Event,Community Event,Volunteer Opportunity
END:VEVENT
BEGIN:VEVENT
DTSTART;TZID=America/Los_Angeles:20230613T173000
DTEND;TZID=America/Los_Angeles:20230613T183000
DTSTAMP:20260419T072409
CREATED:20240112T175508Z
LAST-MODIFIED:20240112T175508Z
UID:10008276-1686677400-1686681000@www.tukwilawa.gov
SUMMARY:Park Commission
DESCRIPTION:Advises City officials regarding the acquisition\, development\, expansion and operation of parks and recreational facilities and programs. Meets in the Executive Conference Room at the Tukwila Community Center or you can participate virtually on Microsoft Teams. \nFor information\, contact Kris Kelly at Kris.Kelly@TukwilaWA.gov. \nSee agenda packets and minutes:  http://records.tukwilawa.gov/WebLink8/1/fol/179376/Row1.aspx \n  \n\n  \nSIGN UP TO RECEIVE LINKS TO COUNCIL\, COMMITTEE\, BOARD & COMMISSION PACKETS ON FRIDAYS:   https://www.tukwilawa.gov/departments/city-clerks-office/ \n  \n 
URL:https://www.tukwilawa.gov/event/park-commission-3/2023-06-13/
LOCATION:WA
CATEGORIES:Meeting,Volunteer Opportunity
END:VEVENT
BEGIN:VEVENT
DTSTART;TZID=America/Los_Angeles:20230614T113000
DTEND;TZID=America/Los_Angeles:20230614T133000
DTSTAMP:20260419T072409
CREATED:20230209T004051Z
LAST-MODIFIED:20230209T004052Z
UID:10007128-1686742200-1686749400@www.tukwilawa.gov
SUMMARY:Restoration at Riverton Park Work Party
DESCRIPTION:RESTORATION AT RIVERTON PARK WORK PARTIES:  \nWork parties are led by Park Staff and resident Forest Steward\, Debbie G. on the second Wednesday of the month. \n\nFeb 8  11:30 am – 1:30 pm   Love your LOCAL PARK    CLICK HERE\nMar 8  11:30 am – 1:30 pm   CLICK HERE\nApr 12  11:30 am – 1:30 pm   Earth Month    CLICK HERE\nMay 10  11:30 am – 1:30 pm   CLICK HERE\nJun 14 11:30 am – 1:30 pm   CLICK HERE\nJul 12  11:30 am – 1:30 pm   CLICK HERE\nAug 9   11:30 am – 1:30 pm  CLICK HERE\nSep 13  11:30 am – 1:30 pm   CLICK HERE\nOct 11 11:30 am – 1:30 pm   CLICK HERE\nNov 8  11:30 am – 1:30 pm   CLICK HERE\nDec 13 11:30 am – 1:30 pm   CLICK HERE\n\nIf you are unable to find the location\, please reach out to the Tukwila Community Center at (206) 768-2822 or stop by: 12424 42nd Ave S\, Tukwila\, WA 98168\nTo cancel\, or have questions please reach out to Olena.Perry@Tukwilawa.gov. \n\nBelow are additional work parties in Tukwila to sign-up. Or\, click on this link to view on the map and sign-up:  https://tukwila.greencitypartnerships.org/event/map/ \n  \nCOTTONWOOD CORNER / RIVERTON CREEK WORK PARTIES:  \nHomeschool Stewardship Squad and neighbors come together on Thursdays to make an impact. \n\nFeb 9  11:00 am – 2:00 pm   Love your LOCAL PARK Planting Event   CLICK HERE\nApr 13  11:00 am – 2:00 pm   Earth Month work party!    CLICK HERE\nMay 11  11:00 am – 2:00 pm   CLICK HERE\nJun 8  11:00 am – 2:00 pm   CLICK HERE\n\n  \n\n  \nDUWAMISH HILL PRESERVE WORK PARTIES:  \n\nMar 18 10:00 am – 1:00 pm    CLICK HERE\nApr 15 10:00 am – 1:00 pm   Spring Duwamish Alive Event    CLICK HERE\nMay 20  10:00 am – 1:00 pm   CLICK HERE\nSep 16 10:00 am – 1:00 pm    CLICK HERE\nOct 21  10:00 am – 1:00 pm   Duwamish Alive   CLICK HERE\nNov 18 10:00 am – 1:00 pm   Green Tukwila Day   CLICK HERE
URL:https://www.tukwilawa.gov/event/restoration-at-riverton-park-work-party-2/2023-06-14/
LOCATION:Riverton Park
CATEGORIES:City Event,Volunteer Opportunity
END:VEVENT
BEGIN:VEVENT
DTSTART;VALUE=DATE:20230624
DTEND;VALUE=DATE:20230625
DTSTAMP:20260419T072409
CREATED:20230511T223424Z
LAST-MODIFIED:20230511T223426Z
UID:10007151-1687564800-1687651199@www.tukwilawa.gov
SUMMARY:TIBAC Trash Pick Up
DESCRIPTION:Tukwila International Boulevard Action Committee (TIBAC) Trash Pick Up Day \nFor location or information contact Sharon Mann at 206-200-3616. \n  \n 
URL:https://www.tukwilawa.gov/event/tibac-trash-pick-up-5-2-2/2023-06-24/
LOCATION:WA
CATEGORIES:Community Event,Volunteer Opportunity
END:VEVENT
BEGIN:VEVENT
DTSTART;TZID=America/Los_Angeles:20230629T100000
DTEND;TZID=America/Los_Angeles:20230629T120000
DTSTAMP:20260419T072409
CREATED:20230620T195834Z
LAST-MODIFIED:20230620T201142Z
UID:10007596-1688032800-1688040000@www.tukwilawa.gov
SUMMARY:Walk & Talk Litter Clean-Up
DESCRIPTION:Activities\nJoin Parks Staff for a Walk & Talk Litter Clean Up event at Duwamish Hill Preserve. This sacred site has a long history; in fact it is dated older than Mount Rainier. The site is right next to the river\, so all the litter goes into the river and out to Puget Sound. You can make a difference\, by cleaning up trash while chatting with friends. \nOpen to the public \nAll ages OK \n7 out of 10 participants registered. \nWhat to Bring\nWear comfortable shoes\, bring a water bottle and dress for the weather. Parks will bring pickers and trashbags \nWhere to Meet\nDuwamish Hill Preserve – 3800 S 115th St\, Tukwila\, WA 98168\, meet in the field by the road. \n  \n\n\nContact\nOlena Perry\nOlena.Perry@tukwilawa.gov
URL:https://www.tukwilawa.gov/event/walk-talk-litter-clean-up/
LOCATION:Duwamish Hill Preserve\, 3800 S 115th St\, Tukwila\, WA\, 98168\, United States
CATEGORIES:City Event,Community Event,Volunteer Opportunity
GEO:47.5010685;-122.2855265
X-APPLE-STRUCTURED-LOCATION;VALUE=URI;X-ADDRESS=Duwamish Hill Preserve 3800 S 115th St Tukwila WA 98168 United States;X-APPLE-RADIUS=500;X-TITLE=3800 S 115th St:geo:-122.2855265,47.5010685
END:VEVENT
END:VCALENDAR