BEGIN:VCALENDAR
VERSION:2.0
PRODID:-//City of Tukwila - ECPv6.15.20//NONSGML v1.0//EN
CALSCALE:GREGORIAN
METHOD:PUBLISH
X-WR-CALNAME:City of Tukwila
X-ORIGINAL-URL:https://www.tukwilawa.gov
X-WR-CALDESC:Events for City of Tukwila
REFRESH-INTERVAL;VALUE=DURATION:PT1H
X-Robots-Tag:noindex
X-PUBLISHED-TTL:PT1H
BEGIN:VTIMEZONE
TZID:America/Los_Angeles
BEGIN:DAYLIGHT
TZOFFSETFROM:-0800
TZOFFSETTO:-0700
TZNAME:PDT
DTSTART:20250309T100000
END:DAYLIGHT
BEGIN:STANDARD
TZOFFSETFROM:-0700
TZOFFSETTO:-0800
TZNAME:PST
DTSTART:20251102T090000
END:STANDARD
BEGIN:DAYLIGHT
TZOFFSETFROM:-0800
TZOFFSETTO:-0700
TZNAME:PDT
DTSTART:20260308T100000
END:DAYLIGHT
BEGIN:STANDARD
TZOFFSETFROM:-0700
TZOFFSETTO:-0800
TZNAME:PST
DTSTART:20261101T090000
END:STANDARD
BEGIN:DAYLIGHT
TZOFFSETFROM:-0800
TZOFFSETTO:-0700
TZNAME:PDT
DTSTART:20270314T100000
END:DAYLIGHT
BEGIN:STANDARD
TZOFFSETFROM:-0700
TZOFFSETTO:-0800
TZNAME:PST
DTSTART:20271107T090000
END:STANDARD
END:VTIMEZONE
BEGIN:VEVENT
DTSTART;TZID=America/Los_Angeles:20260426T180000
DTEND;TZID=America/Los_Angeles:20260426T180000
DTSTAMP:20260420T082828
CREATED:20260303T232152Z
LAST-MODIFIED:20260317T161039Z
UID:10017544-1777226400-1777226400@www.tukwilawa.gov
SUMMARY:Museum of Flight - Aeronautical Science Pathway Program Info Night
DESCRIPTION:Are you a high school sophomore or junior interested in becoming a Professional Pilot\, Air Traffic Controller\, Airline Dispatcher\, or Airport or Airline Manager? If so\, then you and your parent/guardian are invited to Aeronautical Science Pathway (ASP) Info Night! \nJoin us for a presentation and Q&A about how you can join the 2026-2027 ASP class to jumpstart your career in aviation. Info Nights occur monthly and alternate between in-person and virtual. \nPlease fill out the Student Inquiry Form below to register. \n\nInfo Night Details\n\nTuesday\, April 7\, 2026   |   6:15 pm – 7:45 pm    [Virtual]\nTuesday\, May 5\, 2026   |   6:15 pm – 7:45 pm   [Virtual]\n\n** Registration is required.\nPlease register by completing our Student Inquiry Form:    https://form.jotform.com/212237852577159 \n*ASP Info Night attendance is required for ASP enrollment \n________________________________________________________ \nDISCLAIMER:    Third-party links\, resources\, and services are being provided as a convenience and for informational purposes only; the City of Tukwila does not endorse or approve any of the products\, services\, or opinions of these third parties and bears no responsibility for the accuracy\, legality\, or content of the external sites or related links.  \nShould you have any questions\, please contact the external sites and providers directly and proceed with caution when accessing any unfamiliar websites or links.
URL:https://www.tukwilawa.gov/event/museum-of-flight-aeronautical-science-pathway-program-info-night/2026-04-26/
LOCATION:Virtual/Online\, United States
CATEGORIES:Class
END:VEVENT
BEGIN:VEVENT
DTSTART;TZID=America/Los_Angeles:20260503T180000
DTEND;TZID=America/Los_Angeles:20260503T180000
DTSTAMP:20260420T082828
CREATED:20260303T232152Z
LAST-MODIFIED:20260317T161039Z
UID:10017545-1777831200-1777831200@www.tukwilawa.gov
SUMMARY:Museum of Flight - Aeronautical Science Pathway Program Info Night
DESCRIPTION:Are you a high school sophomore or junior interested in becoming a Professional Pilot\, Air Traffic Controller\, Airline Dispatcher\, or Airport or Airline Manager? If so\, then you and your parent/guardian are invited to Aeronautical Science Pathway (ASP) Info Night! \nJoin us for a presentation and Q&A about how you can join the 2026-2027 ASP class to jumpstart your career in aviation. Info Nights occur monthly and alternate between in-person and virtual. \nPlease fill out the Student Inquiry Form below to register. \n\nInfo Night Details\n\nTuesday\, April 7\, 2026   |   6:15 pm – 7:45 pm    [Virtual]\nTuesday\, May 5\, 2026   |   6:15 pm – 7:45 pm   [Virtual]\n\n** Registration is required.\nPlease register by completing our Student Inquiry Form:    https://form.jotform.com/212237852577159 \n*ASP Info Night attendance is required for ASP enrollment \n________________________________________________________ \nDISCLAIMER:    Third-party links\, resources\, and services are being provided as a convenience and for informational purposes only; the City of Tukwila does not endorse or approve any of the products\, services\, or opinions of these third parties and bears no responsibility for the accuracy\, legality\, or content of the external sites or related links.  \nShould you have any questions\, please contact the external sites and providers directly and proceed with caution when accessing any unfamiliar websites or links.
URL:https://www.tukwilawa.gov/event/museum-of-flight-aeronautical-science-pathway-program-info-night/2026-05-03/
LOCATION:Virtual/Online\, United States
CATEGORIES:Class
END:VEVENT
END:VCALENDAR