BEGIN:VCALENDAR
VERSION:2.0
PRODID:-//City of Tukwila - ECPv6.15.20//NONSGML v1.0//EN
CALSCALE:GREGORIAN
METHOD:PUBLISH
X-WR-CALNAME:City of Tukwila
X-ORIGINAL-URL:https://www.tukwilawa.gov
X-WR-CALDESC:Events for City of Tukwila
REFRESH-INTERVAL;VALUE=DURATION:PT1H
X-Robots-Tag:noindex
X-PUBLISHED-TTL:PT1H
BEGIN:VTIMEZONE
TZID:America/Los_Angeles
BEGIN:DAYLIGHT
TZOFFSETFROM:-0800
TZOFFSETTO:-0700
TZNAME:PDT
DTSTART:20250309T100000
END:DAYLIGHT
BEGIN:STANDARD
TZOFFSETFROM:-0700
TZOFFSETTO:-0800
TZNAME:PST
DTSTART:20251102T090000
END:STANDARD
BEGIN:DAYLIGHT
TZOFFSETFROM:-0800
TZOFFSETTO:-0700
TZNAME:PDT
DTSTART:20260308T100000
END:DAYLIGHT
BEGIN:STANDARD
TZOFFSETFROM:-0700
TZOFFSETTO:-0800
TZNAME:PST
DTSTART:20261101T090000
END:STANDARD
BEGIN:DAYLIGHT
TZOFFSETFROM:-0800
TZOFFSETTO:-0700
TZNAME:PDT
DTSTART:20270314T100000
END:DAYLIGHT
BEGIN:STANDARD
TZOFFSETFROM:-0700
TZOFFSETTO:-0800
TZNAME:PST
DTSTART:20271107T090000
END:STANDARD
END:VTIMEZONE
BEGIN:VEVENT
DTSTART;TZID=America/Los_Angeles:20260426T120000
DTEND;TZID=America/Los_Angeles:20260426T120000
DTSTAMP:20260422T051050
CREATED:20260420T160741Z
LAST-MODIFIED:20260420T160837Z
UID:10019479-1777204800-1777204800@www.tukwilawa.gov
SUMMARY:FEMA Financial Assistance - Application due 6/10/26
DESCRIPTION:People and households who suffered disaster-related damage in the December 2025 winter storm can apply for financial assistance and other services to help you recover. \nDue by June 10\, 2026.  \nApply in three ways: \n\nOnline: DisasterAssistance.gov\nCall 1-800-621-3362\nDownload and use the FEMA app at FEMA.gov/app\n\nFor an accessible video on three ways to apply for FEMA assistance\, visit: youtube.com/watch?v=LU7wzRjByhI. \nFinancial assistance to repair or replace damage to your home\, car\, and personal property may be available\, as well as counseling\, case management\, legal services\, unemployment assistance\, and other services. \nYou may qualify for FEMA disaster assistance even if you have insurance\, if some costs were not covered. \nFind more information at KCemergency.com. \n________________________________________________________ \nDISCLAIMER:    Third-party links\, resources\, and services are being provided as a convenience and for informational purposes only; the City of Tukwila does not endorse or approve any of the products\, services\, or opinions of these third parties and bears no responsibility for the accuracy\, legality\, or content of the external sites or related links.  \nShould you have any questions\, please contact the external sites and providers directly and proceed with caution when accessing any unfamiliar websites or links. \n 
URL:https://www.tukwilawa.gov/event/fema-financial-assistance-application-due-6-10-26/2026-04-26/
LOCATION:Virtual/Online\, United States
CATEGORIES:Community Event
END:VEVENT
BEGIN:VEVENT
DTSTART;TZID=America/Los_Angeles:20260503T120000
DTEND;TZID=America/Los_Angeles:20260503T120000
DTSTAMP:20260422T051050
CREATED:20260420T160741Z
LAST-MODIFIED:20260420T160837Z
UID:10019480-1777809600-1777809600@www.tukwilawa.gov
SUMMARY:FEMA Financial Assistance - Application due 6/10/26
DESCRIPTION:People and households who suffered disaster-related damage in the December 2025 winter storm can apply for financial assistance and other services to help you recover. \nDue by June 10\, 2026.  \nApply in three ways: \n\nOnline: DisasterAssistance.gov\nCall 1-800-621-3362\nDownload and use the FEMA app at FEMA.gov/app\n\nFor an accessible video on three ways to apply for FEMA assistance\, visit: youtube.com/watch?v=LU7wzRjByhI. \nFinancial assistance to repair or replace damage to your home\, car\, and personal property may be available\, as well as counseling\, case management\, legal services\, unemployment assistance\, and other services. \nYou may qualify for FEMA disaster assistance even if you have insurance\, if some costs were not covered. \nFind more information at KCemergency.com. \n________________________________________________________ \nDISCLAIMER:    Third-party links\, resources\, and services are being provided as a convenience and for informational purposes only; the City of Tukwila does not endorse or approve any of the products\, services\, or opinions of these third parties and bears no responsibility for the accuracy\, legality\, or content of the external sites or related links.  \nShould you have any questions\, please contact the external sites and providers directly and proceed with caution when accessing any unfamiliar websites or links. \n 
URL:https://www.tukwilawa.gov/event/fema-financial-assistance-application-due-6-10-26/2026-05-03/
LOCATION:Virtual/Online\, United States
CATEGORIES:Community Event
END:VEVENT
BEGIN:VEVENT
DTSTART;TZID=America/Los_Angeles:20260510T120000
DTEND;TZID=America/Los_Angeles:20260510T120000
DTSTAMP:20260422T051050
CREATED:20260420T160741Z
LAST-MODIFIED:20260420T160837Z
UID:10019481-1778414400-1778414400@www.tukwilawa.gov
SUMMARY:FEMA Financial Assistance - Application due 6/10/26
DESCRIPTION:People and households who suffered disaster-related damage in the December 2025 winter storm can apply for financial assistance and other services to help you recover. \nDue by June 10\, 2026.  \nApply in three ways: \n\nOnline: DisasterAssistance.gov\nCall 1-800-621-3362\nDownload and use the FEMA app at FEMA.gov/app\n\nFor an accessible video on three ways to apply for FEMA assistance\, visit: youtube.com/watch?v=LU7wzRjByhI. \nFinancial assistance to repair or replace damage to your home\, car\, and personal property may be available\, as well as counseling\, case management\, legal services\, unemployment assistance\, and other services. \nYou may qualify for FEMA disaster assistance even if you have insurance\, if some costs were not covered. \nFind more information at KCemergency.com. \n________________________________________________________ \nDISCLAIMER:    Third-party links\, resources\, and services are being provided as a convenience and for informational purposes only; the City of Tukwila does not endorse or approve any of the products\, services\, or opinions of these third parties and bears no responsibility for the accuracy\, legality\, or content of the external sites or related links.  \nShould you have any questions\, please contact the external sites and providers directly and proceed with caution when accessing any unfamiliar websites or links. \n 
URL:https://www.tukwilawa.gov/event/fema-financial-assistance-application-due-6-10-26/2026-05-10/
LOCATION:Virtual/Online\, United States
CATEGORIES:Community Event
END:VEVENT
BEGIN:VEVENT
DTSTART;TZID=America/Los_Angeles:20260517T120000
DTEND;TZID=America/Los_Angeles:20260517T120000
DTSTAMP:20260422T051050
CREATED:20260420T160741Z
LAST-MODIFIED:20260420T160837Z
UID:10019482-1779019200-1779019200@www.tukwilawa.gov
SUMMARY:FEMA Financial Assistance - Application due 6/10/26
DESCRIPTION:People and households who suffered disaster-related damage in the December 2025 winter storm can apply for financial assistance and other services to help you recover. \nDue by June 10\, 2026.  \nApply in three ways: \n\nOnline: DisasterAssistance.gov\nCall 1-800-621-3362\nDownload and use the FEMA app at FEMA.gov/app\n\nFor an accessible video on three ways to apply for FEMA assistance\, visit: youtube.com/watch?v=LU7wzRjByhI. \nFinancial assistance to repair or replace damage to your home\, car\, and personal property may be available\, as well as counseling\, case management\, legal services\, unemployment assistance\, and other services. \nYou may qualify for FEMA disaster assistance even if you have insurance\, if some costs were not covered. \nFind more information at KCemergency.com. \n________________________________________________________ \nDISCLAIMER:    Third-party links\, resources\, and services are being provided as a convenience and for informational purposes only; the City of Tukwila does not endorse or approve any of the products\, services\, or opinions of these third parties and bears no responsibility for the accuracy\, legality\, or content of the external sites or related links.  \nShould you have any questions\, please contact the external sites and providers directly and proceed with caution when accessing any unfamiliar websites or links. \n 
URL:https://www.tukwilawa.gov/event/fema-financial-assistance-application-due-6-10-26/2026-05-17/
LOCATION:Virtual/Online\, United States
CATEGORIES:Community Event
END:VEVENT
BEGIN:VEVENT
DTSTART;TZID=America/Los_Angeles:20260524T120000
DTEND;TZID=America/Los_Angeles:20260524T120000
DTSTAMP:20260422T051050
CREATED:20260420T160741Z
LAST-MODIFIED:20260420T160837Z
UID:10019483-1779624000-1779624000@www.tukwilawa.gov
SUMMARY:FEMA Financial Assistance - Application due 6/10/26
DESCRIPTION:People and households who suffered disaster-related damage in the December 2025 winter storm can apply for financial assistance and other services to help you recover. \nDue by June 10\, 2026.  \nApply in three ways: \n\nOnline: DisasterAssistance.gov\nCall 1-800-621-3362\nDownload and use the FEMA app at FEMA.gov/app\n\nFor an accessible video on three ways to apply for FEMA assistance\, visit: youtube.com/watch?v=LU7wzRjByhI. \nFinancial assistance to repair or replace damage to your home\, car\, and personal property may be available\, as well as counseling\, case management\, legal services\, unemployment assistance\, and other services. \nYou may qualify for FEMA disaster assistance even if you have insurance\, if some costs were not covered. \nFind more information at KCemergency.com. \n________________________________________________________ \nDISCLAIMER:    Third-party links\, resources\, and services are being provided as a convenience and for informational purposes only; the City of Tukwila does not endorse or approve any of the products\, services\, or opinions of these third parties and bears no responsibility for the accuracy\, legality\, or content of the external sites or related links.  \nShould you have any questions\, please contact the external sites and providers directly and proceed with caution when accessing any unfamiliar websites or links. \n 
URL:https://www.tukwilawa.gov/event/fema-financial-assistance-application-due-6-10-26/2026-05-24/
LOCATION:Virtual/Online\, United States
CATEGORIES:Community Event
END:VEVENT
BEGIN:VEVENT
DTSTART;TZID=America/Los_Angeles:20260531T120000
DTEND;TZID=America/Los_Angeles:20260531T120000
DTSTAMP:20260422T051050
CREATED:20260420T160741Z
LAST-MODIFIED:20260420T160837Z
UID:10019484-1780228800-1780228800@www.tukwilawa.gov
SUMMARY:FEMA Financial Assistance - Application due 6/10/26
DESCRIPTION:People and households who suffered disaster-related damage in the December 2025 winter storm can apply for financial assistance and other services to help you recover. \nDue by June 10\, 2026.  \nApply in three ways: \n\nOnline: DisasterAssistance.gov\nCall 1-800-621-3362\nDownload and use the FEMA app at FEMA.gov/app\n\nFor an accessible video on three ways to apply for FEMA assistance\, visit: youtube.com/watch?v=LU7wzRjByhI. \nFinancial assistance to repair or replace damage to your home\, car\, and personal property may be available\, as well as counseling\, case management\, legal services\, unemployment assistance\, and other services. \nYou may qualify for FEMA disaster assistance even if you have insurance\, if some costs were not covered. \nFind more information at KCemergency.com. \n________________________________________________________ \nDISCLAIMER:    Third-party links\, resources\, and services are being provided as a convenience and for informational purposes only; the City of Tukwila does not endorse or approve any of the products\, services\, or opinions of these third parties and bears no responsibility for the accuracy\, legality\, or content of the external sites or related links.  \nShould you have any questions\, please contact the external sites and providers directly and proceed with caution when accessing any unfamiliar websites or links. \n 
URL:https://www.tukwilawa.gov/event/fema-financial-assistance-application-due-6-10-26/2026-05-31/
LOCATION:Virtual/Online\, United States
CATEGORIES:Community Event
END:VEVENT
BEGIN:VEVENT
DTSTART;TZID=America/Los_Angeles:20260607T120000
DTEND;TZID=America/Los_Angeles:20260607T120000
DTSTAMP:20260422T051050
CREATED:20260420T160741Z
LAST-MODIFIED:20260420T160837Z
UID:10019485-1780833600-1780833600@www.tukwilawa.gov
SUMMARY:FEMA Financial Assistance - Application due 6/10/26
DESCRIPTION:People and households who suffered disaster-related damage in the December 2025 winter storm can apply for financial assistance and other services to help you recover. \nDue by June 10\, 2026.  \nApply in three ways: \n\nOnline: DisasterAssistance.gov\nCall 1-800-621-3362\nDownload and use the FEMA app at FEMA.gov/app\n\nFor an accessible video on three ways to apply for FEMA assistance\, visit: youtube.com/watch?v=LU7wzRjByhI. \nFinancial assistance to repair or replace damage to your home\, car\, and personal property may be available\, as well as counseling\, case management\, legal services\, unemployment assistance\, and other services. \nYou may qualify for FEMA disaster assistance even if you have insurance\, if some costs were not covered. \nFind more information at KCemergency.com. \n________________________________________________________ \nDISCLAIMER:    Third-party links\, resources\, and services are being provided as a convenience and for informational purposes only; the City of Tukwila does not endorse or approve any of the products\, services\, or opinions of these third parties and bears no responsibility for the accuracy\, legality\, or content of the external sites or related links.  \nShould you have any questions\, please contact the external sites and providers directly and proceed with caution when accessing any unfamiliar websites or links. \n 
URL:https://www.tukwilawa.gov/event/fema-financial-assistance-application-due-6-10-26/2026-06-07/
LOCATION:Virtual/Online\, United States
CATEGORIES:Community Event
END:VEVENT
END:VCALENDAR