BEGIN:VCALENDAR
VERSION:2.0
PRODID:-//City of Tukwila - ECPv6.15.20//NONSGML v1.0//EN
CALSCALE:GREGORIAN
METHOD:PUBLISH
X-WR-CALNAME:City of Tukwila
X-ORIGINAL-URL:https://www.tukwilawa.gov
X-WR-CALDESC:Events for City of Tukwila
REFRESH-INTERVAL;VALUE=DURATION:PT1H
X-Robots-Tag:noindex
X-PUBLISHED-TTL:PT1H
BEGIN:VTIMEZONE
TZID:America/Los_Angeles
BEGIN:DAYLIGHT
TZOFFSETFROM:-0800
TZOFFSETTO:-0700
TZNAME:PDT
DTSTART:20250309T100000
END:DAYLIGHT
BEGIN:STANDARD
TZOFFSETFROM:-0700
TZOFFSETTO:-0800
TZNAME:PST
DTSTART:20251102T090000
END:STANDARD
BEGIN:DAYLIGHT
TZOFFSETFROM:-0800
TZOFFSETTO:-0700
TZNAME:PDT
DTSTART:20260308T100000
END:DAYLIGHT
BEGIN:STANDARD
TZOFFSETFROM:-0700
TZOFFSETTO:-0800
TZNAME:PST
DTSTART:20261101T090000
END:STANDARD
BEGIN:DAYLIGHT
TZOFFSETFROM:-0800
TZOFFSETTO:-0700
TZNAME:PDT
DTSTART:20270314T100000
END:DAYLIGHT
BEGIN:STANDARD
TZOFFSETFROM:-0700
TZOFFSETTO:-0800
TZNAME:PST
DTSTART:20271107T090000
END:STANDARD
END:VTIMEZONE
BEGIN:VEVENT
DTSTART;TZID=America/Los_Angeles:20260424T190000
DTEND;TZID=America/Los_Angeles:20260424T210000
DTSTAMP:20260420T223051
CREATED:20260420T162551Z
LAST-MODIFIED:20260420T163135Z
UID:10019486-1777057200-1777064400@www.tukwilawa.gov
SUMMARY:Foster High Drama Club - 12 Angry Jurors Production
DESCRIPTION:Don’t miss the spring production from the Foster High School Drama Club—12 Angry Jurors\, a powerful adaptation of the Oscar-nominated film. \n  \nApril 24 & 25 –  7:00 PM \nApril 26 –   2:30 PM \nFoster High School Performing Arts Center \n  \nFollow 12 jurors as they deliberate a murder trial\, confronting their own biases\, perspectives\, and the meaning of justice. \nCome support our talented scholars and experience an unforgettable performance! \nFor more information\, visit https://www.facebook.com/share/p/1AjK2CrzcJ/ \n________________________________________________________ \nDISCLAIMER:    Third-party links\, resources\, and services are being provided as a convenience and for informational purposes only; the City of Tukwila does not endorse or approve any of the products\, services\, or opinions of these third parties and bears no responsibility for the accuracy\, legality\, or content of the external sites or related links.  \nShould you have any questions\, please contact the external sites and providers directly and proceed with caution when accessing any unfamiliar websites or links. \n 
URL:https://www.tukwilawa.gov/event/foster-high-drama-club-12-angry-jurors-production/2026-04-24/
LOCATION:Foster High School Performing Arts Center\, 4242 South 144th St.\, Tukwila\, WA\, 98168\, United States
CATEGORIES:Community Event
GEO:47.4747434;-122.2798544
X-APPLE-STRUCTURED-LOCATION;VALUE=URI;X-ADDRESS=Foster High School Performing Arts Center 4242 South 144th St. Tukwila WA 98168 United States;X-APPLE-RADIUS=500;X-TITLE=4242 South 144th St.:geo:-122.2798544,47.4747434
END:VEVENT
BEGIN:VEVENT
DTSTART;TZID=America/Los_Angeles:20260425T190000
DTEND;TZID=America/Los_Angeles:20260425T210000
DTSTAMP:20260420T223051
CREATED:20260420T162551Z
LAST-MODIFIED:20260420T163135Z
UID:10019487-1777143600-1777150800@www.tukwilawa.gov
SUMMARY:Foster High Drama Club - 12 Angry Jurors Production
DESCRIPTION:Don’t miss the spring production from the Foster High School Drama Club—12 Angry Jurors\, a powerful adaptation of the Oscar-nominated film. \n  \nApril 24 & 25 –  7:00 PM \nApril 26 –   2:30 PM \nFoster High School Performing Arts Center \n  \nFollow 12 jurors as they deliberate a murder trial\, confronting their own biases\, perspectives\, and the meaning of justice. \nCome support our talented scholars and experience an unforgettable performance! \nFor more information\, visit https://www.facebook.com/share/p/1AjK2CrzcJ/ \n________________________________________________________ \nDISCLAIMER:    Third-party links\, resources\, and services are being provided as a convenience and for informational purposes only; the City of Tukwila does not endorse or approve any of the products\, services\, or opinions of these third parties and bears no responsibility for the accuracy\, legality\, or content of the external sites or related links.  \nShould you have any questions\, please contact the external sites and providers directly and proceed with caution when accessing any unfamiliar websites or links. \n 
URL:https://www.tukwilawa.gov/event/foster-high-drama-club-12-angry-jurors-production/2026-04-25/
LOCATION:Foster High School Performing Arts Center\, 4242 South 144th St.\, Tukwila\, WA\, 98168\, United States
CATEGORIES:Community Event
GEO:47.4747434;-122.2798544
X-APPLE-STRUCTURED-LOCATION;VALUE=URI;X-ADDRESS=Foster High School Performing Arts Center 4242 South 144th St. Tukwila WA 98168 United States;X-APPLE-RADIUS=500;X-TITLE=4242 South 144th St.:geo:-122.2798544,47.4747434
END:VEVENT
BEGIN:VEVENT
DTSTART;TZID=America/Los_Angeles:20260426T143000
DTEND;TZID=America/Los_Angeles:20260426T163000
DTSTAMP:20260420T223051
CREATED:20260420T162551Z
LAST-MODIFIED:20260420T163135Z
UID:10019488-1777213800-1777221000@www.tukwilawa.gov
SUMMARY:Foster High Drama Club - 12 Angry Jurors Production
DESCRIPTION:Don’t miss the spring production from the Foster High School Drama Club—12 Angry Jurors\, a powerful adaptation of the Oscar-nominated film. \n  \nApril 24 & 25 –  7:00 PM \nApril 26 –   2:30 PM \nFoster High School Performing Arts Center \n  \nFollow 12 jurors as they deliberate a murder trial\, confronting their own biases\, perspectives\, and the meaning of justice. \nCome support our talented scholars and experience an unforgettable performance! \nFor more information\, visit https://www.facebook.com/share/p/1AjK2CrzcJ/ \n________________________________________________________ \nDISCLAIMER:    Third-party links\, resources\, and services are being provided as a convenience and for informational purposes only; the City of Tukwila does not endorse or approve any of the products\, services\, or opinions of these third parties and bears no responsibility for the accuracy\, legality\, or content of the external sites or related links.  \nShould you have any questions\, please contact the external sites and providers directly and proceed with caution when accessing any unfamiliar websites or links. \n 
URL:https://www.tukwilawa.gov/event/foster-high-drama-club-12-angry-jurors-production/2026-04-26/
LOCATION:Foster High School Performing Arts Center\, 4242 South 144th St.\, Tukwila\, WA\, 98168\, United States
CATEGORIES:Community Event
GEO:47.4747434;-122.2798544
X-APPLE-STRUCTURED-LOCATION;VALUE=URI;X-ADDRESS=Foster High School Performing Arts Center 4242 South 144th St. Tukwila WA 98168 United States;X-APPLE-RADIUS=500;X-TITLE=4242 South 144th St.:geo:-122.2798544,47.4747434
END:VEVENT
END:VCALENDAR