BEGIN:VCALENDAR
VERSION:2.0
PRODID:-//City of Tukwila - ECPv6.15.20//NONSGML v1.0//EN
CALSCALE:GREGORIAN
METHOD:PUBLISH
X-WR-CALNAME:City of Tukwila
X-ORIGINAL-URL:https://www.tukwilawa.gov
X-WR-CALDESC:Events for City of Tukwila
REFRESH-INTERVAL;VALUE=DURATION:PT1H
X-Robots-Tag:noindex
X-PUBLISHED-TTL:PT1H
BEGIN:VTIMEZONE
TZID:America/Los_Angeles
BEGIN:DAYLIGHT
TZOFFSETFROM:-0800
TZOFFSETTO:-0700
TZNAME:PDT
DTSTART:20150308T100000
END:DAYLIGHT
BEGIN:STANDARD
TZOFFSETFROM:-0700
TZOFFSETTO:-0800
TZNAME:PST
DTSTART:20151101T090000
END:STANDARD
BEGIN:DAYLIGHT
TZOFFSETFROM:-0800
TZOFFSETTO:-0700
TZNAME:PDT
DTSTART:20160313T100000
END:DAYLIGHT
BEGIN:STANDARD
TZOFFSETFROM:-0700
TZOFFSETTO:-0800
TZNAME:PST
DTSTART:20161106T090000
END:STANDARD
BEGIN:DAYLIGHT
TZOFFSETFROM:-0800
TZOFFSETTO:-0700
TZNAME:PDT
DTSTART:20170312T100000
END:DAYLIGHT
BEGIN:STANDARD
TZOFFSETFROM:-0700
TZOFFSETTO:-0800
TZNAME:PST
DTSTART:20171105T090000
END:STANDARD
END:VTIMEZONE
BEGIN:VEVENT
DTSTART;TZID=America/Los_Angeles:20161022T093000
DTEND;TZID=America/Los_Angeles:20161022T160000
DTSTAMP:20260421T145741
CREATED:20161010T172046Z
LAST-MODIFIED:20161010T172410Z
UID:10003940-1477128600-1477152000@www.tukwilawa.gov
SUMMARY:FREE Home Repair Workshop
DESCRIPTION:JOIN REBUILDING TOGETHER SEATTLE FOR A DAY OF FREE HOME REPAIR TRAINING OPEN TO ALL! \nLearn basic home repairs and interior design skills to improve the health and safety of your home and provide assistance to your neighbors! \nSee link for workshop schedule and registration:   www.rtseattle.org/she-builds \n\n\n\n\n&amp;amp;amp;amp;amp;amp;lt;img src=”https://static1.squarespace.com/static/5310f9c8e4b05207a03b7520/t/57ec0fdaff7c509e169c598c/1475088399471/”  /&amp;amp;amp;amp;amp;amp;gt;
URL:https://www.tukwilawa.gov/event/free-home-repair-workshop/
LOCATION:Tukwila Community Center\, 12424 42nd Avenue South \, Tukwila\, WA\, 98168\, United States
CATEGORIES:Class
ORGANIZER;CN="Chelsi McDonald":MAILTO:CMcDonald@rebuildingtogether.org 
GEO:47.4910019;-122.278439
X-APPLE-STRUCTURED-LOCATION;VALUE=URI;X-ADDRESS=Tukwila Community Center 12424 42nd Avenue South  Tukwila WA 98168 United States;X-APPLE-RADIUS=500;X-TITLE=12424 42nd Avenue South:geo:-122.278439,47.4910019
END:VEVENT
END:VCALENDAR