BEGIN:VCALENDAR
VERSION:2.0
PRODID:-//City of Tukwila - ECPv6.15.20//NONSGML v1.0//EN
CALSCALE:GREGORIAN
METHOD:PUBLISH
X-ORIGINAL-URL:https://www.tukwilawa.gov
X-WR-CALDESC:Events for City of Tukwila
REFRESH-INTERVAL;VALUE=DURATION:PT1H
X-Robots-Tag:noindex
X-PUBLISHED-TTL:PT1H
BEGIN:VTIMEZONE
TZID:America/Los_Angeles
BEGIN:DAYLIGHT
TZOFFSETFROM:-0800
TZOFFSETTO:-0700
TZNAME:PDT
DTSTART:20150308T100000
END:DAYLIGHT
BEGIN:STANDARD
TZOFFSETFROM:-0700
TZOFFSETTO:-0800
TZNAME:PST
DTSTART:20151101T090000
END:STANDARD
BEGIN:DAYLIGHT
TZOFFSETFROM:-0800
TZOFFSETTO:-0700
TZNAME:PDT
DTSTART:20160313T100000
END:DAYLIGHT
BEGIN:STANDARD
TZOFFSETFROM:-0700
TZOFFSETTO:-0800
TZNAME:PST
DTSTART:20161106T090000
END:STANDARD
BEGIN:DAYLIGHT
TZOFFSETFROM:-0800
TZOFFSETTO:-0700
TZNAME:PDT
DTSTART:20170312T100000
END:DAYLIGHT
BEGIN:STANDARD
TZOFFSETFROM:-0700
TZOFFSETTO:-0800
TZNAME:PST
DTSTART:20171105T090000
END:STANDARD
END:VTIMEZONE
BEGIN:VEVENT
DTSTART;TZID=America/Los_Angeles:20161212T190000
DTEND;TZID=America/Los_Angeles:20161212T200000
DTSTAMP:20260420T003056
CREATED:20160227T040647Z
LAST-MODIFIED:20170105T234934Z
UID:10003403-1481569200-1481572800@www.tukwilawa.gov
SUMMARY:Tukwila International Boulevard Action Committee
DESCRIPTION:
URL:https://www.tukwilawa.gov/event/tukwila-international-boulevard-action-committee-12/2016-12-12/
LOCATION:Valley View Sewer District\, 3460 South 148th Street\, Tukwila\, WA\, 98168\, United States
CATEGORIES:Meeting
GEO:47.4710165;-122.2871073
X-APPLE-STRUCTURED-LOCATION;VALUE=URI;X-ADDRESS=Valley View Sewer District 3460 South 148th Street Tukwila WA 98168 United States;X-APPLE-RADIUS=500;X-TITLE=3460 South 148th Street:geo:-122.2871073,47.4710165
END:VEVENT
BEGIN:VEVENT
DTSTART;TZID=America/Los_Angeles:20161112T190000
DTEND;TZID=America/Los_Angeles:20161112T200000
DTSTAMP:20260420T003056
CREATED:20160227T040647Z
LAST-MODIFIED:20170105T234934Z
UID:10003402-1478977200-1478980800@www.tukwilawa.gov
SUMMARY:Tukwila International Boulevard Action Committee
DESCRIPTION:
URL:https://www.tukwilawa.gov/event/tukwila-international-boulevard-action-committee-12/2016-11-12/
LOCATION:Valley View Sewer District\, 3460 South 148th Street\, Tukwila\, WA\, 98168\, United States
CATEGORIES:Meeting
GEO:47.4710165;-122.2871073
X-APPLE-STRUCTURED-LOCATION;VALUE=URI;X-ADDRESS=Valley View Sewer District 3460 South 148th Street Tukwila WA 98168 United States;X-APPLE-RADIUS=500;X-TITLE=3460 South 148th Street:geo:-122.2871073,47.4710165
END:VEVENT
BEGIN:VEVENT
DTSTART;TZID=America/Los_Angeles:20161012T190000
DTEND;TZID=America/Los_Angeles:20161012T200000
DTSTAMP:20260420T003056
CREATED:20160227T040647Z
LAST-MODIFIED:20170105T234934Z
UID:10003401-1476298800-1476302400@www.tukwilawa.gov
SUMMARY:Tukwila International Boulevard Action Committee
DESCRIPTION:
URL:https://www.tukwilawa.gov/event/tukwila-international-boulevard-action-committee-12/2016-10-12/
LOCATION:Valley View Sewer District\, 3460 South 148th Street\, Tukwila\, WA\, 98168\, United States
CATEGORIES:Meeting
GEO:47.4710165;-122.2871073
X-APPLE-STRUCTURED-LOCATION;VALUE=URI;X-ADDRESS=Valley View Sewer District 3460 South 148th Street Tukwila WA 98168 United States;X-APPLE-RADIUS=500;X-TITLE=3460 South 148th Street:geo:-122.2871073,47.4710165
END:VEVENT
BEGIN:VEVENT
DTSTART;TZID=America/Los_Angeles:20160912T190000
DTEND;TZID=America/Los_Angeles:20160912T200000
DTSTAMP:20260420T003056
CREATED:20160227T040647Z
LAST-MODIFIED:20170105T234934Z
UID:10003400-1473706800-1473710400@www.tukwilawa.gov
SUMMARY:Tukwila International Boulevard Action Committee
DESCRIPTION:
URL:https://www.tukwilawa.gov/event/tukwila-international-boulevard-action-committee-12/2016-09-12/
LOCATION:Valley View Sewer District\, 3460 South 148th Street\, Tukwila\, WA\, 98168\, United States
CATEGORIES:Meeting
GEO:47.4710165;-122.2871073
X-APPLE-STRUCTURED-LOCATION;VALUE=URI;X-ADDRESS=Valley View Sewer District 3460 South 148th Street Tukwila WA 98168 United States;X-APPLE-RADIUS=500;X-TITLE=3460 South 148th Street:geo:-122.2871073,47.4710165
END:VEVENT
BEGIN:VEVENT
DTSTART;TZID=America/Los_Angeles:20160812T190000
DTEND;TZID=America/Los_Angeles:20160812T200000
DTSTAMP:20260420T003056
CREATED:20160227T040647Z
LAST-MODIFIED:20170105T234934Z
UID:10003399-1471028400-1471032000@www.tukwilawa.gov
SUMMARY:Tukwila International Boulevard Action Committee
DESCRIPTION:
URL:https://www.tukwilawa.gov/event/tukwila-international-boulevard-action-committee-12/2016-08-12/
LOCATION:Valley View Sewer District\, 3460 South 148th Street\, Tukwila\, WA\, 98168\, United States
CATEGORIES:Meeting
GEO:47.4710165;-122.2871073
X-APPLE-STRUCTURED-LOCATION;VALUE=URI;X-ADDRESS=Valley View Sewer District 3460 South 148th Street Tukwila WA 98168 United States;X-APPLE-RADIUS=500;X-TITLE=3460 South 148th Street:geo:-122.2871073,47.4710165
END:VEVENT
BEGIN:VEVENT
DTSTART;TZID=America/Los_Angeles:20160612T190000
DTEND;TZID=America/Los_Angeles:20160612T200000
DTSTAMP:20260420T003056
CREATED:20160227T040647Z
LAST-MODIFIED:20170105T234934Z
UID:10003398-1465758000-1465761600@www.tukwilawa.gov
SUMMARY:Tukwila International Boulevard Action Committee
DESCRIPTION:
URL:https://www.tukwilawa.gov/event/tukwila-international-boulevard-action-committee-12/2016-06-12/
LOCATION:Valley View Sewer District\, 3460 South 148th Street\, Tukwila\, WA\, 98168\, United States
CATEGORIES:Meeting
GEO:47.4710165;-122.2871073
X-APPLE-STRUCTURED-LOCATION;VALUE=URI;X-ADDRESS=Valley View Sewer District 3460 South 148th Street Tukwila WA 98168 United States;X-APPLE-RADIUS=500;X-TITLE=3460 South 148th Street:geo:-122.2871073,47.4710165
END:VEVENT
BEGIN:VEVENT
DTSTART;TZID=America/Los_Angeles:20160512T190000
DTEND;TZID=America/Los_Angeles:20160512T200000
DTSTAMP:20260420T003056
CREATED:20160227T040647Z
LAST-MODIFIED:20170105T234934Z
UID:10003397-1463079600-1463083200@www.tukwilawa.gov
SUMMARY:Tukwila International Boulevard Action Committee
DESCRIPTION:
URL:https://www.tukwilawa.gov/event/tukwila-international-boulevard-action-committee-12/2016-05-12/
LOCATION:Valley View Sewer District\, 3460 South 148th Street\, Tukwila\, WA\, 98168\, United States
CATEGORIES:Meeting
GEO:47.4710165;-122.2871073
X-APPLE-STRUCTURED-LOCATION;VALUE=URI;X-ADDRESS=Valley View Sewer District 3460 South 148th Street Tukwila WA 98168 United States;X-APPLE-RADIUS=500;X-TITLE=3460 South 148th Street:geo:-122.2871073,47.4710165
END:VEVENT
BEGIN:VEVENT
DTSTART;TZID=America/Los_Angeles:20160412T190000
DTEND;TZID=America/Los_Angeles:20160412T200000
DTSTAMP:20260420T003056
CREATED:20160227T040647Z
LAST-MODIFIED:20170105T234934Z
UID:10003396-1460487600-1460491200@www.tukwilawa.gov
SUMMARY:Tukwila International Boulevard Action Committee
DESCRIPTION:
URL:https://www.tukwilawa.gov/event/tukwila-international-boulevard-action-committee-12/2016-04-12/
LOCATION:Valley View Sewer District\, 3460 South 148th Street\, Tukwila\, WA\, 98168\, United States
CATEGORIES:Meeting
GEO:47.4710165;-122.2871073
X-APPLE-STRUCTURED-LOCATION;VALUE=URI;X-ADDRESS=Valley View Sewer District 3460 South 148th Street Tukwila WA 98168 United States;X-APPLE-RADIUS=500;X-TITLE=3460 South 148th Street:geo:-122.2871073,47.4710165
END:VEVENT
END:VCALENDAR