BEGIN:VCALENDAR
VERSION:2.0
PRODID:-//City of Tukwila - ECPv6.15.20//NONSGML v1.0//EN
CALSCALE:GREGORIAN
METHOD:PUBLISH
X-ORIGINAL-URL:https://www.tukwilawa.gov
X-WR-CALDESC:Events for City of Tukwila
REFRESH-INTERVAL;VALUE=DURATION:PT1H
X-Robots-Tag:noindex
X-PUBLISHED-TTL:PT1H
BEGIN:VTIMEZONE
TZID:America/Los_Angeles
BEGIN:DAYLIGHT
TZOFFSETFROM:-0800
TZOFFSETTO:-0700
TZNAME:PDT
DTSTART:20150308T100000
END:DAYLIGHT
BEGIN:STANDARD
TZOFFSETFROM:-0700
TZOFFSETTO:-0800
TZNAME:PST
DTSTART:20151101T090000
END:STANDARD
BEGIN:DAYLIGHT
TZOFFSETFROM:-0800
TZOFFSETTO:-0700
TZNAME:PDT
DTSTART:20160313T100000
END:DAYLIGHT
BEGIN:STANDARD
TZOFFSETFROM:-0700
TZOFFSETTO:-0800
TZNAME:PST
DTSTART:20161106T090000
END:STANDARD
BEGIN:DAYLIGHT
TZOFFSETFROM:-0800
TZOFFSETTO:-0700
TZNAME:PDT
DTSTART:20170312T100000
END:DAYLIGHT
BEGIN:STANDARD
TZOFFSETFROM:-0700
TZOFFSETTO:-0800
TZNAME:PST
DTSTART:20171105T090000
END:STANDARD
END:VTIMEZONE
BEGIN:VEVENT
DTSTART;TZID=America/Los_Angeles:20160212T110000
DTEND;TZID=America/Los_Angeles:20160212T123000
DTSTAMP:20260424T173309
CREATED:20150903T064007Z
LAST-MODIFIED:20160210T051156Z
UID:10003278-1455274800-1455280200@www.tukwilawa.gov
SUMMARY:Human Services Advisory Board
DESCRIPTION:The Office of Human Services helps Tukwila residents connect with social and health services. Staff work with non profit service providers\, residents\, and community organizations to help residents meet their human service needs. The Office staff also work with other city departments to improve the quality of life for City residents. Staff provide information and referral\, and minor home repair services for low and moderate income homeowners.
URL:https://www.tukwilawa.gov/event/human-services-advisory-board-3/
LOCATION:Administrative Services Conference Room\, 6300 Southcenter Blvd. Suite 115\, Tukwila\, WA\, 98188\, United States
CATEGORIES:Meeting
ORGANIZER;CN="Evie Boykan":MAILTO:HumanServices@tukwilawa.gov
GEO:47.4628998;-122.2546935
X-APPLE-STRUCTURED-LOCATION;VALUE=URI;X-ADDRESS=Administrative Services Conference Room 6300 Southcenter Blvd. Suite 115 Tukwila WA 98188 United States;X-APPLE-RADIUS=500;X-TITLE=6300 Southcenter Blvd. Suite 115:geo:-122.2546935,47.4628998
END:VEVENT
END:VCALENDAR