BEGIN:VCALENDAR
VERSION:2.0
PRODID:-//City of Tukwila - ECPv6.15.20//NONSGML v1.0//EN
CALSCALE:GREGORIAN
METHOD:PUBLISH
X-ORIGINAL-URL:https://www.tukwilawa.gov
X-WR-CALDESC:Events for City of Tukwila
REFRESH-INTERVAL;VALUE=DURATION:PT1H
X-Robots-Tag:noindex
X-PUBLISHED-TTL:PT1H
BEGIN:VTIMEZONE
TZID:UTC
BEGIN:STANDARD
TZOFFSETFROM:+0000
TZOFFSETTO:+0000
TZNAME:UTC
DTSTART:20150101T000000
END:STANDARD
END:VTIMEZONE
BEGIN:VEVENT
DTSTART;TZID=UTC:20160430T090000
DTEND;TZID=UTC:20160430T153000
DTSTAMP:20260420T184128
CREATED:20160405T204025Z
LAST-MODIFIED:20160405T204025Z
UID:10003502-1462006800-1462030200@www.tukwilawa.gov
SUMMARY:Healthy Leadership Training
DESCRIPTION:Apply now for our annual leadership training April 30\, 2016 at Tukwila Community Center.   Sponsored by Healthy King County Coalition. \nThis all-day training will empower YOU to create health equity in your neighborhood.   What issues do you see in your community? E-cigarette use by teens? Secondhand smoke? No safe route to school? No farmer’s markets or fresh fruit and vegetables? Underage smoking?   Whatever issue you want to improve\, our leadership training will help you do it. We teach you how to tell your story\, talk with lawmakers\, and understand the systems we live\, work\, and play in. And a stipend is available at the end of your project. \nSend in our  application form by April 15\, 2016 to hkccdistribution@cschc.org. \nFeel free to share our flyer: http://www.healthykingcounty.org/wp-content/uploads/2016/03/Leadership-training-Flyer-April-2016.pdf.
URL:https://www.tukwilawa.gov/event/healthy-leadership-training/
LOCATION:Tukwila Community Center\, 12424 42nd Avenue South \, Tukwila\, WA\, 98168\, United States
CATEGORIES:Class
ORGANIZER;CN="Healthy King County Coalition":MAILTO:hkccdistribution@cschc.org
GEO:47.4910019;-122.278439
X-APPLE-STRUCTURED-LOCATION;VALUE=URI;X-ADDRESS=Tukwila Community Center 12424 42nd Avenue South  Tukwila WA 98168 United States;X-APPLE-RADIUS=500;X-TITLE=12424 42nd Avenue South:geo:-122.278439,47.4910019
END:VEVENT
END:VCALENDAR