BEGIN:VCALENDAR
VERSION:2.0
PRODID:-//City of Tukwila - ECPv6.15.20//NONSGML v1.0//EN
CALSCALE:GREGORIAN
METHOD:PUBLISH
X-WR-CALNAME:City of Tukwila
X-ORIGINAL-URL:https://www.tukwilawa.gov
X-WR-CALDESC:Events for City of Tukwila
REFRESH-INTERVAL;VALUE=DURATION:PT1H
X-Robots-Tag:noindex
X-PUBLISHED-TTL:PT1H
BEGIN:VTIMEZONE
TZID:America/Los_Angeles
BEGIN:DAYLIGHT
TZOFFSETFROM:-0800
TZOFFSETTO:-0700
TZNAME:PDT
DTSTART:20170312T100000
END:DAYLIGHT
BEGIN:STANDARD
TZOFFSETFROM:-0700
TZOFFSETTO:-0800
TZNAME:PST
DTSTART:20171105T090000
END:STANDARD
BEGIN:DAYLIGHT
TZOFFSETFROM:-0800
TZOFFSETTO:-0700
TZNAME:PDT
DTSTART:20180311T100000
END:DAYLIGHT
BEGIN:STANDARD
TZOFFSETFROM:-0700
TZOFFSETTO:-0800
TZNAME:PST
DTSTART:20181104T090000
END:STANDARD
BEGIN:DAYLIGHT
TZOFFSETFROM:-0800
TZOFFSETTO:-0700
TZNAME:PDT
DTSTART:20190310T100000
END:DAYLIGHT
BEGIN:STANDARD
TZOFFSETFROM:-0700
TZOFFSETTO:-0800
TZNAME:PST
DTSTART:20191103T090000
END:STANDARD
END:VTIMEZONE
BEGIN:VEVENT
DTSTART;TZID=America/Los_Angeles:20180512T100000
DTEND;TZID=America/Los_Angeles:20180512T120000
DTSTAMP:20260419T121801
CREATED:20180509T204813Z
LAST-MODIFIED:20180509T204813Z
UID:10004737-1526119200-1526126400@www.tukwilawa.gov
SUMMARY:Community Meeting - Proposed Affordable and Sustainable Housing Community
DESCRIPTION:Please join Homestead Community Land Trust for an informational event to learn more about Riverton Cascade\, a proposed development in the Cascade View neighborhood of Tukwila. \nThis proposed community of 18 compact\, 3- to 4-bedroom homes would be built at the intersection of Military Road S. and S. 140th St using net-zero\, deep green practices and offer affordable homeownership for households making less than 80% of King County median income.* \nCommunity Meeting Details:\nMay 12\, 2018\, 10 a.m. to 12 p.m.\nFormal presentation at 10:30 a.m.\nCascade View Elementary School\n13601 32nd Ave S\, Tukwila\, WA 98168 \nEvent Flyer \nThe meeting will be led by the project developer\, Homestead Community Land Trust\, a non-profit organization that provides affordable homeownership opportunities for people with modest incomes and helps support their long-term success. \nLearn more www.homesteadclt.org
URL:https://www.tukwilawa.gov/event/community-meeting-proposed-affordable-sustainable-housing-community/
LOCATION:Cascade View Elementary School\, 13601 32nd Avenue South\, Tukwila\, WA\, 98168\, United States
GEO:47.4813614;-122.2922429
X-APPLE-STRUCTURED-LOCATION;VALUE=URI;X-ADDRESS=Cascade View Elementary School 13601 32nd Avenue South Tukwila WA 98168 United States;X-APPLE-RADIUS=500;X-TITLE=13601 32nd Avenue South:geo:-122.2922429,47.4813614
END:VEVENT
END:VCALENDAR