BEGIN:VCALENDAR
VERSION:2.0
PRODID:-//City of Tukwila - ECPv6.15.20//NONSGML v1.0//EN
CALSCALE:GREGORIAN
METHOD:PUBLISH
X-ORIGINAL-URL:https://www.tukwilawa.gov
X-WR-CALDESC:Events for City of Tukwila
REFRESH-INTERVAL;VALUE=DURATION:PT1H
X-Robots-Tag:noindex
X-PUBLISHED-TTL:PT1H
BEGIN:VTIMEZONE
TZID:UTC
BEGIN:STANDARD
TZOFFSETFROM:+0000
TZOFFSETTO:+0000
TZNAME:UTC
DTSTART:20150101T000000
END:STANDARD
END:VTIMEZONE
BEGIN:VTIMEZONE
TZID:America/Los_Angeles
BEGIN:DAYLIGHT
TZOFFSETFROM:-0800
TZOFFSETTO:-0700
TZNAME:PDT
DTSTART:20150308T100000
END:DAYLIGHT
BEGIN:STANDARD
TZOFFSETFROM:-0700
TZOFFSETTO:-0800
TZNAME:PST
DTSTART:20151101T090000
END:STANDARD
BEGIN:DAYLIGHT
TZOFFSETFROM:-0800
TZOFFSETTO:-0700
TZNAME:PDT
DTSTART:20160313T100000
END:DAYLIGHT
BEGIN:STANDARD
TZOFFSETFROM:-0700
TZOFFSETTO:-0800
TZNAME:PST
DTSTART:20161106T090000
END:STANDARD
BEGIN:DAYLIGHT
TZOFFSETFROM:-0800
TZOFFSETTO:-0700
TZNAME:PDT
DTSTART:20170312T100000
END:DAYLIGHT
BEGIN:STANDARD
TZOFFSETFROM:-0700
TZOFFSETTO:-0800
TZNAME:PST
DTSTART:20171105T090000
END:STANDARD
END:VTIMEZONE
BEGIN:VEVENT
DTSTART;TZID=UTC:20160404T170000
DTEND;TZID=UTC:20160404T180000
DTSTAMP:20260423T041533
CREATED:20160203T052835Z
LAST-MODIFIED:20160331T162020Z
UID:10003325-1459789200-1459792800@www.tukwilawa.gov
SUMMARY:Civil Service Commission - CANCELLED
DESCRIPTION:Provides the manner in which civil service (all police personnel and commissioned fire personnel) examinations\, appointments\, promotions\,\ntransfers\, demotions\, reinstatements\, suspensions and discharges are\nmade. Decide appeals from suspensions or terminations. \nView Meeting Agenda
URL:https://www.tukwilawa.gov/event/civil-service-commission-13/
LOCATION:Tukwila City Hall – Hazelnut Conference Room\, 6200 Southcenter Blvd. \, Tukwila\, WA\, 98188\, United States
CATEGORIES:Meeting
ORGANIZER;CN="Human Resources Department":MAILTO:CivilService@TukwilaWA.gov
GEO:47.4631345;-122.2555662
X-APPLE-STRUCTURED-LOCATION;VALUE=URI;X-ADDRESS=Tukwila City Hall – Hazelnut Conference Room 6200 Southcenter Blvd.  Tukwila WA 98188 United States;X-APPLE-RADIUS=500;X-TITLE=6200 Southcenter Blvd.:geo:-122.2555662,47.4631345
END:VEVENT
BEGIN:VEVENT
DTSTART;TZID=America/Los_Angeles:20160307T170000
DTEND;TZID=America/Los_Angeles:20160307T180000
DTSTAMP:20260423T041533
CREATED:20160203T062556Z
LAST-MODIFIED:20160203T062556Z
UID:10003215-1457370000-1457373600@www.tukwilawa.gov
SUMMARY:Civil Service Commission
DESCRIPTION:Provides the manner in which civil service (all police personnel and commissioned fire personnel) examinations\, appointments\, promotions\, transfers\, demotions\, reinstatements\, suspensions and discharges are made. Decide appeals from suspensions or terminations. \nView Meeting Agenda
URL:https://www.tukwilawa.gov/event/civil-service-commission-14/
LOCATION:Tukwila City Hall – Hazelnut Conference Room\, 6200 Southcenter Blvd. \, Tukwila\, WA\, 98188\, United States
CATEGORIES:Meeting
ORGANIZER;CN="Human Resources Department":MAILTO:CivilService@TukwilaWA.gov
GEO:47.4631345;-122.2555662
X-APPLE-STRUCTURED-LOCATION;VALUE=URI;X-ADDRESS=Tukwila City Hall – Hazelnut Conference Room 6200 Southcenter Blvd.  Tukwila WA 98188 United States;X-APPLE-RADIUS=500;X-TITLE=6200 Southcenter Blvd.:geo:-122.2555662,47.4631345
END:VEVENT
BEGIN:VEVENT
DTSTART;TZID=America/Los_Angeles:20160201T170000
DTEND;TZID=America/Los_Angeles:20160201T180000
DTSTAMP:20260423T041533
CREATED:20150903T064013Z
LAST-MODIFIED:20160203T062610Z
UID:10003280-1454346000-1454349600@www.tukwilawa.gov
SUMMARY:Civil Service Commission
DESCRIPTION:Provides the manner in which civil service (all police personnel and commissioned fire personnel) examinations\, appointments\, promotions\, transfers\, demotions\, reinstatements\, suspensions and discharges are made. Decide appeals from suspensions or terminations. \nView Meeting Agenda
URL:https://www.tukwilawa.gov/event/civil-service-commission-12/
LOCATION:Tukwila City Hall – Hazelnut Conference Room\, 6200 Southcenter Blvd. \, Tukwila\, WA\, 98188\, United States
CATEGORIES:Meeting
ORGANIZER;CN="Human Resources Department":MAILTO:CivilService@TukwilaWA.gov
GEO:47.4631345;-122.2555662
X-APPLE-STRUCTURED-LOCATION;VALUE=URI;X-ADDRESS=Tukwila City Hall – Hazelnut Conference Room 6200 Southcenter Blvd.  Tukwila WA 98188 United States;X-APPLE-RADIUS=500;X-TITLE=6200 Southcenter Blvd.:geo:-122.2555662,47.4631345
END:VEVENT
END:VCALENDAR