BEGIN:VCALENDAR
VERSION:2.0
PRODID:-//City of Tukwila - ECPv6.15.20//NONSGML v1.0//EN
CALSCALE:GREGORIAN
METHOD:PUBLISH
X-ORIGINAL-URL:https://www.tukwilawa.gov
X-WR-CALDESC:Events for City of Tukwila
REFRESH-INTERVAL;VALUE=DURATION:PT1H
X-Robots-Tag:noindex
X-PUBLISHED-TTL:PT1H
BEGIN:VTIMEZONE
TZID:America/Los_Angeles
BEGIN:DAYLIGHT
TZOFFSETFROM:-0800
TZOFFSETTO:-0700
TZNAME:PDT
DTSTART:20180311T100000
END:DAYLIGHT
BEGIN:STANDARD
TZOFFSETFROM:-0700
TZOFFSETTO:-0800
TZNAME:PST
DTSTART:20181104T090000
END:STANDARD
BEGIN:DAYLIGHT
TZOFFSETFROM:-0800
TZOFFSETTO:-0700
TZNAME:PDT
DTSTART:20190310T100000
END:DAYLIGHT
BEGIN:STANDARD
TZOFFSETFROM:-0700
TZOFFSETTO:-0800
TZNAME:PST
DTSTART:20191103T090000
END:STANDARD
BEGIN:DAYLIGHT
TZOFFSETFROM:-0800
TZOFFSETTO:-0700
TZNAME:PDT
DTSTART:20200308T100000
END:DAYLIGHT
BEGIN:STANDARD
TZOFFSETFROM:-0700
TZOFFSETTO:-0800
TZNAME:PST
DTSTART:20201101T090000
END:STANDARD
END:VTIMEZONE
BEGIN:VEVENT
DTSTART;TZID=America/Los_Angeles:20190204T190000
DTEND;TZID=America/Los_Angeles:20190204T220000
DTSTAMP:20260420T121514
CREATED:20181208T003344Z
LAST-MODIFIED:20191202T200213Z
UID:10005062-1549306800-1549317600@www.tukwilawa.gov
SUMMARY:City Council Regular Meeting
DESCRIPTION:  \nRegular Meetings are held the first and third Mondays of each month at 7:00 p.m. at City Hall. At these meetings the Council conducts general and routine business and adopts ordinances and resolutions. At these meetings\, the Mayor presides but does not vote unless it is to break a tie. \nSee link for agenda packets:      http://records.tukwilawa.gov/WebLink8/1/fol/6806/Row1.aspx
URL:https://www.tukwilawa.gov/event/city-council-regular-meeting-14/2019-02-04/
LOCATION:Tukwila City Hall\, 6200 Southcenter Blvd.\, Tukwila\, WA\, 98188\, United States
CATEGORIES:City Council,Meeting
ORGANIZER;CN="City Clerk's Office":MAILTO:TukwilaCityClerk@tukwilawa.gov
END:VEVENT
BEGIN:VEVENT
DTSTART;TZID=America/Los_Angeles:20190122T190000
DTEND;TZID=America/Los_Angeles:20190122T220000
DTSTAMP:20260420T121514
CREATED:20181208T003344Z
LAST-MODIFIED:20191202T200213Z
UID:10005061-1548183600-1548194400@www.tukwilawa.gov
SUMMARY:City Council Regular Meeting
DESCRIPTION:  \nRegular Meetings are held the first and third Mondays of each month at 7:00 p.m. at City Hall. At these meetings the Council conducts general and routine business and adopts ordinances and resolutions. At these meetings\, the Mayor presides but does not vote unless it is to break a tie. \nSee link for agenda packets:      http://records.tukwilawa.gov/WebLink8/1/fol/6806/Row1.aspx
URL:https://www.tukwilawa.gov/event/city-council-regular-meeting-14/2019-01-22/
LOCATION:Tukwila City Hall\, 6200 Southcenter Blvd.\, Tukwila\, WA\, 98188\, United States
CATEGORIES:City Council,Meeting
ORGANIZER;CN="City Clerk's Office":MAILTO:TukwilaCityClerk@tukwilawa.gov
END:VEVENT
BEGIN:VEVENT
DTSTART;TZID=America/Los_Angeles:20190107T190000
DTEND;TZID=America/Los_Angeles:20190107T220000
DTSTAMP:20260420T121514
CREATED:20181208T003344Z
LAST-MODIFIED:20191202T200213Z
UID:10005060-1546887600-1546898400@www.tukwilawa.gov
SUMMARY:City Council Regular Meeting
DESCRIPTION:  \nRegular Meetings are held the first and third Mondays of each month at 7:00 p.m. at City Hall. At these meetings the Council conducts general and routine business and adopts ordinances and resolutions. At these meetings\, the Mayor presides but does not vote unless it is to break a tie. \nSee link for agenda packets:      http://records.tukwilawa.gov/WebLink8/1/fol/6806/Row1.aspx
URL:https://www.tukwilawa.gov/event/city-council-regular-meeting-14/2019-01-07/
LOCATION:Tukwila City Hall\, 6200 Southcenter Blvd.\, Tukwila\, WA\, 98188\, United States
CATEGORIES:City Council,Meeting
ORGANIZER;CN="City Clerk's Office":MAILTO:TukwilaCityClerk@tukwilawa.gov
END:VEVENT
END:VCALENDAR