BEGIN:VCALENDAR
VERSION:2.0
PRODID:-//City of Tukwila - ECPv6.15.20//NONSGML v1.0//EN
CALSCALE:GREGORIAN
METHOD:PUBLISH
X-ORIGINAL-URL:https://www.tukwilawa.gov
X-WR-CALDESC:Events for City of Tukwila
REFRESH-INTERVAL;VALUE=DURATION:PT1H
X-Robots-Tag:noindex
X-PUBLISHED-TTL:PT1H
BEGIN:VTIMEZONE
TZID:America/Los_Angeles
BEGIN:DAYLIGHT
TZOFFSETFROM:-0800
TZOFFSETTO:-0700
TZNAME:PDT
DTSTART:20200308T100000
END:DAYLIGHT
BEGIN:STANDARD
TZOFFSETFROM:-0700
TZOFFSETTO:-0800
TZNAME:PST
DTSTART:20201101T090000
END:STANDARD
BEGIN:DAYLIGHT
TZOFFSETFROM:-0800
TZOFFSETTO:-0700
TZNAME:PDT
DTSTART:20210314T100000
END:DAYLIGHT
BEGIN:STANDARD
TZOFFSETFROM:-0700
TZOFFSETTO:-0800
TZNAME:PST
DTSTART:20211107T090000
END:STANDARD
BEGIN:DAYLIGHT
TZOFFSETFROM:-0800
TZOFFSETTO:-0700
TZNAME:PDT
DTSTART:20220313T100000
END:DAYLIGHT
BEGIN:STANDARD
TZOFFSETFROM:-0700
TZOFFSETTO:-0800
TZNAME:PST
DTSTART:20221106T090000
END:STANDARD
END:VTIMEZONE
BEGIN:VEVENT
DTSTART;TZID=America/Los_Angeles:20210424T090000
DTEND;TZID=America/Los_Angeles:20210424T150000
DTSTAMP:20260425T135707
CREATED:20210420T202623Z
LAST-MODIFIED:20210420T203427Z
UID:10006073-1619254800-1619276400@www.tukwilawa.gov
SUMMARY:Burien Recycling Event and Bin Sale
DESCRIPTION:  \nThis event is open to King County residents. Only residents in cars will be provided service. Hosted by Cities of Normandy Park and Burien. \n9:00 AM – 3:00 PM \nWA State Criminal Justice Training Center \n19010 1st Ave S\, Burien \n  \nClick here for more information.
URL:https://www.tukwilawa.gov/event/recycling-event-and-bin-sale/
LOCATION:19010 1st Ave S\, Burien\, 19010 1st Ave S\, Burien\, WA\, United States
CATEGORIES:Community Event
END:VEVENT
END:VCALENDAR