BEGIN:VCALENDAR
VERSION:2.0
PRODID:-//City of Tukwila - ECPv6.15.20//NONSGML v1.0//EN
CALSCALE:GREGORIAN
METHOD:PUBLISH
X-ORIGINAL-URL:https://www.tukwilawa.gov
X-WR-CALDESC:Events for City of Tukwila
REFRESH-INTERVAL;VALUE=DURATION:PT1H
X-Robots-Tag:noindex
X-PUBLISHED-TTL:PT1H
BEGIN:VTIMEZONE
TZID:America/Los_Angeles
BEGIN:DAYLIGHT
TZOFFSETFROM:-0800
TZOFFSETTO:-0700
TZNAME:PDT
DTSTART:20190310T100000
END:DAYLIGHT
BEGIN:STANDARD
TZOFFSETFROM:-0700
TZOFFSETTO:-0800
TZNAME:PST
DTSTART:20191103T090000
END:STANDARD
BEGIN:DAYLIGHT
TZOFFSETFROM:-0800
TZOFFSETTO:-0700
TZNAME:PDT
DTSTART:20200308T100000
END:DAYLIGHT
BEGIN:STANDARD
TZOFFSETFROM:-0700
TZOFFSETTO:-0800
TZNAME:PST
DTSTART:20201101T090000
END:STANDARD
BEGIN:DAYLIGHT
TZOFFSETFROM:-0800
TZOFFSETTO:-0700
TZNAME:PDT
DTSTART:20210314T100000
END:DAYLIGHT
BEGIN:STANDARD
TZOFFSETFROM:-0700
TZOFFSETTO:-0800
TZNAME:PST
DTSTART:20211107T090000
END:STANDARD
END:VTIMEZONE
BEGIN:VEVENT
DTSTART;TZID=America/Los_Angeles:20200803T123000
DTEND;TZID=America/Los_Angeles:20200803T130000
DTSTAMP:20260420T005752
CREATED:20200724T185235Z
LAST-MODIFIED:20200727T160801Z
UID:10005932-1596457800-1596459600@www.tukwilawa.gov
SUMMARY:FREE SnackPack Summer Lunch - Southgate Mobile Home Park
DESCRIPTION:  \nSnackPack Mobile will start serving FREE hot lunches to children up to 18 years old at this 2nd location starting August 3.    \nIn conjunction with United Way of King County\, the AmeriCorps Vista HungerCorps\, and OPERATION: Sack Lunch\, we are pleased to announce that we will be serving free hot lunches! \nTo help serve lunches\, call 206-717-4709 or email at TukSnackPack@gmail.com \n  \nAug 3 – Aug 28        Monday thru Friday \n12:30 pm – 1:00 pm \nSouthgate Mobile Home Park \n14005 42nd Ave S \n  \n  \nJun 22 – Aug 28        Monday thru Friday \n12:00 pm – 1:00 pm \nHampton Heights Apartment Parking Lot \n5711 S 152nd St \n  \n 
URL:https://www.tukwilawa.gov/event/free-snackpack-summer-lunch-southgate-mobile-home-park/
LOCATION:WA\, United States
CATEGORIES:Community Event,Volunteer Opportunity
END:VEVENT
END:VCALENDAR