BEGIN:VCALENDAR
VERSION:2.0
PRODID:-//City of Tukwila - ECPv6.15.20//NONSGML v1.0//EN
CALSCALE:GREGORIAN
METHOD:PUBLISH
X-ORIGINAL-URL:https://www.tukwilawa.gov
X-WR-CALDESC:Events for City of Tukwila
REFRESH-INTERVAL;VALUE=DURATION:PT1H
X-Robots-Tag:noindex
X-PUBLISHED-TTL:PT1H
BEGIN:VTIMEZONE
TZID:America/Los_Angeles
BEGIN:DAYLIGHT
TZOFFSETFROM:-0800
TZOFFSETTO:-0700
TZNAME:PDT
DTSTART:20160313T100000
END:DAYLIGHT
BEGIN:STANDARD
TZOFFSETFROM:-0700
TZOFFSETTO:-0800
TZNAME:PST
DTSTART:20161106T090000
END:STANDARD
BEGIN:DAYLIGHT
TZOFFSETFROM:-0800
TZOFFSETTO:-0700
TZNAME:PDT
DTSTART:20170312T100000
END:DAYLIGHT
BEGIN:STANDARD
TZOFFSETFROM:-0700
TZOFFSETTO:-0800
TZNAME:PST
DTSTART:20171105T090000
END:STANDARD
BEGIN:DAYLIGHT
TZOFFSETFROM:-0800
TZOFFSETTO:-0700
TZNAME:PDT
DTSTART:20180311T100000
END:DAYLIGHT
BEGIN:STANDARD
TZOFFSETFROM:-0700
TZOFFSETTO:-0800
TZNAME:PST
DTSTART:20181104T090000
END:STANDARD
END:VTIMEZONE
BEGIN:VEVENT
DTSTART;TZID=America/Los_Angeles:20170223T180000
DTEND;TZID=America/Los_Angeles:20170223T193000
DTSTAMP:20260420T094315
CREATED:20170124T172002Z
LAST-MODIFIED:20170202T183634Z
UID:10004238-1487872800-1487878200@www.tukwilawa.gov
SUMMARY:Tukwila International Boulevard Workshop Session I
DESCRIPTION:The City of Tukwila adopted the Tukwila International Boulevard District Element of the Comprehensive Plan in 2015. This fall we will begin working will local residents\, businesses\, service providers\, and other stakeholders in implementing the community’s vision for the neighborhood. \nThe City is excited to announce the members of the  CNU Team who  will be coming to Tukwila to work with the community on implementation of the TIB goals and policies.  Check out who they are and  their specialties. \n \nHow should we make the community’s goals for Tukwila International Boulevard a reality? The dream for the area is to have a complete neighborhood and community that is thriving\, multi-cultural\, residential and business\, and is a vibrant place to live\, work\, shop and play. The neighborhood is safe\, walkable and a destination with an authentic main street. There is also an emphasis on attracting self-sustaining\, living wage employment opportunities. \nBring your ideas to the TIB Community Workshop. We’ll be making choices on where to put stores\, housing\, and offices; how high to allow buildings; how much parking should be provided and where it should be located. We’ll also look at the need for new private or public parks\, streets or walkways\, or other public facilities. \nCHILD CARE AVAILABLE\, AND LIGHT REFRESHMENTS WILL BE SERVED. \n  \nChurch by the Side of the Road – Community Room\n 3455 S. 148th Street (SW Corner of TIB and S. 148th Street)\n  \nAttend 2 public sessions: \nSession I:   February 23 from 6:00 pm-7:30 pm   –   Tell us what we need to know.\nSession II:   February 25 from 6:30 pm-8:00 pm   –   Come back to see if we got it right.\n               ** Drop-in anytime during these times to observe the work in progress: \nFriday\, February 24 –       1:00 pm-3:30 pm    \nSaturday\, February 25 –       10:30am-12:00pm \n\nWant More Information?\nTo receive email updates and announcements of events\, please leave your email or mailing contact information. \n \nSign Up Now\n  \nContacts\nMoira Bradshaw at 206 431-3651 and at moira.bradshaw@tukwilawa.gov; or Lynn Miranda at 206 433-7162 and at lynn.miranda@tukwilawa.gov \nSee link to flyer:     http://records.tukwilawa.gov/WebLink8/1/doc/285637/Electronic.aspx \n\n\n  \n 
URL:https://www.tukwilawa.gov/event/tukwila-international-boulevard-workshop-session/
LOCATION:Church By the Side of the Road\, 3455 South 148th Street\, Tukwila\, WA\, United States
CATEGORIES:Community Event,Meeting
GEO:47.4699943;-122.2871402
X-APPLE-STRUCTURED-LOCATION;VALUE=URI;X-ADDRESS=Church By the Side of the Road 3455 South 148th Street Tukwila WA United States;X-APPLE-RADIUS=500;X-TITLE=3455 South 148th Street:geo:-122.2871402,47.4699943
END:VEVENT
END:VCALENDAR