BEGIN:VCALENDAR
VERSION:2.0
PRODID:-//City of Tukwila - ECPv6.15.20//NONSGML v1.0//EN
CALSCALE:GREGORIAN
METHOD:PUBLISH
X-ORIGINAL-URL:https://www.tukwilawa.gov
X-WR-CALDESC:Events for City of Tukwila
REFRESH-INTERVAL;VALUE=DURATION:PT1H
X-Robots-Tag:noindex
X-PUBLISHED-TTL:PT1H
BEGIN:VTIMEZONE
TZID:America/Los_Angeles
BEGIN:DAYLIGHT
TZOFFSETFROM:-0800
TZOFFSETTO:-0700
TZNAME:PDT
DTSTART:20160313T100000
END:DAYLIGHT
BEGIN:STANDARD
TZOFFSETFROM:-0700
TZOFFSETTO:-0800
TZNAME:PST
DTSTART:20161106T090000
END:STANDARD
BEGIN:DAYLIGHT
TZOFFSETFROM:-0800
TZOFFSETTO:-0700
TZNAME:PDT
DTSTART:20170312T100000
END:DAYLIGHT
BEGIN:STANDARD
TZOFFSETFROM:-0700
TZOFFSETTO:-0800
TZNAME:PST
DTSTART:20171105T090000
END:STANDARD
BEGIN:DAYLIGHT
TZOFFSETFROM:-0800
TZOFFSETTO:-0700
TZNAME:PDT
DTSTART:20180311T100000
END:DAYLIGHT
BEGIN:STANDARD
TZOFFSETFROM:-0700
TZOFFSETTO:-0800
TZNAME:PST
DTSTART:20181104T090000
END:STANDARD
END:VTIMEZONE
BEGIN:VEVENT
DTSTART;TZID=America/Los_Angeles:20171012T180000
DTEND;TZID=America/Los_Angeles:20171012T203000
DTSTAMP:20260419T221008
CREATED:20170915T215446Z
LAST-MODIFIED:20171002T171702Z
UID:10004408-1507831200-1507840200@www.tukwilawa.gov
SUMMARY:Tree and Environmental Advisory Committee Meeting
DESCRIPTION:The Tukwila Tree and Environment Committee first met in 2012-2013 to assist with drafting goals and policies related to the natural environment and urban forestry for the update of Tukwila’s Comprehensive Plan.   These goals and policies were adopted by the City Council in 2013 and can be found in Chapter 4 of the Comprehensive Plan. \nTo implement the new landscaping and urban forestry goals and policies\, the City is now updating its landscaping code\, which has not been updated substantially in 17 years.   Updating the City’s tree regulations will follow after the landscaping code update.   The Tukwila Tree and Environment Advisory Committee reconvened to assist in the initial review of a draft landscaping code.   Materials related to the Committee’s review of the draft regulations\, including the Committee’s recommended draft landscaping code\, are posted below.   The Committee made a number of revisions and forwarded the draft regulations on to the Tukwila Planning Commission. \nSee link for more information:   http://www.tukwilawa.gov/departments/community-development/community-planning/tree-environment-advisory-committee/
URL:https://www.tukwilawa.gov/event/tree-environmental-advisory-committee-meeting/2017-10-12/
LOCATION:City of Tukwila – Rainier Conference Room\, 6300 Southcenter Blvd\, Suite 100\, Tukwila\, 98188\, United States
CATEGORIES:Meeting
END:VEVENT
BEGIN:VEVENT
DTSTART;TZID=America/Los_Angeles:20170927T180000
DTEND;TZID=America/Los_Angeles:20170927T203000
DTSTAMP:20260419T221008
CREATED:20170915T215446Z
LAST-MODIFIED:20171002T171702Z
UID:10004407-1506535200-1506544200@www.tukwilawa.gov
SUMMARY:Tree and Environmental Advisory Committee Meeting
DESCRIPTION:The Tukwila Tree and Environment Committee first met in 2012-2013 to assist with drafting goals and policies related to the natural environment and urban forestry for the update of Tukwila’s Comprehensive Plan.   These goals and policies were adopted by the City Council in 2013 and can be found in Chapter 4 of the Comprehensive Plan. \nTo implement the new landscaping and urban forestry goals and policies\, the City is now updating its landscaping code\, which has not been updated substantially in 17 years.   Updating the City’s tree regulations will follow after the landscaping code update.   The Tukwila Tree and Environment Advisory Committee reconvened to assist in the initial review of a draft landscaping code.   Materials related to the Committee’s review of the draft regulations\, including the Committee’s recommended draft landscaping code\, are posted below.   The Committee made a number of revisions and forwarded the draft regulations on to the Tukwila Planning Commission. \nSee link for more information:   http://www.tukwilawa.gov/departments/community-development/community-planning/tree-environment-advisory-committee/
URL:https://www.tukwilawa.gov/event/tree-environmental-advisory-committee-meeting/2017-09-27/
LOCATION:City of Tukwila – Rainier Conference Room\, 6300 Southcenter Blvd\, Suite 100\, Tukwila\, 98188\, United States
CATEGORIES:Meeting
END:VEVENT
END:VCALENDAR