BEGIN:VCALENDAR
VERSION:2.0
PRODID:-//City of Tukwila - ECPv6.15.20//NONSGML v1.0//EN
CALSCALE:GREGORIAN
METHOD:PUBLISH
X-WR-CALNAME:City of Tukwila
X-ORIGINAL-URL:https://www.tukwilawa.gov
X-WR-CALDESC:Events for City of Tukwila
REFRESH-INTERVAL;VALUE=DURATION:PT1H
X-Robots-Tag:noindex
X-PUBLISHED-TTL:PT1H
BEGIN:VTIMEZONE
TZID:UTC
BEGIN:STANDARD
TZOFFSETFROM:+0000
TZOFFSETTO:+0000
TZNAME:UTC
DTSTART:20150101T000000
END:STANDARD
END:VTIMEZONE
BEGIN:VEVENT
DTSTART;TZID=UTC:20160611T100000
DTEND;TZID=UTC:20160611T120000
DTSTAMP:20260424T134950
CREATED:20160511T180213Z
LAST-MODIFIED:20160512T154733Z
UID:10003530-1465639200-1465646400@www.tukwilawa.gov
SUMMARY:Council Chat
DESCRIPTION:Join Councilmember Tom McLeod at Corner Bakery to discuss issues in our City.
URL:https://www.tukwilawa.gov/event/council-chat-3/
LOCATION:Corner Bakery\, 393 Strander Blvd\, Tukwila\, 98168
CATEGORIES:City Council,Community Event
ORGANIZER;CN="Laurel Humphrey":MAILTO:citycouncil@tukwilawa.gov
GEO:47.4556105;-122.2547328
X-APPLE-STRUCTURED-LOCATION;VALUE=URI;X-ADDRESS=Corner Bakery 393 Strander Blvd Tukwila 98168;X-APPLE-RADIUS=500;X-TITLE=393 Strander Blvd:geo:-122.2547328,47.4556105
END:VEVENT
END:VCALENDAR