BEGIN:VCALENDAR
VERSION:2.0
PRODID:-//City of Tukwila - ECPv6.15.20//NONSGML v1.0//EN
CALSCALE:GREGORIAN
METHOD:PUBLISH
X-WR-CALNAME:City of Tukwila
X-ORIGINAL-URL:https://www.tukwilawa.gov
X-WR-CALDESC:Events for City of Tukwila
REFRESH-INTERVAL;VALUE=DURATION:PT1H
X-Robots-Tag:noindex
X-PUBLISHED-TTL:PT1H
BEGIN:VTIMEZONE
TZID:America/Los_Angeles
BEGIN:DAYLIGHT
TZOFFSETFROM:-0800
TZOFFSETTO:-0700
TZNAME:PDT
DTSTART:20150308T100000
END:DAYLIGHT
BEGIN:STANDARD
TZOFFSETFROM:-0700
TZOFFSETTO:-0800
TZNAME:PST
DTSTART:20151101T090000
END:STANDARD
BEGIN:DAYLIGHT
TZOFFSETFROM:-0800
TZOFFSETTO:-0700
TZNAME:PDT
DTSTART:20160313T100000
END:DAYLIGHT
BEGIN:STANDARD
TZOFFSETFROM:-0700
TZOFFSETTO:-0800
TZNAME:PST
DTSTART:20161106T090000
END:STANDARD
BEGIN:DAYLIGHT
TZOFFSETFROM:-0800
TZOFFSETTO:-0700
TZNAME:PDT
DTSTART:20170312T100000
END:DAYLIGHT
BEGIN:STANDARD
TZOFFSETFROM:-0700
TZOFFSETTO:-0800
TZNAME:PST
DTSTART:20171105T090000
END:STANDARD
END:VTIMEZONE
BEGIN:VEVENT
DTSTART;TZID=America/Los_Angeles:20161022T100000
DTEND;TZID=America/Los_Angeles:20161022T130000
DTSTAMP:20260421T031021
CREATED:20160729T200234Z
LAST-MODIFIED:20161130T234238Z
UID:10003802-1477130400-1477141200@www.tukwilawa.gov
SUMMARY:Duwamish Alive! Work Party
DESCRIPTION:Join the Duwamish Alive Coalition to help preserve and enhance habitat for people and wildlife\, and improve the health of the Puget Sound by working within the Duwamish River watershed. Restoration is on-going throughout the year\, but it’s only during Duwamish Alive that our organizations come together to host hundreds of volunteers at multiple sites to make a huge impact on the same day! We provide the instructions\, tools and even snacks and coffee to keep you energized. \n  \nFor more information visit the website:    www.duwamishalive.org   or call   (206) 923-0853.
URL:https://www.tukwilawa.gov/event/duwamish-alive-work-party/
LOCATION:WA
CATEGORIES:Community Event,Volunteer Opportunity
GEO:47.7510741;-120.7401386
END:VEVENT
END:VCALENDAR