BEGIN:VCALENDAR
VERSION:2.0
PRODID:-//City of Tukwila - ECPv6.15.20//NONSGML v1.0//EN
CALSCALE:GREGORIAN
METHOD:PUBLISH
X-WR-CALNAME:City of Tukwila
X-ORIGINAL-URL:https://www.tukwilawa.gov
X-WR-CALDESC:Events for City of Tukwila
REFRESH-INTERVAL;VALUE=DURATION:PT1H
X-Robots-Tag:noindex
X-PUBLISHED-TTL:PT1H
BEGIN:VTIMEZONE
TZID:America/Los_Angeles
BEGIN:DAYLIGHT
TZOFFSETFROM:-0800
TZOFFSETTO:-0700
TZNAME:PDT
DTSTART:20150308T100000
END:DAYLIGHT
BEGIN:STANDARD
TZOFFSETFROM:-0700
TZOFFSETTO:-0800
TZNAME:PST
DTSTART:20151101T090000
END:STANDARD
BEGIN:DAYLIGHT
TZOFFSETFROM:-0800
TZOFFSETTO:-0700
TZNAME:PDT
DTSTART:20160313T100000
END:DAYLIGHT
BEGIN:STANDARD
TZOFFSETFROM:-0700
TZOFFSETTO:-0800
TZNAME:PST
DTSTART:20161106T090000
END:STANDARD
BEGIN:DAYLIGHT
TZOFFSETFROM:-0800
TZOFFSETTO:-0700
TZNAME:PDT
DTSTART:20170312T100000
END:DAYLIGHT
BEGIN:STANDARD
TZOFFSETFROM:-0700
TZOFFSETTO:-0800
TZNAME:PST
DTSTART:20171105T090000
END:STANDARD
END:VTIMEZONE
BEGIN:VEVENT
DTSTART;TZID=America/Los_Angeles:20160921T173000
DTEND;TZID=America/Los_Angeles:20160921T190000
DTSTAMP:20260421T011107
CREATED:20160913T233747Z
LAST-MODIFIED:20160913T234002Z
UID:10003869-1474479000-1474484400@www.tukwilawa.gov
SUMMARY:FREE Event - See You in the Park
DESCRIPTION:Tukwila Parks and Recreation Department is hosting a park picnic at Duwamish Park! \nTukwila Parks Staff is celebrating the end of summer by hosting a PARK PLAY NIGHT at Duwamish Park.   Please join us\, along with your neighbors\, to share   what you love about the park and ideas for future improvements. Parks Staff will be providing a nacho bar – feel free to bring a healthy item to contribute to the picnic! \nFor more information\, call 206.433.7157   or   email parkswatch@tukwilawa.gov \nSee link to print postcard:     http://records.tukwilawa.gov/WebLink8/1/doc/275316/Electronic.aspx?searchid=37d724cf-f172-4850-862f-ec88c194db5e \n 
URL:https://www.tukwilawa.gov/event/free-event-see-park/
LOCATION:Duwamish Park\, 11750 42nd Avenue South\, Tukwila\, WA
CATEGORIES:City Event
GEO:47.49806;-122.2806025
X-APPLE-STRUCTURED-LOCATION;VALUE=URI;X-ADDRESS=Duwamish Park 11750 42nd Avenue South Tukwila WA;X-APPLE-RADIUS=500;X-TITLE=11750 42nd Avenue South:geo:-122.2806025,47.49806
END:VEVENT
END:VCALENDAR