BEGIN:VCALENDAR
VERSION:2.0
PRODID:-//City of Tukwila - ECPv6.15.20//NONSGML v1.0//EN
CALSCALE:GREGORIAN
METHOD:PUBLISH
X-ORIGINAL-URL:https://www.tukwilawa.gov
X-WR-CALDESC:Events for City of Tukwila
REFRESH-INTERVAL;VALUE=DURATION:PT1H
X-Robots-Tag:noindex
X-PUBLISHED-TTL:PT1H
BEGIN:VTIMEZONE
TZID:America/Los_Angeles
BEGIN:DAYLIGHT
TZOFFSETFROM:-0800
TZOFFSETTO:-0700
TZNAME:PDT
DTSTART:20150308T100000
END:DAYLIGHT
BEGIN:STANDARD
TZOFFSETFROM:-0700
TZOFFSETTO:-0800
TZNAME:PST
DTSTART:20151101T090000
END:STANDARD
BEGIN:DAYLIGHT
TZOFFSETFROM:-0800
TZOFFSETTO:-0700
TZNAME:PDT
DTSTART:20160313T100000
END:DAYLIGHT
BEGIN:STANDARD
TZOFFSETFROM:-0700
TZOFFSETTO:-0800
TZNAME:PST
DTSTART:20161106T090000
END:STANDARD
BEGIN:DAYLIGHT
TZOFFSETFROM:-0800
TZOFFSETTO:-0700
TZNAME:PDT
DTSTART:20170312T100000
END:DAYLIGHT
BEGIN:STANDARD
TZOFFSETFROM:-0700
TZOFFSETTO:-0800
TZNAME:PST
DTSTART:20171105T090000
END:STANDARD
END:VTIMEZONE
BEGIN:VEVENT
DTSTART;TZID=America/Los_Angeles:20161022T093000
DTEND;TZID=America/Los_Angeles:20161022T140000
DTSTAMP:20260421T143057
CREATED:20160729T200525Z
LAST-MODIFIED:20161130T234002Z
UID:10003803-1477128600-1477144800@www.tukwilawa.gov
SUMMARY:Duwamish Shoreline Challenge Work Party
DESCRIPTION:Join the City in restoring the Duwamish River shoreline by participating in one or all of the ork parties. \n  \nFor more information contact Shannon Fisher:       shannon.fisher@tukwilawa.gov     or     (206) 768-2822.
URL:https://www.tukwilawa.gov/event/duwamish-shoreline-challenge-work-party/
LOCATION:WA
CATEGORIES:Community Event,Volunteer Opportunity
GEO:47.7510741;-120.7401386
END:VEVENT
END:VCALENDAR