BEGIN:VCALENDAR
VERSION:2.0
PRODID:-//City of Tukwila - ECPv6.15.20//NONSGML v1.0//EN
CALSCALE:GREGORIAN
METHOD:PUBLISH
X-ORIGINAL-URL:https://www.tukwilawa.gov
X-WR-CALDESC:Events for City of Tukwila
REFRESH-INTERVAL;VALUE=DURATION:PT1H
X-Robots-Tag:noindex
X-PUBLISHED-TTL:PT1H
BEGIN:VTIMEZONE
TZID:America/Los_Angeles
BEGIN:DAYLIGHT
TZOFFSETFROM:-0800
TZOFFSETTO:-0700
TZNAME:PDT
DTSTART:20150308T100000
END:DAYLIGHT
BEGIN:STANDARD
TZOFFSETFROM:-0700
TZOFFSETTO:-0800
TZNAME:PST
DTSTART:20151101T090000
END:STANDARD
BEGIN:DAYLIGHT
TZOFFSETFROM:-0800
TZOFFSETTO:-0700
TZNAME:PDT
DTSTART:20160313T100000
END:DAYLIGHT
BEGIN:STANDARD
TZOFFSETFROM:-0700
TZOFFSETTO:-0800
TZNAME:PST
DTSTART:20161106T090000
END:STANDARD
BEGIN:DAYLIGHT
TZOFFSETFROM:-0800
TZOFFSETTO:-0700
TZNAME:PDT
DTSTART:20170312T100000
END:DAYLIGHT
BEGIN:STANDARD
TZOFFSETFROM:-0700
TZOFFSETTO:-0800
TZNAME:PST
DTSTART:20171105T090000
END:STANDARD
END:VTIMEZONE
BEGIN:VEVENT
DTSTART;TZID=America/Los_Angeles:20160716T100000
DTEND;TZID=America/Los_Angeles:20160716T120000
DTSTAMP:20260424T014825
CREATED:20160714T191454Z
LAST-MODIFIED:20160714T191454Z
UID:10003794-1468663200-1468670400@www.tukwilawa.gov
SUMMARY:Leaders at the Library
DESCRIPTION:Come talk to the Superintendent and Mayor: The next Leaders at KCLS Foster Library.   The topics include a joint attendance campaign and race and equity priorities.   However\, they are also happy to talk about whatever questions\, suggestions\, and concerns are on your mind.
URL:https://www.tukwilawa.gov/event/leaders-at-the-library/
LOCATION:Foster Library\, 4060 South 144th Street\, Tukwila\, WA\, United States
CATEGORIES:Community Event
GEO:47.4745118;-122.281536
X-APPLE-STRUCTURED-LOCATION;VALUE=URI;X-ADDRESS=Foster Library 4060 South 144th Street Tukwila WA United States;X-APPLE-RADIUS=500;X-TITLE=4060 South 144th Street:geo:-122.281536,47.4745118
END:VEVENT
END:VCALENDAR