BEGIN:VCALENDAR
VERSION:2.0
PRODID:-//City of Tukwila - ECPv6.15.20//NONSGML v1.0//EN
CALSCALE:GREGORIAN
METHOD:PUBLISH
X-WR-CALNAME:City of Tukwila
X-ORIGINAL-URL:https://www.tukwilawa.gov
X-WR-CALDESC:Events for City of Tukwila
REFRESH-INTERVAL;VALUE=DURATION:PT1H
X-Robots-Tag:noindex
X-PUBLISHED-TTL:PT1H
BEGIN:VTIMEZONE
TZID:America/Los_Angeles
BEGIN:DAYLIGHT
TZOFFSETFROM:-0800
TZOFFSETTO:-0700
TZNAME:PDT
DTSTART:20230312T100000
END:DAYLIGHT
BEGIN:STANDARD
TZOFFSETFROM:-0700
TZOFFSETTO:-0800
TZNAME:PST
DTSTART:20231105T090000
END:STANDARD
BEGIN:DAYLIGHT
TZOFFSETFROM:-0800
TZOFFSETTO:-0700
TZNAME:PDT
DTSTART:20240310T100000
END:DAYLIGHT
BEGIN:STANDARD
TZOFFSETFROM:-0700
TZOFFSETTO:-0800
TZNAME:PST
DTSTART:20241103T090000
END:STANDARD
BEGIN:DAYLIGHT
TZOFFSETFROM:-0800
TZOFFSETTO:-0700
TZNAME:PDT
DTSTART:20250309T100000
END:DAYLIGHT
BEGIN:STANDARD
TZOFFSETFROM:-0700
TZOFFSETTO:-0800
TZNAME:PST
DTSTART:20251102T090000
END:STANDARD
END:VTIMEZONE
BEGIN:VEVENT
DTSTART;TZID=America/Los_Angeles:20241015T120000
DTEND;TZID=America/Los_Angeles:20241015T170000
DTSTAMP:20260418T003525
CREATED:20241003T204345Z
LAST-MODIFIED:20241003T204500Z
UID:10010464-1728993600-1729011600@www.tukwilawa.gov
SUMMARY:Adopt a Dog or Cat Deals this Month
DESCRIPTION:All this month\, you can adopt a dog for just $50\, plus a pet license fee where applicable.\n\nAll pets from RASKC have had an initial veterinary exam\, are up to date on their vaccinations\, have been spayed or neutered\, and are microchipped. Adopters get 30 days of opt-in pet health insurance through Trupanion\, among other benefits. Dog adoptions come with a lifetime discount on online training from GoodPup.\n\n\n\nIf a cat tickles your fancy\, they’re available to adopt for a fee of just $30\, and kittens are $100.\n\nAdoption fees for pets like rabbits and other small mammals vary based on breed and age.\n\n\n\nThe King County Pet Adoption Center\n21615 64th Ave S\,  Kent\n\n 12 pm to 5 pm    Monday – Friday\n12 pm – 4 pm    Saturday & Sunday\n\nSee all the pets available for adoption at kingcounty.gov/AdoptAPet
URL:https://www.tukwilawa.gov/event/adopt-a-dog-or-cat-deals-this-month/2024-10-15/
LOCATION:King County Pet Adoption Center\, 21615 64th Ave S\, Kent\, United States
CATEGORIES:Community Event
END:VEVENT
BEGIN:VEVENT
DTSTART;TZID=America/Los_Angeles:20241008T120000
DTEND;TZID=America/Los_Angeles:20241008T170000
DTSTAMP:20260418T003525
CREATED:20241003T204345Z
LAST-MODIFIED:20241003T204500Z
UID:10010463-1728388800-1728406800@www.tukwilawa.gov
SUMMARY:Adopt a Dog or Cat Deals this Month
DESCRIPTION:All this month\, you can adopt a dog for just $50\, plus a pet license fee where applicable.\n\nAll pets from RASKC have had an initial veterinary exam\, are up to date on their vaccinations\, have been spayed or neutered\, and are microchipped. Adopters get 30 days of opt-in pet health insurance through Trupanion\, among other benefits. Dog adoptions come with a lifetime discount on online training from GoodPup.\n\n\n\nIf a cat tickles your fancy\, they’re available to adopt for a fee of just $30\, and kittens are $100.\n\nAdoption fees for pets like rabbits and other small mammals vary based on breed and age.\n\n\n\nThe King County Pet Adoption Center\n21615 64th Ave S\,  Kent\n\n 12 pm to 5 pm    Monday – Friday\n12 pm – 4 pm    Saturday & Sunday\n\nSee all the pets available for adoption at kingcounty.gov/AdoptAPet
URL:https://www.tukwilawa.gov/event/adopt-a-dog-or-cat-deals-this-month/2024-10-08/
LOCATION:King County Pet Adoption Center\, 21615 64th Ave S\, Kent\, United States
CATEGORIES:Community Event
END:VEVENT
END:VCALENDAR