BEGIN:VCALENDAR
VERSION:2.0
PRODID:-//City of Tukwila - ECPv6.15.20//NONSGML v1.0//EN
CALSCALE:GREGORIAN
METHOD:PUBLISH
X-ORIGINAL-URL:https://www.tukwilawa.gov
X-WR-CALDESC:Events for City of Tukwila
REFRESH-INTERVAL;VALUE=DURATION:PT1H
X-Robots-Tag:noindex
X-PUBLISHED-TTL:PT1H
BEGIN:VTIMEZONE
TZID:America/Los_Angeles
BEGIN:DAYLIGHT
TZOFFSETFROM:-0800
TZOFFSETTO:-0700
TZNAME:PDT
DTSTART:20250309T100000
END:DAYLIGHT
BEGIN:STANDARD
TZOFFSETFROM:-0700
TZOFFSETTO:-0800
TZNAME:PST
DTSTART:20251102T090000
END:STANDARD
BEGIN:DAYLIGHT
TZOFFSETFROM:-0800
TZOFFSETTO:-0700
TZNAME:PDT
DTSTART:20260308T100000
END:DAYLIGHT
BEGIN:STANDARD
TZOFFSETFROM:-0700
TZOFFSETTO:-0800
TZNAME:PST
DTSTART:20261101T090000
END:STANDARD
BEGIN:DAYLIGHT
TZOFFSETFROM:-0800
TZOFFSETTO:-0700
TZNAME:PDT
DTSTART:20270314T100000
END:DAYLIGHT
BEGIN:STANDARD
TZOFFSETFROM:-0700
TZOFFSETTO:-0800
TZNAME:PST
DTSTART:20271107T090000
END:STANDARD
END:VTIMEZONE
BEGIN:VEVENT
DTSTART;TZID=America/Los_Angeles:20260127T110000
DTEND;TZID=America/Los_Angeles:20260127T140000
DTSTAMP:20260424T175137
CREATED:20260120T194835Z
LAST-MODIFIED:20260121T001209Z
UID:10016420-1769511600-1769522400@www.tukwilawa.gov
SUMMARY:Health & Wellness Fair
DESCRIPTION:Lutheran Community Services/Public Health and the WA State Department of Health are partnering to host a Mobile Health Event!\n\n\n\nBelow are services being offered:\n\n\n• Blood Pressure and Blood Glucose Screenings\n• Mental Health Services\n• A1C Testing\n• BMI Screening\n• Vaccine Education\n• Vision Screening\n• Naloxone (Narcan) Distribution\n• Covid/Flu Test Kits\n\n\nFor information\, visit tinyurl.com/5bjk3wnm\n\n\n\n________________________________________________________ \nDISCLAIMER:    Third-party links\, resources\, and services are being provided as a convenience and for informational purposes only; the City of Tukwila does not endorse or approve any of the products\, services\, or opinions of these third parties and bears no responsibility for the accuracy\, legality\, or content of the external sites or related links.  \nShould you have any questions\, please contact the external sites and providers directly and proceed with caution when accessing any unfamiliar websites or links.
URL:https://www.tukwilawa.gov/event/health-wellness-fair/
LOCATION:Matt Griffin YMCA\, 3595 S 188th St\, SeaTac\, WA
CATEGORIES:Community Event
END:VEVENT
END:VCALENDAR