BEGIN:VCALENDAR
VERSION:2.0
PRODID:-//City of Tukwila - ECPv6.15.20//NONSGML v1.0//EN
CALSCALE:GREGORIAN
METHOD:PUBLISH
X-ORIGINAL-URL:https://www.tukwilawa.gov
X-WR-CALDESC:Events for City of Tukwila
REFRESH-INTERVAL;VALUE=DURATION:PT1H
X-Robots-Tag:noindex
X-PUBLISHED-TTL:PT1H
BEGIN:VTIMEZONE
TZID:America/Los_Angeles
BEGIN:DAYLIGHT
TZOFFSETFROM:-0800
TZOFFSETTO:-0700
TZNAME:PDT
DTSTART:20160313T100000
END:DAYLIGHT
BEGIN:STANDARD
TZOFFSETFROM:-0700
TZOFFSETTO:-0800
TZNAME:PST
DTSTART:20161106T090000
END:STANDARD
BEGIN:DAYLIGHT
TZOFFSETFROM:-0800
TZOFFSETTO:-0700
TZNAME:PDT
DTSTART:20170312T100000
END:DAYLIGHT
BEGIN:STANDARD
TZOFFSETFROM:-0700
TZOFFSETTO:-0800
TZNAME:PST
DTSTART:20171105T090000
END:STANDARD
BEGIN:DAYLIGHT
TZOFFSETFROM:-0800
TZOFFSETTO:-0700
TZNAME:PDT
DTSTART:20180311T100000
END:DAYLIGHT
BEGIN:STANDARD
TZOFFSETFROM:-0700
TZOFFSETTO:-0800
TZNAME:PST
DTSTART:20181104T090000
END:STANDARD
END:VTIMEZONE
BEGIN:VEVENT
DTSTART;TZID=America/Los_Angeles:20170415T180000
DTEND;TZID=America/Los_Angeles:20170415T220000
DTSTAMP:20260420T102300
CREATED:20170120T201748Z
LAST-MODIFIED:20170317T172525Z
UID:10004219-1492279200-1492293600@www.tukwilawa.gov
SUMMARY:Fundraising - Tukwila Historical Society
DESCRIPTION:Encore presentation and slideshow  of “Once & Future River: Reclaiming the Duwamish” book by Tom Reese and Eric Wagner. \nThere is limited space available and tickets will be available after Feb 1. \nFood will be provided.   There is no cost\, but RSVP is required to attend. \nContact the Tukwila Historical Society at (206) 244-4478 or tukwilahistsociety@tukwilahistory.org for more information.
URL:https://www.tukwilawa.gov/event/fundraising-tukwila-historical-society/
LOCATION:Odin Brewing Company\, 402 Baker Boulevard\, Tukwila\, WA\, United States
CATEGORIES:Community Event
GEO:47.4586471;-122.252058
X-APPLE-STRUCTURED-LOCATION;VALUE=URI;X-ADDRESS=Odin Brewing Company 402 Baker Boulevard Tukwila WA United States;X-APPLE-RADIUS=500;X-TITLE=402 Baker Boulevard:geo:-122.252058,47.4586471
END:VEVENT
END:VCALENDAR