BEGIN:VCALENDAR
VERSION:2.0
PRODID:-//City of Tukwila - ECPv6.15.20//NONSGML v1.0//EN
CALSCALE:GREGORIAN
METHOD:PUBLISH
X-ORIGINAL-URL:https://www.tukwilawa.gov
X-WR-CALDESC:Events for City of Tukwila
REFRESH-INTERVAL;VALUE=DURATION:PT1H
X-Robots-Tag:noindex
X-PUBLISHED-TTL:PT1H
BEGIN:VTIMEZONE
TZID:UTC
BEGIN:STANDARD
TZOFFSETFROM:+0000
TZOFFSETTO:+0000
TZNAME:UTC
DTSTART:20150101T000000
END:STANDARD
END:VTIMEZONE
BEGIN:VEVENT
DTSTART;TZID=UTC:20160414T170000
DTEND;TZID=UTC:20160414T213000
DTSTAMP:20260424T091139
CREATED:20160406T154448Z
LAST-MODIFIED:20160408T183516Z
UID:10003511-1460653200-1460669400@www.tukwilawa.gov
SUMMARY:Firefighters Fundraising
DESCRIPTION:THE OLD SPAGHETTI FACTORY’S “LET’S EAT OUT” NIGHT \nTukwila and Kent Firefighters  are  partnering with The Old Spaghetti Factory to raise funds for The Soup Ladies.   The Old Spaghetti Factory will donate 15% of your dinners proceeds to The Soup Ladies when the flyer is presented (see below link).   Please consider an evening out to dinner with family   and friends for this event.   This event is open to all so feel free to share this flyer with your friends\, family\, co-workers etc.   Thank you!! \nMust present this flyer (either in paper or electronic format):   Cal – Soup Ladies Fundraising \nThe Cause: \nThe SoupLadies.org is a non-profit 501 (c) (3) organization dedicated to serving those who serve us in difficult situations. In the fiscal year July 2014 – June 2015\, the Soup Ladies responded to 27 emergencies over the course of 44 calendar days and served 7300 meals to First Responders. Their Mission is to provide fresh cooked meals expeditiously to support first responders such as police and fire departments\, search and rescue teams and military personnel in times of emergencies and disasters. \n 
URL:https://www.tukwilawa.gov/event/soup-ladies-funraising/
LOCATION:Old Spaghetti Factory\, 17100 Southcenter Pkwy\, Tukwila\, 98188
CATEGORIES:Community Event
GEO:47.4501139;-122.2612495
X-APPLE-STRUCTURED-LOCATION;VALUE=URI;X-ADDRESS=Old Spaghetti Factory 17100 Southcenter Pkwy Tukwila 98188;X-APPLE-RADIUS=500;X-TITLE=17100 Southcenter Pkwy:geo:-122.2612495,47.4501139
END:VEVENT
END:VCALENDAR