BEGIN:VCALENDAR
VERSION:2.0
PRODID:-//City of Tukwila - ECPv6.15.20//NONSGML v1.0//EN
CALSCALE:GREGORIAN
METHOD:PUBLISH
X-ORIGINAL-URL:https://www.tukwilawa.gov
X-WR-CALDESC:Events for City of Tukwila
REFRESH-INTERVAL;VALUE=DURATION:PT1H
X-Robots-Tag:noindex
X-PUBLISHED-TTL:PT1H
BEGIN:VTIMEZONE
TZID:America/Los_Angeles
BEGIN:DAYLIGHT
TZOFFSETFROM:-0800
TZOFFSETTO:-0700
TZNAME:PDT
DTSTART:20150308T100000
END:DAYLIGHT
BEGIN:STANDARD
TZOFFSETFROM:-0700
TZOFFSETTO:-0800
TZNAME:PST
DTSTART:20151101T090000
END:STANDARD
BEGIN:DAYLIGHT
TZOFFSETFROM:-0800
TZOFFSETTO:-0700
TZNAME:PDT
DTSTART:20160313T100000
END:DAYLIGHT
BEGIN:STANDARD
TZOFFSETFROM:-0700
TZOFFSETTO:-0800
TZNAME:PST
DTSTART:20161106T090000
END:STANDARD
BEGIN:DAYLIGHT
TZOFFSETFROM:-0800
TZOFFSETTO:-0700
TZNAME:PDT
DTSTART:20170312T100000
END:DAYLIGHT
BEGIN:STANDARD
TZOFFSETFROM:-0700
TZOFFSETTO:-0800
TZNAME:PST
DTSTART:20171105T090000
END:STANDARD
END:VTIMEZONE
BEGIN:VEVENT
DTSTART;TZID=America/Los_Angeles:20160810T173000
DTEND;TZID=America/Los_Angeles:20160810T190000
DTSTAMP:20260419T223020
CREATED:20160715T175614Z
LAST-MODIFIED:20160715T175614Z
UID:10003324-1470850200-1470855600@www.tukwilawa.gov
SUMMARY:Parks Commission - Cancelled
DESCRIPTION:Advises City officials regarding the acquisition\, development\, expansion and operation of parks and recreational facilities and programs. Meets in the Senior Game Room at the Tukwila Community Center. \n  \n\n\nSee agenda packets and minutes:   http://records.tukwilawa.gov/WebLink8/1/fol/179376/Row1.aspx
URL:https://www.tukwilawa.gov/event/parks-commission-cancelled/
LOCATION:WA
CATEGORIES:Meeting
GEO:47.7510741;-120.7401386
END:VEVENT
END:VCALENDAR