BEGIN:VCALENDAR
VERSION:2.0
PRODID:-//City of Tukwila - ECPv6.15.20//NONSGML v1.0//EN
CALSCALE:GREGORIAN
METHOD:PUBLISH
X-ORIGINAL-URL:https://www.tukwilawa.gov
X-WR-CALDESC:Events for City of Tukwila
REFRESH-INTERVAL;VALUE=DURATION:PT1H
X-Robots-Tag:noindex
X-PUBLISHED-TTL:PT1H
BEGIN:VTIMEZONE
TZID:America/Los_Angeles
BEGIN:DAYLIGHT
TZOFFSETFROM:-0800
TZOFFSETTO:-0700
TZNAME:PDT
DTSTART:20160313T100000
END:DAYLIGHT
BEGIN:STANDARD
TZOFFSETFROM:-0700
TZOFFSETTO:-0800
TZNAME:PST
DTSTART:20161106T090000
END:STANDARD
BEGIN:DAYLIGHT
TZOFFSETFROM:-0800
TZOFFSETTO:-0700
TZNAME:PDT
DTSTART:20170312T100000
END:DAYLIGHT
BEGIN:STANDARD
TZOFFSETFROM:-0700
TZOFFSETTO:-0800
TZNAME:PST
DTSTART:20171105T090000
END:STANDARD
BEGIN:DAYLIGHT
TZOFFSETFROM:-0800
TZOFFSETTO:-0700
TZNAME:PDT
DTSTART:20180311T100000
END:DAYLIGHT
BEGIN:STANDARD
TZOFFSETFROM:-0700
TZOFFSETTO:-0800
TZNAME:PST
DTSTART:20181104T090000
END:STANDARD
END:VTIMEZONE
BEGIN:VEVENT
DTSTART;TZID=America/Los_Angeles:20170223T183000
DTEND;TZID=America/Los_Angeles:20170223T203000
DTSTAMP:20260420T071147
CREATED:20170131T202419Z
LAST-MODIFIED:20170201T005446Z
UID:10004244-1487874600-1487881800@www.tukwilawa.gov
SUMMARY:Planning Commission - Rescheduled to 3/2
DESCRIPTION:The Planning Commission acts as the land use advisory body for the City Council and reviews and makes recommendations to the City Council on the City’s Comprehensive Plan\, Shoreline Plan\, Subdivision\, Zoning and Sign Codes. \n\n\nSee agenda packets and minutes:        http://records.tukwilawa.gov/WebLink8/1/fol/17011/Row1.aspx
URL:https://www.tukwilawa.gov/event/planning-commission-rescheduled-mar-2/
LOCATION:6200 Southcenter Blvd. \, Tukwila\, 98188\, United States
CATEGORIES:Meeting
GEO:47.4632017;-122.2556931
X-APPLE-STRUCTURED-LOCATION;VALUE=URI;X-ADDRESS=6200 Southcenter Blvd.  Tukwila 98188 United States;X-APPLE-RADIUS=500;X-TITLE=6200 Southcenter Blvd.:geo:-122.2556931,47.4632017
END:VEVENT
END:VCALENDAR