BEGIN:VCALENDAR
VERSION:2.0
PRODID:-//City of Tukwila - ECPv6.15.20//NONSGML v1.0//EN
CALSCALE:GREGORIAN
METHOD:PUBLISH
X-WR-CALNAME:City of Tukwila
X-ORIGINAL-URL:https://www.tukwilawa.gov
X-WR-CALDESC:Events for City of Tukwila
REFRESH-INTERVAL;VALUE=DURATION:PT1H
X-Robots-Tag:noindex
X-PUBLISHED-TTL:PT1H
BEGIN:VTIMEZONE
TZID:America/Los_Angeles
BEGIN:DAYLIGHT
TZOFFSETFROM:-0800
TZOFFSETTO:-0700
TZNAME:PDT
DTSTART:20160313T100000
END:DAYLIGHT
BEGIN:STANDARD
TZOFFSETFROM:-0700
TZOFFSETTO:-0800
TZNAME:PST
DTSTART:20161106T090000
END:STANDARD
BEGIN:DAYLIGHT
TZOFFSETFROM:-0800
TZOFFSETTO:-0700
TZNAME:PDT
DTSTART:20170312T100000
END:DAYLIGHT
BEGIN:STANDARD
TZOFFSETFROM:-0700
TZOFFSETTO:-0800
TZNAME:PST
DTSTART:20171105T090000
END:STANDARD
BEGIN:DAYLIGHT
TZOFFSETFROM:-0800
TZOFFSETTO:-0700
TZNAME:PDT
DTSTART:20180311T100000
END:DAYLIGHT
BEGIN:STANDARD
TZOFFSETFROM:-0700
TZOFFSETTO:-0800
TZNAME:PST
DTSTART:20181104T090000
END:STANDARD
END:VTIMEZONE
BEGIN:VEVENT
DTSTART;TZID=America/Los_Angeles:20170927T170000
DTEND;TZID=America/Los_Angeles:20170927T200000
DTSTAMP:20260419T225549
CREATED:20170922T210412Z
LAST-MODIFIED:20170922T211035Z
UID:10004410-1506531600-1506542400@www.tukwilawa.gov
SUMMARY:Candidates Night
DESCRIPTION:Seattle Southside Chamber of Commerce has invited  the candidates running for King County Sheriff\, City Council (Burien\, Des Moines\, Normandy Park\, SeaTac and Tukwila) and the Port of Seattle Commissioners Positions to attend\, and to meet and greet with Chamber members.   All candidates in attendance will also have an opportunity to address the full audience. \nHope you will join  Seattle Southside Chamber of Commerce  in this opportunity to engage with  our future elected officials. \nParking is limited and attendees are encouraged to carpool.   Additional over-flow parking is available next door at the Radisson Hotel Seattle Airport. \n  \n\n\n\nContact Information:\n\nFor addition Event details or for questions about registration please contact Emma Oglesby at 206-575-1633 or by email.\nSend an Email\n\n\n\n\nFees/Admission:\n\n$25 early registration for Chamber Members. $35 after September 20th.\n $50 for guests (non-members)\n\n\n\nLocation: \n\n\nRed Lion Seattle Airport Hotel\n18220 International Blvd\, SeaTac 98188Parking is limited and attendees are encouraged to carpool.   Additional over-flow parking is available next door at the Radisson Hotel Seattle Airport. \n\n\n\nDate/Time Information:\n\nSeptember 27\, 2017\n5pm-8pm
URL:https://www.tukwilawa.gov/event/candidates-night/
LOCATION:Red Lion Seattel Airport Hotel\, 18220 International Blvd\, SeaTac\, WA\, 98188\, United States
CATEGORIES:Community Event
GEO:47.4393537;-122.2950537
X-APPLE-STRUCTURED-LOCATION;VALUE=URI;X-ADDRESS=Red Lion Seattel Airport Hotel 18220 International Blvd SeaTac WA 98188 United States;X-APPLE-RADIUS=500;X-TITLE=18220 International Blvd:geo:-122.2950537,47.4393537
END:VEVENT
END:VCALENDAR