BEGIN:VCALENDAR
VERSION:2.0
PRODID:-//City of Tukwila - ECPv6.15.17//NONSGML v1.0//EN
CALSCALE:GREGORIAN
METHOD:PUBLISH
X-ORIGINAL-URL:https://www.tukwilawa.gov
X-WR-CALDESC:Events for City of Tukwila
REFRESH-INTERVAL;VALUE=DURATION:PT1H
X-Robots-Tag:noindex
X-PUBLISHED-TTL:PT1H
BEGIN:VTIMEZONE
TZID:America/Los_Angeles
BEGIN:DAYLIGHT
TZOFFSETFROM:-0800
TZOFFSETTO:-0700
TZNAME:PDT
DTSTART:20160313T100000
END:DAYLIGHT
BEGIN:STANDARD
TZOFFSETFROM:-0700
TZOFFSETTO:-0800
TZNAME:PST
DTSTART:20161106T090000
END:STANDARD
BEGIN:DAYLIGHT
TZOFFSETFROM:-0800
TZOFFSETTO:-0700
TZNAME:PDT
DTSTART:20170312T100000
END:DAYLIGHT
BEGIN:STANDARD
TZOFFSETFROM:-0700
TZOFFSETTO:-0800
TZNAME:PST
DTSTART:20171105T090000
END:STANDARD
BEGIN:DAYLIGHT
TZOFFSETFROM:-0800
TZOFFSETTO:-0700
TZNAME:PDT
DTSTART:20180311T100000
END:DAYLIGHT
BEGIN:STANDARD
TZOFFSETFROM:-0700
TZOFFSETTO:-0800
TZNAME:PST
DTSTART:20181104T090000
END:STANDARD
END:VTIMEZONE
BEGIN:VEVENT
DTSTART;TZID=America/Los_Angeles:20171122T110000
DTEND;TZID=America/Los_Angeles:20171122T140000
DTSTAMP:20260415T043822
CREATED:20171103T230938Z
LAST-MODIFIED:20171103T230938Z
UID:10004490-1511348400-1511359200@www.tukwilawa.gov
SUMMARY:Riverton Creek Work Party
DESCRIPTION:Kick Off Restoration Work on Tukwila’s Riverton Creek!\n\n\n\n\nTake part in this momentous event to kick off restoration work happening along Tukwila’s Riverton Creek! Join our Forest Steward\, Heidi\, for an afternoon along the creek where volunteers will focus on removing invasive weeds that are threatening the health of the forest here. All ages and abilities are welcome\, and no experience is necessary. So invite your friends\, family\, and coworkers to get your hands dirty at this Green Tukwila event!\n\n\nTo sign up to volunteer\, and for more information\, please email us at greentukwila@forterra.org\, or call us at  206-905-6924. \nLocation:  Riverton Creek – 37th Ave S and S 128th St.\, Tukwila\, WA 98188 \nWhere to meet: Street parking is available near the site. Please meet on 37th Ave S near the corner of S 128th St. Keep your eyes peeled for event signs and tools! \nWhat to bring:  Come dressed for the weather (rain or shine) in clothes you don’t mind getting dirty. Wear sturdy closed-toe shoes (rubber boots\, hiking/tennis shoes)\, long sleeves\, long pants\, warm layers and rain jacket. We’ll have tools and gloves for you to use! Help reduce waste by bringing your own refillable water bottle if you have one. \nAll ages welcome\, but we encourage all volunteers under the age of 15 to be accompanied by an adult. If you are a volunteer under 18 and attending the event without a parent or guardian\, please print and bring this waiver signed by a parent or guardian.
URL:https://www.tukwilawa.gov/event/riverton-creek-work-party/
LOCATION:6200 Southcenter Blvd. \, Tukwila\, 98188\, United States
CATEGORIES:Community Event,Volunteer Opportunity
GEO:47.4631345;-122.2555662
X-APPLE-STRUCTURED-LOCATION;VALUE=URI;X-ADDRESS=6200 Southcenter Blvd.  Tukwila 98188 United States;X-APPLE-RADIUS=500;X-TITLE=6200 Southcenter Blvd.:geo:-122.2555662,47.4631345
END:VEVENT
END:VCALENDAR