BEGIN:VCALENDAR
VERSION:2.0
PRODID:-//City of Tukwila - ECPv6.15.20//NONSGML v1.0//EN
CALSCALE:GREGORIAN
METHOD:PUBLISH
X-WR-CALNAME:City of Tukwila
X-ORIGINAL-URL:https://www.tukwilawa.gov
X-WR-CALDESC:Events for City of Tukwila
REFRESH-INTERVAL;VALUE=DURATION:PT1H
X-Robots-Tag:noindex
X-PUBLISHED-TTL:PT1H
BEGIN:VTIMEZONE
TZID:America/Los_Angeles
BEGIN:DAYLIGHT
TZOFFSETFROM:-0800
TZOFFSETTO:-0700
TZNAME:PDT
DTSTART:20240310T100000
END:DAYLIGHT
BEGIN:STANDARD
TZOFFSETFROM:-0700
TZOFFSETTO:-0800
TZNAME:PST
DTSTART:20241103T090000
END:STANDARD
BEGIN:DAYLIGHT
TZOFFSETFROM:-0800
TZOFFSETTO:-0700
TZNAME:PDT
DTSTART:20250309T100000
END:DAYLIGHT
BEGIN:STANDARD
TZOFFSETFROM:-0700
TZOFFSETTO:-0800
TZNAME:PST
DTSTART:20251102T090000
END:STANDARD
BEGIN:DAYLIGHT
TZOFFSETFROM:-0800
TZOFFSETTO:-0700
TZNAME:PDT
DTSTART:20260308T100000
END:DAYLIGHT
BEGIN:STANDARD
TZOFFSETFROM:-0700
TZOFFSETTO:-0800
TZNAME:PST
DTSTART:20261101T090000
END:STANDARD
BEGIN:DAYLIGHT
TZOFFSETFROM:-0800
TZOFFSETTO:-0700
TZNAME:PDT
DTSTART:20270314T100000
END:DAYLIGHT
BEGIN:STANDARD
TZOFFSETFROM:-0700
TZOFFSETTO:-0800
TZNAME:PST
DTSTART:20271107T090000
END:STANDARD
END:VTIMEZONE
BEGIN:VEVENT
DTSTART;TZID=America/Los_Angeles:20260213T110000
DTEND;TZID=America/Los_Angeles:20260213T110000
DTSTAMP:20260418T004902
CREATED:20260114T003544Z
LAST-MODIFIED:20260121T003145Z
UID:10016413-1770980400-1770980400@www.tukwilawa.gov
SUMMARY:Still Waters' Snack Pack Winter Donation Drive
DESCRIPTION:Your donations go directly to fighting food insecurity for Tukwila students who are homeless.  Help them focus on school work to prosper in their future. \nThank you for your generous donations. \nTo donate by Paypal\, click here:  https://www.paypal.com/donate/?hosted_button_id=Y4MHAJB54HTSC&source=qr \nOr\, to donate by check: \n     Still Waters Services for Families in Transition \n     PO Box 88984 \n     Tukwila  WA  98138 \n  \nStill Waters rely on volunteers to help assemble and distribute weekly Snack Packs.  Email us at Stillwatersfamilyservices@gmail.com if you are interested in volunteering! \nFor more information\, visit stillwaters.services. \n\n________________________________________________________ \nDISCLAIMER:    Third-party links\, resources\, and services are being provided as a convenience and for informational purposes only; the City of Tukwila does not endorse or approve any of the products\, services\, or opinions of these third parties and bears no responsibility for the accuracy\, legality\, or content of the external sites or related links.  \nShould you have any questions\, please contact the external sites and providers directly and proceed with caution when accessing any unfamiliar websites or links.
URL:https://www.tukwilawa.gov/event/still-waters-snack-pack-winter-donation-drive-2/2026-02-13/
LOCATION:Still Waters Snack Pack\, PO Box 88984\, Tukwila\, 98138\, United States
CATEGORIES:Community Event,Volunteer Opportunity
END:VEVENT
BEGIN:VEVENT
DTSTART;TZID=America/Los_Angeles:20260206T110000
DTEND;TZID=America/Los_Angeles:20260206T110000
DTSTAMP:20260418T004902
CREATED:20260114T003544Z
LAST-MODIFIED:20260121T003145Z
UID:10016412-1770375600-1770375600@www.tukwilawa.gov
SUMMARY:Still Waters' Snack Pack Winter Donation Drive
DESCRIPTION:Your donations go directly to fighting food insecurity for Tukwila students who are homeless.  Help them focus on school work to prosper in their future. \nThank you for your generous donations. \nTo donate by Paypal\, click here:  https://www.paypal.com/donate/?hosted_button_id=Y4MHAJB54HTSC&source=qr \nOr\, to donate by check: \n     Still Waters Services for Families in Transition \n     PO Box 88984 \n     Tukwila  WA  98138 \n  \nStill Waters rely on volunteers to help assemble and distribute weekly Snack Packs.  Email us at Stillwatersfamilyservices@gmail.com if you are interested in volunteering! \nFor more information\, visit stillwaters.services. \n\n________________________________________________________ \nDISCLAIMER:    Third-party links\, resources\, and services are being provided as a convenience and for informational purposes only; the City of Tukwila does not endorse or approve any of the products\, services\, or opinions of these third parties and bears no responsibility for the accuracy\, legality\, or content of the external sites or related links.  \nShould you have any questions\, please contact the external sites and providers directly and proceed with caution when accessing any unfamiliar websites or links.
URL:https://www.tukwilawa.gov/event/still-waters-snack-pack-winter-donation-drive-2/2026-02-06/
LOCATION:Still Waters Snack Pack\, PO Box 88984\, Tukwila\, 98138\, United States
CATEGORIES:Community Event,Volunteer Opportunity
END:VEVENT
BEGIN:VEVENT
DTSTART;TZID=America/Los_Angeles:20260130T110000
DTEND;TZID=America/Los_Angeles:20260130T110000
DTSTAMP:20260418T004902
CREATED:20260114T003544Z
LAST-MODIFIED:20260121T003145Z
UID:10016411-1769770800-1769770800@www.tukwilawa.gov
SUMMARY:Still Waters' Snack Pack Winter Donation Drive
DESCRIPTION:Your donations go directly to fighting food insecurity for Tukwila students who are homeless.  Help them focus on school work to prosper in their future. \nThank you for your generous donations. \nTo donate by Paypal\, click here:  https://www.paypal.com/donate/?hosted_button_id=Y4MHAJB54HTSC&source=qr \nOr\, to donate by check: \n     Still Waters Services for Families in Transition \n     PO Box 88984 \n     Tukwila  WA  98138 \n  \nStill Waters rely on volunteers to help assemble and distribute weekly Snack Packs.  Email us at Stillwatersfamilyservices@gmail.com if you are interested in volunteering! \nFor more information\, visit stillwaters.services. \n\n________________________________________________________ \nDISCLAIMER:    Third-party links\, resources\, and services are being provided as a convenience and for informational purposes only; the City of Tukwila does not endorse or approve any of the products\, services\, or opinions of these third parties and bears no responsibility for the accuracy\, legality\, or content of the external sites or related links.  \nShould you have any questions\, please contact the external sites and providers directly and proceed with caution when accessing any unfamiliar websites or links.
URL:https://www.tukwilawa.gov/event/still-waters-snack-pack-winter-donation-drive-2/2026-01-30/
LOCATION:Still Waters Snack Pack\, PO Box 88984\, Tukwila\, 98138\, United States
CATEGORIES:Community Event,Volunteer Opportunity
END:VEVENT
BEGIN:VEVENT
DTSTART;TZID=America/Los_Angeles:20260123T110000
DTEND;TZID=America/Los_Angeles:20260123T110000
DTSTAMP:20260418T004902
CREATED:20260114T003544Z
LAST-MODIFIED:20260121T003145Z
UID:10016410-1769166000-1769166000@www.tukwilawa.gov
SUMMARY:Still Waters' Snack Pack Winter Donation Drive
DESCRIPTION:Your donations go directly to fighting food insecurity for Tukwila students who are homeless.  Help them focus on school work to prosper in their future. \nThank you for your generous donations. \nTo donate by Paypal\, click here:  https://www.paypal.com/donate/?hosted_button_id=Y4MHAJB54HTSC&source=qr \nOr\, to donate by check: \n     Still Waters Services for Families in Transition \n     PO Box 88984 \n     Tukwila  WA  98138 \n  \nStill Waters rely on volunteers to help assemble and distribute weekly Snack Packs.  Email us at Stillwatersfamilyservices@gmail.com if you are interested in volunteering! \nFor more information\, visit stillwaters.services. \n\n________________________________________________________ \nDISCLAIMER:    Third-party links\, resources\, and services are being provided as a convenience and for informational purposes only; the City of Tukwila does not endorse or approve any of the products\, services\, or opinions of these third parties and bears no responsibility for the accuracy\, legality\, or content of the external sites or related links.  \nShould you have any questions\, please contact the external sites and providers directly and proceed with caution when accessing any unfamiliar websites or links.
URL:https://www.tukwilawa.gov/event/still-waters-snack-pack-winter-donation-drive-2/2026-01-23/
LOCATION:Still Waters Snack Pack\, PO Box 88984\, Tukwila\, 98138\, United States
CATEGORIES:Community Event,Volunteer Opportunity
END:VEVENT
BEGIN:VEVENT
DTSTART;TZID=America/Los_Angeles:20260116T110000
DTEND;TZID=America/Los_Angeles:20260116T110000
DTSTAMP:20260418T004902
CREATED:20260114T003544Z
LAST-MODIFIED:20260121T003145Z
UID:10015222-1768561200-1768561200@www.tukwilawa.gov
SUMMARY:Still Waters' Snack Pack Winter Donation Drive
DESCRIPTION:Your donations go directly to fighting food insecurity for Tukwila students who are homeless.  Help them focus on school work to prosper in their future. \nThank you for your generous donations. \nTo donate by Paypal\, click here:  https://www.paypal.com/donate/?hosted_button_id=Y4MHAJB54HTSC&source=qr \nOr\, to donate by check: \n     Still Waters Services for Families in Transition \n     PO Box 88984 \n     Tukwila  WA  98138 \n  \nStill Waters rely on volunteers to help assemble and distribute weekly Snack Packs.  Email us at Stillwatersfamilyservices@gmail.com if you are interested in volunteering! \nFor more information\, visit stillwaters.services. \n\n________________________________________________________ \nDISCLAIMER:    Third-party links\, resources\, and services are being provided as a convenience and for informational purposes only; the City of Tukwila does not endorse or approve any of the products\, services\, or opinions of these third parties and bears no responsibility for the accuracy\, legality\, or content of the external sites or related links.  \nShould you have any questions\, please contact the external sites and providers directly and proceed with caution when accessing any unfamiliar websites or links.
URL:https://www.tukwilawa.gov/event/still-waters-snack-pack-winter-donation-drive-2/2026-01-16/
LOCATION:Still Waters Snack Pack\, PO Box 88984\, Tukwila\, 98138\, United States
CATEGORIES:Community Event,Volunteer Opportunity
END:VEVENT
BEGIN:VEVENT
DTSTART;TZID=America/Los_Angeles:20260109T080000
DTEND;TZID=America/Los_Angeles:20260109T080000
DTSTAMP:20260418T004902
CREATED:20251121T185154Z
LAST-MODIFIED:20251121T185154Z
UID:10015221-1767945600-1767945600@www.tukwilawa.gov
SUMMARY:Still Waters' Snack Pack Winter Donation Drive
DESCRIPTION:Your donations go directly to fighting food insecurity for Tukwila students who are homeless.  Help them focus on school work to prosper in their future. \nThank you for your generous donations. \nTo donate by Paypal\, click here:  https://www.paypal.com/donate/?hosted_button_id=Y4MHAJB54HTSC&source=qr \nOr\, to donate by check: \n     Still Waters Services for Families in Transition \n     PO Box 88984 \n     Tukwila  WA  98138 \n  \nStill Waters rely on volunteers to help assemble and distribute weekly Snack Packs.  Email us at Stillwatersfamilyservices@gmail.com if you are interested in volunteering! \nFor more information\, visit stillwaters.services.
URL:https://www.tukwilawa.gov/event/still-waters-snack-pack-winter-donation-drive/2026-01-09/
LOCATION:Still Waters Snack Pack\, PO Box 88984\, Tukwila\, 98138\, United States
CATEGORIES:Community Event,Volunteer Opportunity
END:VEVENT
BEGIN:VEVENT
DTSTART;TZID=America/Los_Angeles:20260102T080000
DTEND;TZID=America/Los_Angeles:20260102T080000
DTSTAMP:20260418T004902
CREATED:20251121T185154Z
LAST-MODIFIED:20251121T185154Z
UID:10015220-1767340800-1767340800@www.tukwilawa.gov
SUMMARY:Still Waters' Snack Pack Winter Donation Drive
DESCRIPTION:Your donations go directly to fighting food insecurity for Tukwila students who are homeless.  Help them focus on school work to prosper in their future. \nThank you for your generous donations. \nTo donate by Paypal\, click here:  https://www.paypal.com/donate/?hosted_button_id=Y4MHAJB54HTSC&source=qr \nOr\, to donate by check: \n     Still Waters Services for Families in Transition \n     PO Box 88984 \n     Tukwila  WA  98138 \n  \nStill Waters rely on volunteers to help assemble and distribute weekly Snack Packs.  Email us at Stillwatersfamilyservices@gmail.com if you are interested in volunteering! \nFor more information\, visit stillwaters.services.
URL:https://www.tukwilawa.gov/event/still-waters-snack-pack-winter-donation-drive/2026-01-02/
LOCATION:Still Waters Snack Pack\, PO Box 88984\, Tukwila\, 98138\, United States
CATEGORIES:Community Event,Volunteer Opportunity
END:VEVENT
BEGIN:VEVENT
DTSTART;TZID=America/Los_Angeles:20251226T080000
DTEND;TZID=America/Los_Angeles:20251226T080000
DTSTAMP:20260418T004902
CREATED:20251121T185154Z
LAST-MODIFIED:20251121T185154Z
UID:10015219-1766736000-1766736000@www.tukwilawa.gov
SUMMARY:Still Waters' Snack Pack Winter Donation Drive
DESCRIPTION:Your donations go directly to fighting food insecurity for Tukwila students who are homeless.  Help them focus on school work to prosper in their future. \nThank you for your generous donations. \nTo donate by Paypal\, click here:  https://www.paypal.com/donate/?hosted_button_id=Y4MHAJB54HTSC&source=qr \nOr\, to donate by check: \n     Still Waters Services for Families in Transition \n     PO Box 88984 \n     Tukwila  WA  98138 \n  \nStill Waters rely on volunteers to help assemble and distribute weekly Snack Packs.  Email us at Stillwatersfamilyservices@gmail.com if you are interested in volunteering! \nFor more information\, visit stillwaters.services.
URL:https://www.tukwilawa.gov/event/still-waters-snack-pack-winter-donation-drive/2025-12-26/
LOCATION:Still Waters Snack Pack\, PO Box 88984\, Tukwila\, 98138\, United States
CATEGORIES:Community Event,Volunteer Opportunity
END:VEVENT
BEGIN:VEVENT
DTSTART;TZID=America/Los_Angeles:20251219T080000
DTEND;TZID=America/Los_Angeles:20251219T080000
DTSTAMP:20260418T004902
CREATED:20251121T185154Z
LAST-MODIFIED:20251121T185154Z
UID:10015218-1766131200-1766131200@www.tukwilawa.gov
SUMMARY:Still Waters' Snack Pack Winter Donation Drive
DESCRIPTION:Your donations go directly to fighting food insecurity for Tukwila students who are homeless.  Help them focus on school work to prosper in their future. \nThank you for your generous donations. \nTo donate by Paypal\, click here:  https://www.paypal.com/donate/?hosted_button_id=Y4MHAJB54HTSC&source=qr \nOr\, to donate by check: \n     Still Waters Services for Families in Transition \n     PO Box 88984 \n     Tukwila  WA  98138 \n  \nStill Waters rely on volunteers to help assemble and distribute weekly Snack Packs.  Email us at Stillwatersfamilyservices@gmail.com if you are interested in volunteering! \nFor more information\, visit stillwaters.services.
URL:https://www.tukwilawa.gov/event/still-waters-snack-pack-winter-donation-drive/2025-12-19/
LOCATION:Still Waters Snack Pack\, PO Box 88984\, Tukwila\, 98138\, United States
CATEGORIES:Community Event,Volunteer Opportunity
END:VEVENT
END:VCALENDAR