BEGIN:VCALENDAR
VERSION:2.0
PRODID:-//City of Tukwila - ECPv6.15.20//NONSGML v1.0//EN
CALSCALE:GREGORIAN
METHOD:PUBLISH
X-ORIGINAL-URL:https://www.tukwilawa.gov
X-WR-CALDESC:Events for City of Tukwila
REFRESH-INTERVAL;VALUE=DURATION:PT1H
X-Robots-Tag:noindex
X-PUBLISHED-TTL:PT1H
BEGIN:VTIMEZONE
TZID:America/Los_Angeles
BEGIN:DAYLIGHT
TZOFFSETFROM:-0800
TZOFFSETTO:-0700
TZNAME:PDT
DTSTART:20160313T100000
END:DAYLIGHT
BEGIN:STANDARD
TZOFFSETFROM:-0700
TZOFFSETTO:-0800
TZNAME:PST
DTSTART:20161106T090000
END:STANDARD
BEGIN:DAYLIGHT
TZOFFSETFROM:-0800
TZOFFSETTO:-0700
TZNAME:PDT
DTSTART:20170312T100000
END:DAYLIGHT
BEGIN:STANDARD
TZOFFSETFROM:-0700
TZOFFSETTO:-0800
TZNAME:PST
DTSTART:20171105T090000
END:STANDARD
BEGIN:DAYLIGHT
TZOFFSETFROM:-0800
TZOFFSETTO:-0700
TZNAME:PDT
DTSTART:20180311T100000
END:DAYLIGHT
BEGIN:STANDARD
TZOFFSETFROM:-0700
TZOFFSETTO:-0800
TZNAME:PST
DTSTART:20181104T090000
END:STANDARD
BEGIN:DAYLIGHT
TZOFFSETFROM:-0800
TZOFFSETTO:-0700
TZNAME:PDT
DTSTART:20190310T100000
END:DAYLIGHT
BEGIN:STANDARD
TZOFFSETFROM:-0700
TZOFFSETTO:-0800
TZNAME:PST
DTSTART:20191103T090000
END:STANDARD
END:VTIMEZONE
BEGIN:VEVENT
DTSTART;TZID=America/Los_Angeles:20181108T183000
DTEND;TZID=America/Los_Angeles:20181108T203000
DTSTAMP:20260424T023048
CREATED:20181023T202213Z
LAST-MODIFIED:20191007T232702Z
UID:10004934-1541701800-1541709000@www.tukwilawa.gov
SUMMARY:Planning Commission
DESCRIPTION:  \nThe Planning Commission acts as the land use advisory body for the City Council and reviews and makes recommendations to the City Council on the City’s Comprehensive Plan\, Shoreline Plan\, Subdivision\, Zoning and Sign Codes. \n\n\nSee agenda packets and minutes:        http://records.tukwilawa.gov/WebLink8/1/fol/17011/Row1.aspx
URL:https://www.tukwilawa.gov/event/planning-commission-9/2018-11-08/
LOCATION:Tukwila City Hall – Council Chambers\, 6200 Southcenter Blvd. \, Tukwila\, 98188\, United States
CATEGORIES:Meeting
END:VEVENT
BEGIN:VEVENT
DTSTART;TZID=America/Los_Angeles:20171116T173000
DTEND;TZID=America/Los_Angeles:20171116T183000
DTSTAMP:20260424T023048
CREATED:20171109T173353Z
LAST-MODIFIED:20171109T173527Z
UID:10004493-1510853400-1510857000@www.tukwilawa.gov
SUMMARY:Planning Commission Work Session
DESCRIPTION:Work Session on proposed revisions to TMC 18.54 “Tree Regulations” and revisions to definitions found in TMC 18.06 related to landscaping\, urban forestry and trees. \nSee link for agenda packet:   http://records.tukwilawa.gov/weblink/1/fol/295597/Row1.aspx \n  \n 
URL:https://www.tukwilawa.gov/event/planning-commission-work-session/
LOCATION:Tukwila City Hall – Council Chambers\, 6200 Southcenter Blvd. \, Tukwila\, 98188\, United States
CATEGORIES:Meeting
END:VEVENT
END:VCALENDAR