BEGIN:VCALENDAR
VERSION:2.0
PRODID:-//City of Tukwila - ECPv6.15.20//NONSGML v1.0//EN
CALSCALE:GREGORIAN
METHOD:PUBLISH
X-WR-CALNAME:City of Tukwila
X-ORIGINAL-URL:https://www.tukwilawa.gov
X-WR-CALDESC:Events for City of Tukwila
REFRESH-INTERVAL;VALUE=DURATION:PT1H
X-Robots-Tag:noindex
X-PUBLISHED-TTL:PT1H
BEGIN:VTIMEZONE
TZID:America/Los_Angeles
BEGIN:DAYLIGHT
TZOFFSETFROM:-0800
TZOFFSETTO:-0700
TZNAME:PDT
DTSTART:20150308T100000
END:DAYLIGHT
BEGIN:STANDARD
TZOFFSETFROM:-0700
TZOFFSETTO:-0800
TZNAME:PST
DTSTART:20151101T090000
END:STANDARD
BEGIN:DAYLIGHT
TZOFFSETFROM:-0800
TZOFFSETTO:-0700
TZNAME:PDT
DTSTART:20160313T100000
END:DAYLIGHT
BEGIN:STANDARD
TZOFFSETFROM:-0700
TZOFFSETTO:-0800
TZNAME:PST
DTSTART:20161106T090000
END:STANDARD
BEGIN:DAYLIGHT
TZOFFSETFROM:-0800
TZOFFSETTO:-0700
TZNAME:PDT
DTSTART:20170312T100000
END:DAYLIGHT
BEGIN:STANDARD
TZOFFSETFROM:-0700
TZOFFSETTO:-0800
TZNAME:PST
DTSTART:20171105T090000
END:STANDARD
END:VTIMEZONE
BEGIN:VTIMEZONE
TZID:UTC
BEGIN:STANDARD
TZOFFSETFROM:+0000
TZOFFSETTO:+0000
TZNAME:UTC
DTSTART:20150101T000000
END:STANDARD
END:VTIMEZONE
BEGIN:VEVENT
DTSTART;TZID=America/Los_Angeles:20161013T180000
DTEND;TZID=America/Los_Angeles:20161013T203000
DTSTAMP:20260420T042733
CREATED:20161006T175751Z
LAST-MODIFIED:20161006T175751Z
UID:10003937-1476381600-1476390600@www.tukwilawa.gov
SUMMARY:Tree and Environmental Advisory Committee
DESCRIPTION:Continue review of a draft landscaping code.
URL:https://www.tukwilawa.gov/event/tree-environmental-advisory-committee-3/
LOCATION:Tukwila City Hall – Rainier Conference Room\, 6300 Southcenter Boulevard #100\, Tukwila\, 98188
CATEGORIES:Meeting
GEO:47.4628998;-122.2546935
X-APPLE-STRUCTURED-LOCATION;VALUE=URI;X-ADDRESS=Tukwila City Hall – Rainier Conference Room 6300 Southcenter Boulevard #100 Tukwila 98188;X-APPLE-RADIUS=500;X-TITLE=6300 Southcenter Boulevard #100:geo:-122.2546935,47.4628998
END:VEVENT
BEGIN:VEVENT
DTSTART;TZID=America/Los_Angeles:20160929T180000
DTEND;TZID=America/Los_Angeles:20160929T203000
DTSTAMP:20260420T042733
CREATED:20160916T172151Z
LAST-MODIFIED:20160916T172151Z
UID:10003871-1475172000-1475181000@www.tukwilawa.gov
SUMMARY:Tree and Environmental Advisory Committee
DESCRIPTION:Continue review of a draft landscaping code.
URL:https://www.tukwilawa.gov/event/tree-environmental-advisory-committee-2/
LOCATION:Tukwila City Hall – Rainier Conference Room\, 6300 Southcenter Boulevard #100\, Tukwila\, 98188
CATEGORIES:Meeting
GEO:47.4628998;-122.2546935
X-APPLE-STRUCTURED-LOCATION;VALUE=URI;X-ADDRESS=Tukwila City Hall – Rainier Conference Room 6300 Southcenter Boulevard #100 Tukwila 98188;X-APPLE-RADIUS=500;X-TITLE=6300 Southcenter Boulevard #100:geo:-122.2546935,47.4628998
END:VEVENT
BEGIN:VEVENT
DTSTART;TZID=America/Los_Angeles:20160913T180000
DTEND;TZID=America/Los_Angeles:20160913T203000
DTSTAMP:20260420T042733
CREATED:20160908T212651Z
LAST-MODIFIED:20160908T212651Z
UID:10003867-1473789600-1473798600@www.tukwilawa.gov
SUMMARY:Tree and Environmental Advisory Committee
DESCRIPTION:Review of a draft landscaping code.
URL:https://www.tukwilawa.gov/event/tree-environmental-advisory-committee/
LOCATION:Tukwila City Hall – Rainier Conference Room\, 6300 Southcenter Boulevard #100\, Tukwila\, 98188
CATEGORIES:Meeting
GEO:47.4628998;-122.2546935
X-APPLE-STRUCTURED-LOCATION;VALUE=URI;X-ADDRESS=Tukwila City Hall – Rainier Conference Room 6300 Southcenter Boulevard #100 Tukwila 98188;X-APPLE-RADIUS=500;X-TITLE=6300 Southcenter Boulevard #100:geo:-122.2546935,47.4628998
END:VEVENT
BEGIN:VEVENT
DTSTART;TZID=America/Los_Angeles:20160617T100000
DTEND;TZID=America/Los_Angeles:20160617T110000
DTSTAMP:20260420T042733
CREATED:20160615T224649Z
LAST-MODIFIED:20160615T224649Z
UID:10003639-1466157600-1466161200@www.tukwilawa.gov
SUMMARY:Lodging Tax Advisory Committee
DESCRIPTION:Provide recommendations to Mayor and Council regarding the levying and application of Hotel/Motel tax collections. \n  \nSee link for agenda packets and minutes:   http://records.tukwilawa.gov/WebLink8/1/fol/258749/Row1.aspx \n 
URL:https://www.tukwilawa.gov/event/lodging-tax-advisory-committee-2/
LOCATION:Tukwila City Hall – Rainier Conference Room\, 6300 Southcenter Boulevard #100\, Tukwila\, 98188
CATEGORIES:Meeting
GEO:47.4628998;-122.2546935
X-APPLE-STRUCTURED-LOCATION;VALUE=URI;X-ADDRESS=Tukwila City Hall – Rainier Conference Room 6300 Southcenter Boulevard #100 Tukwila 98188;X-APPLE-RADIUS=500;X-TITLE=6300 Southcenter Boulevard #100:geo:-122.2546935,47.4628998
END:VEVENT
BEGIN:VEVENT
DTSTART;TZID=UTC:20160606T173000
DTEND;TZID=UTC:20160606T190000
DTSTAMP:20260420T042733
CREATED:20160602T233105Z
LAST-MODIFIED:20160602T233105Z
UID:10003626-1465234200-1465239600@www.tukwilawa.gov
SUMMARY:City Council Work Session
DESCRIPTION:
URL:https://www.tukwilawa.gov/event/city-council-work-session-2/
LOCATION:Tukwila City Hall – Rainier Conference Room\, 6300 Southcenter Boulevard #100\, Tukwila\, 98188
ORGANIZER;CN="Laurel Humphrey":MAILTO:citycouncil@tukwilawa.gov
GEO:47.4628998;-122.2546935
X-APPLE-STRUCTURED-LOCATION;VALUE=URI;X-ADDRESS=Tukwila City Hall – Rainier Conference Room 6300 Southcenter Boulevard #100 Tukwila 98188;X-APPLE-RADIUS=500;X-TITLE=6300 Southcenter Boulevard #100:geo:-122.2546935,47.4628998
END:VEVENT
BEGIN:VEVENT
DTSTART;TZID=UTC:20160520T093000
DTEND;TZID=UTC:20160520T113000
DTSTAMP:20260420T042733
CREATED:20160425T165703Z
LAST-MODIFIED:20160425T165703Z
UID:10003519-1463736600-1463743800@www.tukwilawa.gov
SUMMARY:Public Hearing - Rau Lot Size Variance
DESCRIPTION:Hearing Date: A public hearing will be held on May 20th at \n9:30 am in the Rainier Conference Room in the DCD Offices\, 6300 Southcenter Blvd.\, Suite 100. \nProject Description: The applicant requests a zoning code variance to build one single-family home on a 6000 square foot lot\, which does not meet the Low Density Residential (LDR) lot size minimum of 6500 square feet. Project site marked with star on the map. \nYour written comments on the project are requested and can be delivered to DCD\, 6300 Southcenter Blvd\, Ste 100\, Tukwila WA 98188. Comments must be received by 5:00p.m. on May 9\, 2016. You may request a copy of any decision\, comment on the project\, and learn your appeal rights by calling the project planner listed above\, or by visiting our offices Monday through Friday\,  8:00am to 5:00 pm at DCD 6300 Southcenter Blvd\, Ste 100. \nSee link for more information:   http://records.tukwilawa.gov/WebLink8/1/doc/271223/Electronic.aspx \n 
URL:https://www.tukwilawa.gov/event/public-hearing-rau-lot-size-variance/
LOCATION:Tukwila City Hall – Rainier Conference Room\, 6300 Southcenter Boulevard #100\, Tukwila\, 98188
CATEGORIES:Public Hearing
GEO:47.4628998;-122.2546935
X-APPLE-STRUCTURED-LOCATION;VALUE=URI;X-ADDRESS=Tukwila City Hall – Rainier Conference Room 6300 Southcenter Boulevard #100 Tukwila 98188;X-APPLE-RADIUS=500;X-TITLE=6300 Southcenter Boulevard #100:geo:-122.2546935,47.4628998
END:VEVENT
END:VCALENDAR